BEGIN:VCALENDAR
VERSION:2.0
PRODID:-//St. Stephen&#039;s Episcopal Church - ECPv6.15.20//NONSGML v1.0//EN
CALSCALE:GREGORIAN
METHOD:PUBLISH
X-WR-CALNAME:St. Stephen&#039;s Episcopal Church
X-ORIGINAL-URL:https://ststeves.org
X-WR-CALDESC:Events for St. Stephen&#039;s Episcopal Church
REFRESH-INTERVAL;VALUE=DURATION:PT1H
X-Robots-Tag:noindex
X-PUBLISHED-TTL:PT1H
BEGIN:VTIMEZONE
TZID:America/New_York
BEGIN:DAYLIGHT
TZOFFSETFROM:-0500
TZOFFSETTO:-0400
TZNAME:EDT
DTSTART:20250309T070000
END:DAYLIGHT
BEGIN:STANDARD
TZOFFSETFROM:-0400
TZOFFSETTO:-0500
TZNAME:EST
DTSTART:20251102T060000
END:STANDARD
BEGIN:DAYLIGHT
TZOFFSETFROM:-0500
TZOFFSETTO:-0400
TZNAME:EDT
DTSTART:20260308T070000
END:DAYLIGHT
BEGIN:STANDARD
TZOFFSETFROM:-0400
TZOFFSETTO:-0500
TZNAME:EST
DTSTART:20261101T060000
END:STANDARD
BEGIN:DAYLIGHT
TZOFFSETFROM:-0500
TZOFFSETTO:-0400
TZNAME:EDT
DTSTART:20270314T070000
END:DAYLIGHT
BEGIN:STANDARD
TZOFFSETFROM:-0400
TZOFFSETTO:-0500
TZNAME:EST
DTSTART:20271107T060000
END:STANDARD
END:VTIMEZONE
BEGIN:VEVENT
DTSTART;TZID=America/New_York:20260420T100000
DTEND;TZID=America/New_York:20260420T120000
DTSTAMP:20260420T095829
CREATED:20250421T181905Z
LAST-MODIFIED:20250421T181905Z
UID:10003762-1776679200-1776686400@ststeves.org
SUMMARY:Hungry Lion
DESCRIPTION:Kyle Killay  Uses Kitchen Monday morning to sanitize dishes from food truck
URL:https://ststeves.org/event/hungry-lion/2026-04-20/
CATEGORIES:Rental
END:VEVENT
BEGIN:VEVENT
DTSTART;TZID=America/New_York:20260420T133000
DTEND;TZID=America/New_York:20260420T153000
DTSTAMP:20260420T095829
CREATED:20260214T204743Z
LAST-MODIFIED:20260214T204743Z
UID:10004371-1776691800-1776699000@ststeves.org
SUMMARY:Library Book Club
DESCRIPTION:
URL:https://ststeves.org/event/library-book-club/2026-04-20/
END:VEVENT
END:VCALENDAR