BEGIN:VCALENDAR
VERSION:2.0
PRODID:-//St. Stephen&#039;s Episcopal Church - ECPv6.15.20//NONSGML v1.0//EN
CALSCALE:GREGORIAN
METHOD:PUBLISH
X-ORIGINAL-URL:https://ststeves.org
X-WR-CALDESC:Events for St. Stephen&#039;s Episcopal Church
REFRESH-INTERVAL;VALUE=DURATION:PT1H
X-Robots-Tag:noindex
X-PUBLISHED-TTL:PT1H
BEGIN:VTIMEZONE
TZID:America/New_York
BEGIN:DAYLIGHT
TZOFFSETFROM:-0500
TZOFFSETTO:-0400
TZNAME:EDT
DTSTART:20260308T070000
END:DAYLIGHT
BEGIN:STANDARD
TZOFFSETFROM:-0400
TZOFFSETTO:-0500
TZNAME:EST
DTSTART:20261101T060000
END:STANDARD
BEGIN:DAYLIGHT
TZOFFSETFROM:-0500
TZOFFSETTO:-0400
TZNAME:EDT
DTSTART:20270314T070000
END:DAYLIGHT
BEGIN:STANDARD
TZOFFSETFROM:-0400
TZOFFSETTO:-0500
TZNAME:EST
DTSTART:20271107T060000
END:STANDARD
BEGIN:DAYLIGHT
TZOFFSETFROM:-0500
TZOFFSETTO:-0400
TZNAME:EDT
DTSTART:20280312T070000
END:DAYLIGHT
BEGIN:STANDARD
TZOFFSETFROM:-0400
TZOFFSETTO:-0500
TZNAME:EST
DTSTART:20281105T060000
END:STANDARD
END:VTIMEZONE
BEGIN:VEVENT
DTSTART;TZID=America/New_York:20270204T184500
DTEND;TZID=America/New_York:20270204T194500
DTSTAMP:20260421T055144
CREATED:20221130T192411Z
LAST-MODIFIED:20230525T173521Z
UID:10001562-1801766700-1801770300@ststeves.org
SUMMARY:AA Meeting
DESCRIPTION:
URL:https://ststeves.org/event/aa-meeting-3/2027-02-04/
LOCATION:St. Stephen’s Parish Hall\, 31 Main Street\, East Haddam\, Connecticut\, 06423
CATEGORIES:Community Meeting
END:VEVENT
BEGIN:VEVENT
DTSTART;TZID=America/New_York:20270209T190000
DTEND;TZID=America/New_York:20270209T200000
DTSTAMP:20260421T055144
CREATED:20221130T192202Z
LAST-MODIFIED:20230525T173507Z
UID:10000521-1802199600-1802203200@ststeves.org
SUMMARY:AA Meeting
DESCRIPTION:
URL:https://ststeves.org/event/aa-meeting/2027-02-09/
LOCATION:St. Stephen’s Parish Hall\, 31 Main Street\, East Haddam\, Connecticut\, 06423
CATEGORIES:Community Meeting
END:VEVENT
BEGIN:VEVENT
DTSTART;TZID=America/New_York:20270210T190000
DTEND;TZID=America/New_York:20270210T200000
DTSTAMP:20260421T055144
CREATED:20221130T192252Z
LAST-MODIFIED:20230525T173507Z
UID:10001043-1802286000-1802289600@ststeves.org
SUMMARY:AA Meeting
DESCRIPTION:
URL:https://ststeves.org/event/aa-meeting-2/2027-02-10/
LOCATION:St. Stephen’s Parish Hall\, 31 Main Street\, East Haddam\, Connecticut\, 06423
CATEGORIES:Community Meeting
END:VEVENT
BEGIN:VEVENT
DTSTART;TZID=America/New_York:20270211T184500
DTEND;TZID=America/New_York:20270211T194500
DTSTAMP:20260421T055144
CREATED:20221130T192411Z
LAST-MODIFIED:20230525T173521Z
UID:10001563-1802371500-1802375100@ststeves.org
SUMMARY:AA Meeting
DESCRIPTION:
URL:https://ststeves.org/event/aa-meeting-3/2027-02-11/
LOCATION:St. Stephen’s Parish Hall\, 31 Main Street\, East Haddam\, Connecticut\, 06423
CATEGORIES:Community Meeting
END:VEVENT
BEGIN:VEVENT
DTSTART;TZID=America/New_York:20270216T190000
DTEND;TZID=America/New_York:20270216T200000
DTSTAMP:20260421T055144
CREATED:20221130T192202Z
LAST-MODIFIED:20230525T173507Z
UID:10000522-1802804400-1802808000@ststeves.org
SUMMARY:AA Meeting
DESCRIPTION:
URL:https://ststeves.org/event/aa-meeting/2027-02-16/
LOCATION:St. Stephen’s Parish Hall\, 31 Main Street\, East Haddam\, Connecticut\, 06423
CATEGORIES:Community Meeting
END:VEVENT
BEGIN:VEVENT
DTSTART;TZID=America/New_York:20270217T190000
DTEND;TZID=America/New_York:20270217T200000
DTSTAMP:20260421T055144
CREATED:20221130T192252Z
LAST-MODIFIED:20230525T173507Z
UID:10001044-1802890800-1802894400@ststeves.org
SUMMARY:AA Meeting
DESCRIPTION:
URL:https://ststeves.org/event/aa-meeting-2/2027-02-17/
LOCATION:St. Stephen’s Parish Hall\, 31 Main Street\, East Haddam\, Connecticut\, 06423
CATEGORIES:Community Meeting
END:VEVENT
BEGIN:VEVENT
DTSTART;TZID=America/New_York:20270218T184500
DTEND;TZID=America/New_York:20270218T194500
DTSTAMP:20260421T055144
CREATED:20221130T192411Z
LAST-MODIFIED:20230525T173521Z
UID:10001564-1802976300-1802979900@ststeves.org
SUMMARY:AA Meeting
DESCRIPTION:
URL:https://ststeves.org/event/aa-meeting-3/2027-02-18/
LOCATION:St. Stephen’s Parish Hall\, 31 Main Street\, East Haddam\, Connecticut\, 06423
CATEGORIES:Community Meeting
END:VEVENT
BEGIN:VEVENT
DTSTART;TZID=America/New_York:20270223T190000
DTEND;TZID=America/New_York:20270223T200000
DTSTAMP:20260421T055144
CREATED:20221130T192202Z
LAST-MODIFIED:20230525T173507Z
UID:10000523-1803409200-1803412800@ststeves.org
SUMMARY:AA Meeting
DESCRIPTION:
URL:https://ststeves.org/event/aa-meeting/2027-02-23/
LOCATION:St. Stephen’s Parish Hall\, 31 Main Street\, East Haddam\, Connecticut\, 06423
CATEGORIES:Community Meeting
END:VEVENT
BEGIN:VEVENT
DTSTART;TZID=America/New_York:20270224T190000
DTEND;TZID=America/New_York:20270224T200000
DTSTAMP:20260421T055144
CREATED:20221130T192252Z
LAST-MODIFIED:20230525T173507Z
UID:10001045-1803495600-1803499200@ststeves.org
SUMMARY:AA Meeting
DESCRIPTION:
URL:https://ststeves.org/event/aa-meeting-2/2027-02-24/
LOCATION:St. Stephen’s Parish Hall\, 31 Main Street\, East Haddam\, Connecticut\, 06423
CATEGORIES:Community Meeting
END:VEVENT
BEGIN:VEVENT
DTSTART;TZID=America/New_York:20270225T184500
DTEND;TZID=America/New_York:20270225T194500
DTSTAMP:20260421T055144
CREATED:20221130T192411Z
LAST-MODIFIED:20230525T173521Z
UID:10001565-1803581100-1803584700@ststeves.org
SUMMARY:AA Meeting
DESCRIPTION:
URL:https://ststeves.org/event/aa-meeting-3/2027-02-25/
LOCATION:St. Stephen’s Parish Hall\, 31 Main Street\, East Haddam\, Connecticut\, 06423
CATEGORIES:Community Meeting
END:VEVENT
BEGIN:VEVENT
DTSTART;TZID=America/New_York:20270302T190000
DTEND;TZID=America/New_York:20270302T200000
DTSTAMP:20260421T055144
CREATED:20221130T192202Z
LAST-MODIFIED:20230525T173507Z
UID:10000524-1804014000-1804017600@ststeves.org
SUMMARY:AA Meeting
DESCRIPTION:
URL:https://ststeves.org/event/aa-meeting/2027-03-02/
LOCATION:St. Stephen’s Parish Hall\, 31 Main Street\, East Haddam\, Connecticut\, 06423
CATEGORIES:Community Meeting
END:VEVENT
BEGIN:VEVENT
DTSTART;TZID=America/New_York:20270303T190000
DTEND;TZID=America/New_York:20270303T200000
DTSTAMP:20260421T055144
CREATED:20221130T192252Z
LAST-MODIFIED:20230525T173507Z
UID:10001046-1804100400-1804104000@ststeves.org
SUMMARY:AA Meeting
DESCRIPTION:
URL:https://ststeves.org/event/aa-meeting-2/2027-03-03/
LOCATION:St. Stephen’s Parish Hall\, 31 Main Street\, East Haddam\, Connecticut\, 06423
CATEGORIES:Community Meeting
END:VEVENT
BEGIN:VEVENT
DTSTART;TZID=America/New_York:20270304T184500
DTEND;TZID=America/New_York:20270304T194500
DTSTAMP:20260421T055144
CREATED:20221130T192411Z
LAST-MODIFIED:20230525T173521Z
UID:10001566-1804185900-1804189500@ststeves.org
SUMMARY:AA Meeting
DESCRIPTION:
URL:https://ststeves.org/event/aa-meeting-3/2027-03-04/
LOCATION:St. Stephen’s Parish Hall\, 31 Main Street\, East Haddam\, Connecticut\, 06423
CATEGORIES:Community Meeting
END:VEVENT
BEGIN:VEVENT
DTSTART;TZID=America/New_York:20270309T190000
DTEND;TZID=America/New_York:20270309T200000
DTSTAMP:20260421T055144
CREATED:20221130T192202Z
LAST-MODIFIED:20230525T173507Z
UID:10000525-1804618800-1804622400@ststeves.org
SUMMARY:AA Meeting
DESCRIPTION:
URL:https://ststeves.org/event/aa-meeting/2027-03-09/
LOCATION:St. Stephen’s Parish Hall\, 31 Main Street\, East Haddam\, Connecticut\, 06423
CATEGORIES:Community Meeting
END:VEVENT
BEGIN:VEVENT
DTSTART;TZID=America/New_York:20270310T190000
DTEND;TZID=America/New_York:20270310T200000
DTSTAMP:20260421T055144
CREATED:20221130T192252Z
LAST-MODIFIED:20230525T173507Z
UID:10001047-1804705200-1804708800@ststeves.org
SUMMARY:AA Meeting
DESCRIPTION:
URL:https://ststeves.org/event/aa-meeting-2/2027-03-10/
LOCATION:St. Stephen’s Parish Hall\, 31 Main Street\, East Haddam\, Connecticut\, 06423
CATEGORIES:Community Meeting
END:VEVENT
BEGIN:VEVENT
DTSTART;TZID=America/New_York:20270311T184500
DTEND;TZID=America/New_York:20270311T194500
DTSTAMP:20260421T055144
CREATED:20221130T192411Z
LAST-MODIFIED:20230525T173521Z
UID:10001567-1804790700-1804794300@ststeves.org
SUMMARY:AA Meeting
DESCRIPTION:
URL:https://ststeves.org/event/aa-meeting-3/2027-03-11/
LOCATION:St. Stephen’s Parish Hall\, 31 Main Street\, East Haddam\, Connecticut\, 06423
CATEGORIES:Community Meeting
END:VEVENT
BEGIN:VEVENT
DTSTART;TZID=America/New_York:20270316T190000
DTEND;TZID=America/New_York:20270316T200000
DTSTAMP:20260421T055144
CREATED:20221130T192202Z
LAST-MODIFIED:20230525T173507Z
UID:10000526-1805223600-1805227200@ststeves.org
SUMMARY:AA Meeting
DESCRIPTION:
URL:https://ststeves.org/event/aa-meeting/2027-03-16/
LOCATION:St. Stephen’s Parish Hall\, 31 Main Street\, East Haddam\, Connecticut\, 06423
CATEGORIES:Community Meeting
END:VEVENT
BEGIN:VEVENT
DTSTART;TZID=America/New_York:20270317T190000
DTEND;TZID=America/New_York:20270317T200000
DTSTAMP:20260421T055144
CREATED:20221130T192252Z
LAST-MODIFIED:20230525T173507Z
UID:10001048-1805310000-1805313600@ststeves.org
SUMMARY:AA Meeting
DESCRIPTION:
URL:https://ststeves.org/event/aa-meeting-2/2027-03-17/
LOCATION:St. Stephen’s Parish Hall\, 31 Main Street\, East Haddam\, Connecticut\, 06423
CATEGORIES:Community Meeting
END:VEVENT
BEGIN:VEVENT
DTSTART;TZID=America/New_York:20270318T184500
DTEND;TZID=America/New_York:20270318T194500
DTSTAMP:20260421T055144
CREATED:20221130T192411Z
LAST-MODIFIED:20230525T173521Z
UID:10001568-1805395500-1805399100@ststeves.org
SUMMARY:AA Meeting
DESCRIPTION:
URL:https://ststeves.org/event/aa-meeting-3/2027-03-18/
LOCATION:St. Stephen’s Parish Hall\, 31 Main Street\, East Haddam\, Connecticut\, 06423
CATEGORIES:Community Meeting
END:VEVENT
BEGIN:VEVENT
DTSTART;TZID=America/New_York:20270323T190000
DTEND;TZID=America/New_York:20270323T200000
DTSTAMP:20260421T055144
CREATED:20221130T192202Z
LAST-MODIFIED:20230525T173507Z
UID:10000527-1805828400-1805832000@ststeves.org
SUMMARY:AA Meeting
DESCRIPTION:
URL:https://ststeves.org/event/aa-meeting/2027-03-23/
LOCATION:St. Stephen’s Parish Hall\, 31 Main Street\, East Haddam\, Connecticut\, 06423
CATEGORIES:Community Meeting
END:VEVENT
BEGIN:VEVENT
DTSTART;TZID=America/New_York:20270324T190000
DTEND;TZID=America/New_York:20270324T200000
DTSTAMP:20260421T055144
CREATED:20221130T192252Z
LAST-MODIFIED:20230525T173507Z
UID:10001049-1805914800-1805918400@ststeves.org
SUMMARY:AA Meeting
DESCRIPTION:
URL:https://ststeves.org/event/aa-meeting-2/2027-03-24/
LOCATION:St. Stephen’s Parish Hall\, 31 Main Street\, East Haddam\, Connecticut\, 06423
CATEGORIES:Community Meeting
END:VEVENT
BEGIN:VEVENT
DTSTART;TZID=America/New_York:20270325T184500
DTEND;TZID=America/New_York:20270325T194500
DTSTAMP:20260421T055144
CREATED:20221130T192411Z
LAST-MODIFIED:20230525T173521Z
UID:10001569-1806000300-1806003900@ststeves.org
SUMMARY:AA Meeting
DESCRIPTION:
URL:https://ststeves.org/event/aa-meeting-3/2027-03-25/
LOCATION:St. Stephen’s Parish Hall\, 31 Main Street\, East Haddam\, Connecticut\, 06423
CATEGORIES:Community Meeting
END:VEVENT
BEGIN:VEVENT
DTSTART;TZID=America/New_York:20270330T190000
DTEND;TZID=America/New_York:20270330T200000
DTSTAMP:20260421T055144
CREATED:20221130T192202Z
LAST-MODIFIED:20230525T173507Z
UID:10000528-1806433200-1806436800@ststeves.org
SUMMARY:AA Meeting
DESCRIPTION:
URL:https://ststeves.org/event/aa-meeting/2027-03-30/
LOCATION:St. Stephen’s Parish Hall\, 31 Main Street\, East Haddam\, Connecticut\, 06423
CATEGORIES:Community Meeting
END:VEVENT
BEGIN:VEVENT
DTSTART;TZID=America/New_York:20270331T190000
DTEND;TZID=America/New_York:20270331T200000
DTSTAMP:20260421T055144
CREATED:20221130T192252Z
LAST-MODIFIED:20230525T173507Z
UID:10001050-1806519600-1806523200@ststeves.org
SUMMARY:AA Meeting
DESCRIPTION:
URL:https://ststeves.org/event/aa-meeting-2/2027-03-31/
LOCATION:St. Stephen’s Parish Hall\, 31 Main Street\, East Haddam\, Connecticut\, 06423
CATEGORIES:Community Meeting
END:VEVENT
BEGIN:VEVENT
DTSTART;TZID=America/New_York:20270401T184500
DTEND;TZID=America/New_York:20270401T194500
DTSTAMP:20260421T055144
CREATED:20221130T192411Z
LAST-MODIFIED:20230525T173521Z
UID:10001570-1806605100-1806608700@ststeves.org
SUMMARY:AA Meeting
DESCRIPTION:
URL:https://ststeves.org/event/aa-meeting-3/2027-04-01/
LOCATION:St. Stephen’s Parish Hall\, 31 Main Street\, East Haddam\, Connecticut\, 06423
CATEGORIES:Community Meeting
END:VEVENT
BEGIN:VEVENT
DTSTART;TZID=America/New_York:20270406T190000
DTEND;TZID=America/New_York:20270406T200000
DTSTAMP:20260421T055144
CREATED:20221130T192202Z
LAST-MODIFIED:20230525T173507Z
UID:10000529-1807038000-1807041600@ststeves.org
SUMMARY:AA Meeting
DESCRIPTION:
URL:https://ststeves.org/event/aa-meeting/2027-04-06/
LOCATION:St. Stephen’s Parish Hall\, 31 Main Street\, East Haddam\, Connecticut\, 06423
CATEGORIES:Community Meeting
END:VEVENT
BEGIN:VEVENT
DTSTART;TZID=America/New_York:20270407T190000
DTEND;TZID=America/New_York:20270407T200000
DTSTAMP:20260421T055144
CREATED:20221130T192252Z
LAST-MODIFIED:20230525T173507Z
UID:10001051-1807124400-1807128000@ststeves.org
SUMMARY:AA Meeting
DESCRIPTION:
URL:https://ststeves.org/event/aa-meeting-2/2027-04-07/
LOCATION:St. Stephen’s Parish Hall\, 31 Main Street\, East Haddam\, Connecticut\, 06423
CATEGORIES:Community Meeting
END:VEVENT
BEGIN:VEVENT
DTSTART;TZID=America/New_York:20270408T184500
DTEND;TZID=America/New_York:20270408T194500
DTSTAMP:20260421T055144
CREATED:20221130T192411Z
LAST-MODIFIED:20230525T173521Z
UID:10001571-1807209900-1807213500@ststeves.org
SUMMARY:AA Meeting
DESCRIPTION:
URL:https://ststeves.org/event/aa-meeting-3/2027-04-08/
LOCATION:St. Stephen’s Parish Hall\, 31 Main Street\, East Haddam\, Connecticut\, 06423
CATEGORIES:Community Meeting
END:VEVENT
BEGIN:VEVENT
DTSTART;TZID=America/New_York:20270413T190000
DTEND;TZID=America/New_York:20270413T200000
DTSTAMP:20260421T055144
CREATED:20221130T192202Z
LAST-MODIFIED:20230525T173507Z
UID:10000530-1807642800-1807646400@ststeves.org
SUMMARY:AA Meeting
DESCRIPTION:
URL:https://ststeves.org/event/aa-meeting/2027-04-13/
LOCATION:St. Stephen’s Parish Hall\, 31 Main Street\, East Haddam\, Connecticut\, 06423
CATEGORIES:Community Meeting
END:VEVENT
BEGIN:VEVENT
DTSTART;TZID=America/New_York:20270414T190000
DTEND;TZID=America/New_York:20270414T200000
DTSTAMP:20260421T055144
CREATED:20221130T192252Z
LAST-MODIFIED:20230525T173507Z
UID:10001052-1807729200-1807732800@ststeves.org
SUMMARY:AA Meeting
DESCRIPTION:
URL:https://ststeves.org/event/aa-meeting-2/2027-04-14/
LOCATION:St. Stephen’s Parish Hall\, 31 Main Street\, East Haddam\, Connecticut\, 06423
CATEGORIES:Community Meeting
END:VEVENT
END:VCALENDAR