BEGIN:VCALENDAR
VERSION:2.0
PRODID:-//St. Stephen&#039;s Episcopal Church - ECPv6.15.20//NONSGML v1.0//EN
CALSCALE:GREGORIAN
METHOD:PUBLISH
X-ORIGINAL-URL:https://ststeves.org
X-WR-CALDESC:Events for St. Stephen&#039;s Episcopal Church
REFRESH-INTERVAL;VALUE=DURATION:PT1H
X-Robots-Tag:noindex
X-PUBLISHED-TTL:PT1H
BEGIN:VTIMEZONE
TZID:America/New_York
BEGIN:DAYLIGHT
TZOFFSETFROM:-0500
TZOFFSETTO:-0400
TZNAME:EDT
DTSTART:20260308T070000
END:DAYLIGHT
BEGIN:STANDARD
TZOFFSETFROM:-0400
TZOFFSETTO:-0500
TZNAME:EST
DTSTART:20261101T060000
END:STANDARD
BEGIN:DAYLIGHT
TZOFFSETFROM:-0500
TZOFFSETTO:-0400
TZNAME:EDT
DTSTART:20270314T070000
END:DAYLIGHT
BEGIN:STANDARD
TZOFFSETFROM:-0400
TZOFFSETTO:-0500
TZNAME:EST
DTSTART:20271107T060000
END:STANDARD
BEGIN:DAYLIGHT
TZOFFSETFROM:-0500
TZOFFSETTO:-0400
TZNAME:EDT
DTSTART:20280312T070000
END:DAYLIGHT
BEGIN:STANDARD
TZOFFSETFROM:-0400
TZOFFSETTO:-0500
TZNAME:EST
DTSTART:20281105T060000
END:STANDARD
END:VTIMEZONE
BEGIN:VEVENT
DTSTART;TZID=America/New_York:20270429T184500
DTEND;TZID=America/New_York:20270429T194500
DTSTAMP:20260425T074121
CREATED:20221130T192411Z
LAST-MODIFIED:20230525T173521Z
UID:10001574-1809024300-1809027900@ststeves.org
SUMMARY:AA Meeting
DESCRIPTION:
URL:https://ststeves.org/event/aa-meeting-3/2027-04-29/
LOCATION:St. Stephen’s Parish Hall\, 31 Main Street\, East Haddam\, Connecticut\, 06423
CATEGORIES:Community Meeting
END:VEVENT
BEGIN:VEVENT
DTSTART;TZID=America/New_York:20270504T190000
DTEND;TZID=America/New_York:20270504T200000
DTSTAMP:20260425T074121
CREATED:20221130T192202Z
LAST-MODIFIED:20230525T173507Z
UID:10000533-1809457200-1809460800@ststeves.org
SUMMARY:AA Meeting
DESCRIPTION:
URL:https://ststeves.org/event/aa-meeting/2027-05-04/
LOCATION:St. Stephen’s Parish Hall\, 31 Main Street\, East Haddam\, Connecticut\, 06423
CATEGORIES:Community Meeting
END:VEVENT
BEGIN:VEVENT
DTSTART;TZID=America/New_York:20270505T190000
DTEND;TZID=America/New_York:20270505T200000
DTSTAMP:20260425T074121
CREATED:20221130T192252Z
LAST-MODIFIED:20230525T173507Z
UID:10001055-1809543600-1809547200@ststeves.org
SUMMARY:AA Meeting
DESCRIPTION:
URL:https://ststeves.org/event/aa-meeting-2/2027-05-05/
LOCATION:St. Stephen’s Parish Hall\, 31 Main Street\, East Haddam\, Connecticut\, 06423
CATEGORIES:Community Meeting
END:VEVENT
BEGIN:VEVENT
DTSTART;TZID=America/New_York:20270506T184500
DTEND;TZID=America/New_York:20270506T194500
DTSTAMP:20260425T074121
CREATED:20221130T192411Z
LAST-MODIFIED:20230525T173521Z
UID:10001575-1809629100-1809632700@ststeves.org
SUMMARY:AA Meeting
DESCRIPTION:
URL:https://ststeves.org/event/aa-meeting-3/2027-05-06/
LOCATION:St. Stephen’s Parish Hall\, 31 Main Street\, East Haddam\, Connecticut\, 06423
CATEGORIES:Community Meeting
END:VEVENT
BEGIN:VEVENT
DTSTART;TZID=America/New_York:20270511T190000
DTEND;TZID=America/New_York:20270511T200000
DTSTAMP:20260425T074121
CREATED:20221130T192202Z
LAST-MODIFIED:20230525T173507Z
UID:10000534-1810062000-1810065600@ststeves.org
SUMMARY:AA Meeting
DESCRIPTION:
URL:https://ststeves.org/event/aa-meeting/2027-05-11/
LOCATION:St. Stephen’s Parish Hall\, 31 Main Street\, East Haddam\, Connecticut\, 06423
CATEGORIES:Community Meeting
END:VEVENT
BEGIN:VEVENT
DTSTART;TZID=America/New_York:20270512T190000
DTEND;TZID=America/New_York:20270512T200000
DTSTAMP:20260425T074121
CREATED:20221130T192252Z
LAST-MODIFIED:20230525T173507Z
UID:10001056-1810148400-1810152000@ststeves.org
SUMMARY:AA Meeting
DESCRIPTION:
URL:https://ststeves.org/event/aa-meeting-2/2027-05-12/
LOCATION:St. Stephen’s Parish Hall\, 31 Main Street\, East Haddam\, Connecticut\, 06423
CATEGORIES:Community Meeting
END:VEVENT
BEGIN:VEVENT
DTSTART;TZID=America/New_York:20270513T184500
DTEND;TZID=America/New_York:20270513T194500
DTSTAMP:20260425T074121
CREATED:20221130T192411Z
LAST-MODIFIED:20230525T173521Z
UID:10001576-1810233900-1810237500@ststeves.org
SUMMARY:AA Meeting
DESCRIPTION:
URL:https://ststeves.org/event/aa-meeting-3/2027-05-13/
LOCATION:St. Stephen’s Parish Hall\, 31 Main Street\, East Haddam\, Connecticut\, 06423
CATEGORIES:Community Meeting
END:VEVENT
BEGIN:VEVENT
DTSTART;TZID=America/New_York:20270518T190000
DTEND;TZID=America/New_York:20270518T200000
DTSTAMP:20260425T074121
CREATED:20221130T192202Z
LAST-MODIFIED:20230525T173507Z
UID:10000535-1810666800-1810670400@ststeves.org
SUMMARY:AA Meeting
DESCRIPTION:
URL:https://ststeves.org/event/aa-meeting/2027-05-18/
LOCATION:St. Stephen’s Parish Hall\, 31 Main Street\, East Haddam\, Connecticut\, 06423
CATEGORIES:Community Meeting
END:VEVENT
BEGIN:VEVENT
DTSTART;TZID=America/New_York:20270519T190000
DTEND;TZID=America/New_York:20270519T200000
DTSTAMP:20260425T074121
CREATED:20221130T192252Z
LAST-MODIFIED:20230525T173507Z
UID:10001057-1810753200-1810756800@ststeves.org
SUMMARY:AA Meeting
DESCRIPTION:
URL:https://ststeves.org/event/aa-meeting-2/2027-05-19/
LOCATION:St. Stephen’s Parish Hall\, 31 Main Street\, East Haddam\, Connecticut\, 06423
CATEGORIES:Community Meeting
END:VEVENT
BEGIN:VEVENT
DTSTART;TZID=America/New_York:20270520T184500
DTEND;TZID=America/New_York:20270520T194500
DTSTAMP:20260425T074121
CREATED:20221130T192411Z
LAST-MODIFIED:20230525T173521Z
UID:10001577-1810838700-1810842300@ststeves.org
SUMMARY:AA Meeting
DESCRIPTION:
URL:https://ststeves.org/event/aa-meeting-3/2027-05-20/
LOCATION:St. Stephen’s Parish Hall\, 31 Main Street\, East Haddam\, Connecticut\, 06423
CATEGORIES:Community Meeting
END:VEVENT
BEGIN:VEVENT
DTSTART;TZID=America/New_York:20270525T190000
DTEND;TZID=America/New_York:20270525T200000
DTSTAMP:20260425T074121
CREATED:20221130T192202Z
LAST-MODIFIED:20230525T173507Z
UID:10000536-1811271600-1811275200@ststeves.org
SUMMARY:AA Meeting
DESCRIPTION:
URL:https://ststeves.org/event/aa-meeting/2027-05-25/
LOCATION:St. Stephen’s Parish Hall\, 31 Main Street\, East Haddam\, Connecticut\, 06423
CATEGORIES:Community Meeting
END:VEVENT
BEGIN:VEVENT
DTSTART;TZID=America/New_York:20270526T190000
DTEND;TZID=America/New_York:20270526T200000
DTSTAMP:20260425T074121
CREATED:20221130T192252Z
LAST-MODIFIED:20230525T173507Z
UID:10001058-1811358000-1811361600@ststeves.org
SUMMARY:AA Meeting
DESCRIPTION:
URL:https://ststeves.org/event/aa-meeting-2/2027-05-26/
LOCATION:St. Stephen’s Parish Hall\, 31 Main Street\, East Haddam\, Connecticut\, 06423
CATEGORIES:Community Meeting
END:VEVENT
BEGIN:VEVENT
DTSTART;TZID=America/New_York:20270527T184500
DTEND;TZID=America/New_York:20270527T194500
DTSTAMP:20260425T074121
CREATED:20221130T192411Z
LAST-MODIFIED:20230525T173521Z
UID:10001578-1811443500-1811447100@ststeves.org
SUMMARY:AA Meeting
DESCRIPTION:
URL:https://ststeves.org/event/aa-meeting-3/2027-05-27/
LOCATION:St. Stephen’s Parish Hall\, 31 Main Street\, East Haddam\, Connecticut\, 06423
CATEGORIES:Community Meeting
END:VEVENT
BEGIN:VEVENT
DTSTART;TZID=America/New_York:20270601T190000
DTEND;TZID=America/New_York:20270601T200000
DTSTAMP:20260425T074121
CREATED:20221130T192202Z
LAST-MODIFIED:20230525T173507Z
UID:10000537-1811876400-1811880000@ststeves.org
SUMMARY:AA Meeting
DESCRIPTION:
URL:https://ststeves.org/event/aa-meeting/2027-06-01/
LOCATION:St. Stephen’s Parish Hall\, 31 Main Street\, East Haddam\, Connecticut\, 06423
CATEGORIES:Community Meeting
END:VEVENT
BEGIN:VEVENT
DTSTART;TZID=America/New_York:20270602T190000
DTEND;TZID=America/New_York:20270602T200000
DTSTAMP:20260425T074121
CREATED:20221130T192252Z
LAST-MODIFIED:20230525T173507Z
UID:10001059-1811962800-1811966400@ststeves.org
SUMMARY:AA Meeting
DESCRIPTION:
URL:https://ststeves.org/event/aa-meeting-2/2027-06-02/
LOCATION:St. Stephen’s Parish Hall\, 31 Main Street\, East Haddam\, Connecticut\, 06423
CATEGORIES:Community Meeting
END:VEVENT
BEGIN:VEVENT
DTSTART;TZID=America/New_York:20270603T184500
DTEND;TZID=America/New_York:20270603T194500
DTSTAMP:20260425T074121
CREATED:20221130T192411Z
LAST-MODIFIED:20230525T173521Z
UID:10001579-1812048300-1812051900@ststeves.org
SUMMARY:AA Meeting
DESCRIPTION:
URL:https://ststeves.org/event/aa-meeting-3/2027-06-03/
LOCATION:St. Stephen’s Parish Hall\, 31 Main Street\, East Haddam\, Connecticut\, 06423
CATEGORIES:Community Meeting
END:VEVENT
BEGIN:VEVENT
DTSTART;TZID=America/New_York:20270608T190000
DTEND;TZID=America/New_York:20270608T200000
DTSTAMP:20260425T074121
CREATED:20221130T192202Z
LAST-MODIFIED:20230525T173507Z
UID:10000538-1812481200-1812484800@ststeves.org
SUMMARY:AA Meeting
DESCRIPTION:
URL:https://ststeves.org/event/aa-meeting/2027-06-08/
LOCATION:St. Stephen’s Parish Hall\, 31 Main Street\, East Haddam\, Connecticut\, 06423
CATEGORIES:Community Meeting
END:VEVENT
BEGIN:VEVENT
DTSTART;TZID=America/New_York:20270609T190000
DTEND;TZID=America/New_York:20270609T200000
DTSTAMP:20260425T074121
CREATED:20221130T192252Z
LAST-MODIFIED:20230525T173507Z
UID:10001060-1812567600-1812571200@ststeves.org
SUMMARY:AA Meeting
DESCRIPTION:
URL:https://ststeves.org/event/aa-meeting-2/2027-06-09/
LOCATION:St. Stephen’s Parish Hall\, 31 Main Street\, East Haddam\, Connecticut\, 06423
CATEGORIES:Community Meeting
END:VEVENT
BEGIN:VEVENT
DTSTART;TZID=America/New_York:20270610T184500
DTEND;TZID=America/New_York:20270610T194500
DTSTAMP:20260425T074121
CREATED:20221130T192411Z
LAST-MODIFIED:20230525T173521Z
UID:10001580-1812653100-1812656700@ststeves.org
SUMMARY:AA Meeting
DESCRIPTION:
URL:https://ststeves.org/event/aa-meeting-3/2027-06-10/
LOCATION:St. Stephen’s Parish Hall\, 31 Main Street\, East Haddam\, Connecticut\, 06423
CATEGORIES:Community Meeting
END:VEVENT
BEGIN:VEVENT
DTSTART;TZID=America/New_York:20270615T190000
DTEND;TZID=America/New_York:20270615T200000
DTSTAMP:20260425T074121
CREATED:20221130T192202Z
LAST-MODIFIED:20230525T173507Z
UID:10000539-1813086000-1813089600@ststeves.org
SUMMARY:AA Meeting
DESCRIPTION:
URL:https://ststeves.org/event/aa-meeting/2027-06-15/
LOCATION:St. Stephen’s Parish Hall\, 31 Main Street\, East Haddam\, Connecticut\, 06423
CATEGORIES:Community Meeting
END:VEVENT
BEGIN:VEVENT
DTSTART;TZID=America/New_York:20270616T190000
DTEND;TZID=America/New_York:20270616T200000
DTSTAMP:20260425T074121
CREATED:20221130T192252Z
LAST-MODIFIED:20230525T173507Z
UID:10001061-1813172400-1813176000@ststeves.org
SUMMARY:AA Meeting
DESCRIPTION:
URL:https://ststeves.org/event/aa-meeting-2/2027-06-16/
LOCATION:St. Stephen’s Parish Hall\, 31 Main Street\, East Haddam\, Connecticut\, 06423
CATEGORIES:Community Meeting
END:VEVENT
BEGIN:VEVENT
DTSTART;TZID=America/New_York:20270617T184500
DTEND;TZID=America/New_York:20270617T194500
DTSTAMP:20260425T074121
CREATED:20221130T192411Z
LAST-MODIFIED:20230525T173521Z
UID:10001581-1813257900-1813261500@ststeves.org
SUMMARY:AA Meeting
DESCRIPTION:
URL:https://ststeves.org/event/aa-meeting-3/2027-06-17/
LOCATION:St. Stephen’s Parish Hall\, 31 Main Street\, East Haddam\, Connecticut\, 06423
CATEGORIES:Community Meeting
END:VEVENT
BEGIN:VEVENT
DTSTART;TZID=America/New_York:20270622T190000
DTEND;TZID=America/New_York:20270622T200000
DTSTAMP:20260425T074121
CREATED:20221130T192202Z
LAST-MODIFIED:20230525T173507Z
UID:10000540-1813690800-1813694400@ststeves.org
SUMMARY:AA Meeting
DESCRIPTION:
URL:https://ststeves.org/event/aa-meeting/2027-06-22/
LOCATION:St. Stephen’s Parish Hall\, 31 Main Street\, East Haddam\, Connecticut\, 06423
CATEGORIES:Community Meeting
END:VEVENT
BEGIN:VEVENT
DTSTART;TZID=America/New_York:20270623T190000
DTEND;TZID=America/New_York:20270623T200000
DTSTAMP:20260425T074121
CREATED:20221130T192252Z
LAST-MODIFIED:20230525T173507Z
UID:10001062-1813777200-1813780800@ststeves.org
SUMMARY:AA Meeting
DESCRIPTION:
URL:https://ststeves.org/event/aa-meeting-2/2027-06-23/
LOCATION:St. Stephen’s Parish Hall\, 31 Main Street\, East Haddam\, Connecticut\, 06423
CATEGORIES:Community Meeting
END:VEVENT
BEGIN:VEVENT
DTSTART;TZID=America/New_York:20270624T184500
DTEND;TZID=America/New_York:20270624T194500
DTSTAMP:20260425T074122
CREATED:20221130T192411Z
LAST-MODIFIED:20230525T173521Z
UID:10001582-1813862700-1813866300@ststeves.org
SUMMARY:AA Meeting
DESCRIPTION:
URL:https://ststeves.org/event/aa-meeting-3/2027-06-24/
LOCATION:St. Stephen’s Parish Hall\, 31 Main Street\, East Haddam\, Connecticut\, 06423
CATEGORIES:Community Meeting
END:VEVENT
BEGIN:VEVENT
DTSTART;TZID=America/New_York:20270629T190000
DTEND;TZID=America/New_York:20270629T200000
DTSTAMP:20260425T074122
CREATED:20221130T192202Z
LAST-MODIFIED:20230525T173507Z
UID:10000541-1814295600-1814299200@ststeves.org
SUMMARY:AA Meeting
DESCRIPTION:
URL:https://ststeves.org/event/aa-meeting/2027-06-29/
LOCATION:St. Stephen’s Parish Hall\, 31 Main Street\, East Haddam\, Connecticut\, 06423
CATEGORIES:Community Meeting
END:VEVENT
BEGIN:VEVENT
DTSTART;TZID=America/New_York:20270630T190000
DTEND;TZID=America/New_York:20270630T200000
DTSTAMP:20260425T074122
CREATED:20221130T192252Z
LAST-MODIFIED:20230525T173507Z
UID:10001063-1814382000-1814385600@ststeves.org
SUMMARY:AA Meeting
DESCRIPTION:
URL:https://ststeves.org/event/aa-meeting-2/2027-06-30/
LOCATION:St. Stephen’s Parish Hall\, 31 Main Street\, East Haddam\, Connecticut\, 06423
CATEGORIES:Community Meeting
END:VEVENT
BEGIN:VEVENT
DTSTART;TZID=America/New_York:20270701T184500
DTEND;TZID=America/New_York:20270701T194500
DTSTAMP:20260425T074122
CREATED:20221130T192411Z
LAST-MODIFIED:20230525T173521Z
UID:10001583-1814467500-1814471100@ststeves.org
SUMMARY:AA Meeting
DESCRIPTION:
URL:https://ststeves.org/event/aa-meeting-3/2027-07-01/
LOCATION:St. Stephen’s Parish Hall\, 31 Main Street\, East Haddam\, Connecticut\, 06423
CATEGORIES:Community Meeting
END:VEVENT
BEGIN:VEVENT
DTSTART;TZID=America/New_York:20270706T190000
DTEND;TZID=America/New_York:20270706T200000
DTSTAMP:20260425T074122
CREATED:20221130T192202Z
LAST-MODIFIED:20230525T173507Z
UID:10000542-1814900400-1814904000@ststeves.org
SUMMARY:AA Meeting
DESCRIPTION:
URL:https://ststeves.org/event/aa-meeting/2027-07-06/
LOCATION:St. Stephen’s Parish Hall\, 31 Main Street\, East Haddam\, Connecticut\, 06423
CATEGORIES:Community Meeting
END:VEVENT
BEGIN:VEVENT
DTSTART;TZID=America/New_York:20270707T190000
DTEND;TZID=America/New_York:20270707T200000
DTSTAMP:20260425T074122
CREATED:20221130T192252Z
LAST-MODIFIED:20230525T173507Z
UID:10001064-1814986800-1814990400@ststeves.org
SUMMARY:AA Meeting
DESCRIPTION:
URL:https://ststeves.org/event/aa-meeting-2/2027-07-07/
LOCATION:St. Stephen’s Parish Hall\, 31 Main Street\, East Haddam\, Connecticut\, 06423
CATEGORIES:Community Meeting
END:VEVENT
END:VCALENDAR