BEGIN:VCALENDAR
VERSION:2.0
PRODID:-//St. Stephen&#039;s Episcopal Church - ECPv6.15.20//NONSGML v1.0//EN
CALSCALE:GREGORIAN
METHOD:PUBLISH
X-WR-CALNAME:St. Stephen&#039;s Episcopal Church
X-ORIGINAL-URL:https://ststeves.org
X-WR-CALDESC:Events for St. Stephen&#039;s Episcopal Church
REFRESH-INTERVAL;VALUE=DURATION:PT1H
X-Robots-Tag:noindex
X-PUBLISHED-TTL:PT1H
BEGIN:VTIMEZONE
TZID:America/New_York
BEGIN:DAYLIGHT
TZOFFSETFROM:-0500
TZOFFSETTO:-0400
TZNAME:EDT
DTSTART:20250309T070000
END:DAYLIGHT
BEGIN:STANDARD
TZOFFSETFROM:-0400
TZOFFSETTO:-0500
TZNAME:EST
DTSTART:20251102T060000
END:STANDARD
BEGIN:DAYLIGHT
TZOFFSETFROM:-0500
TZOFFSETTO:-0400
TZNAME:EDT
DTSTART:20260308T070000
END:DAYLIGHT
BEGIN:STANDARD
TZOFFSETFROM:-0400
TZOFFSETTO:-0500
TZNAME:EST
DTSTART:20261101T060000
END:STANDARD
BEGIN:DAYLIGHT
TZOFFSETFROM:-0500
TZOFFSETTO:-0400
TZNAME:EDT
DTSTART:20270314T070000
END:DAYLIGHT
BEGIN:STANDARD
TZOFFSETFROM:-0400
TZOFFSETTO:-0500
TZNAME:EST
DTSTART:20271107T060000
END:STANDARD
END:VTIMEZONE
BEGIN:VEVENT
DTSTART;TZID=America/New_York:20260917T184500
DTEND;TZID=America/New_York:20260917T194500
DTSTAMP:20260420T213055
CREATED:20221130T192411Z
LAST-MODIFIED:20230525T173521Z
UID:10001542-1789670700-1789674300@ststeves.org
SUMMARY:AA Meeting
DESCRIPTION:
URL:https://ststeves.org/event/aa-meeting-3/2026-09-17/
LOCATION:St. Stephen’s Parish Hall\, 31 Main Street\, East Haddam\, Connecticut\, 06423
CATEGORIES:Community Meeting
END:VEVENT
BEGIN:VEVENT
DTSTART;TZID=America/New_York:20260922T190000
DTEND;TZID=America/New_York:20260922T200000
DTSTAMP:20260420T213055
CREATED:20221130T192202Z
LAST-MODIFIED:20230525T173507Z
UID:10000501-1790103600-1790107200@ststeves.org
SUMMARY:AA Meeting
DESCRIPTION:
URL:https://ststeves.org/event/aa-meeting/2026-09-22/
LOCATION:St. Stephen’s Parish Hall\, 31 Main Street\, East Haddam\, Connecticut\, 06423
CATEGORIES:Community Meeting
END:VEVENT
BEGIN:VEVENT
DTSTART;TZID=America/New_York:20260923T190000
DTEND;TZID=America/New_York:20260923T200000
DTSTAMP:20260420T213055
CREATED:20221130T192252Z
LAST-MODIFIED:20230525T173507Z
UID:10001023-1790190000-1790193600@ststeves.org
SUMMARY:AA Meeting
DESCRIPTION:
URL:https://ststeves.org/event/aa-meeting-2/2026-09-23/
LOCATION:St. Stephen’s Parish Hall\, 31 Main Street\, East Haddam\, Connecticut\, 06423
CATEGORIES:Community Meeting
END:VEVENT
BEGIN:VEVENT
DTSTART;TZID=America/New_York:20260924T184500
DTEND;TZID=America/New_York:20260924T194500
DTSTAMP:20260420T213055
CREATED:20221130T192411Z
LAST-MODIFIED:20230525T173521Z
UID:10001543-1790275500-1790279100@ststeves.org
SUMMARY:AA Meeting
DESCRIPTION:
URL:https://ststeves.org/event/aa-meeting-3/2026-09-24/
LOCATION:St. Stephen’s Parish Hall\, 31 Main Street\, East Haddam\, Connecticut\, 06423
CATEGORIES:Community Meeting
END:VEVENT
BEGIN:VEVENT
DTSTART;TZID=America/New_York:20260929T190000
DTEND;TZID=America/New_York:20260929T200000
DTSTAMP:20260420T213055
CREATED:20221130T192202Z
LAST-MODIFIED:20230525T173507Z
UID:10000502-1790708400-1790712000@ststeves.org
SUMMARY:AA Meeting
DESCRIPTION:
URL:https://ststeves.org/event/aa-meeting/2026-09-29/
LOCATION:St. Stephen’s Parish Hall\, 31 Main Street\, East Haddam\, Connecticut\, 06423
CATEGORIES:Community Meeting
END:VEVENT
BEGIN:VEVENT
DTSTART;TZID=America/New_York:20260930T190000
DTEND;TZID=America/New_York:20260930T200000
DTSTAMP:20260420T213055
CREATED:20221130T192252Z
LAST-MODIFIED:20230525T173507Z
UID:10001024-1790794800-1790798400@ststeves.org
SUMMARY:AA Meeting
DESCRIPTION:
URL:https://ststeves.org/event/aa-meeting-2/2026-09-30/
LOCATION:St. Stephen’s Parish Hall\, 31 Main Street\, East Haddam\, Connecticut\, 06423
CATEGORIES:Community Meeting
END:VEVENT
BEGIN:VEVENT
DTSTART;TZID=America/New_York:20261001T184500
DTEND;TZID=America/New_York:20261001T194500
DTSTAMP:20260420T213055
CREATED:20221130T192411Z
LAST-MODIFIED:20230525T173521Z
UID:10001544-1790880300-1790883900@ststeves.org
SUMMARY:AA Meeting
DESCRIPTION:
URL:https://ststeves.org/event/aa-meeting-3/2026-10-01/
LOCATION:St. Stephen’s Parish Hall\, 31 Main Street\, East Haddam\, Connecticut\, 06423
CATEGORIES:Community Meeting
END:VEVENT
BEGIN:VEVENT
DTSTART;TZID=America/New_York:20261006T190000
DTEND;TZID=America/New_York:20261006T200000
DTSTAMP:20260420T213055
CREATED:20221130T192202Z
LAST-MODIFIED:20230525T173507Z
UID:10000503-1791313200-1791316800@ststeves.org
SUMMARY:AA Meeting
DESCRIPTION:
URL:https://ststeves.org/event/aa-meeting/2026-10-06/
LOCATION:St. Stephen’s Parish Hall\, 31 Main Street\, East Haddam\, Connecticut\, 06423
CATEGORIES:Community Meeting
END:VEVENT
BEGIN:VEVENT
DTSTART;TZID=America/New_York:20261007T190000
DTEND;TZID=America/New_York:20261007T200000
DTSTAMP:20260420T213055
CREATED:20221130T192252Z
LAST-MODIFIED:20230525T173507Z
UID:10001025-1791399600-1791403200@ststeves.org
SUMMARY:AA Meeting
DESCRIPTION:
URL:https://ststeves.org/event/aa-meeting-2/2026-10-07/
LOCATION:St. Stephen’s Parish Hall\, 31 Main Street\, East Haddam\, Connecticut\, 06423
CATEGORIES:Community Meeting
END:VEVENT
BEGIN:VEVENT
DTSTART;TZID=America/New_York:20261008T184500
DTEND;TZID=America/New_York:20261008T194500
DTSTAMP:20260420T213055
CREATED:20221130T192411Z
LAST-MODIFIED:20230525T173521Z
UID:10001545-1791485100-1791488700@ststeves.org
SUMMARY:AA Meeting
DESCRIPTION:
URL:https://ststeves.org/event/aa-meeting-3/2026-10-08/
LOCATION:St. Stephen’s Parish Hall\, 31 Main Street\, East Haddam\, Connecticut\, 06423
CATEGORIES:Community Meeting
END:VEVENT
BEGIN:VEVENT
DTSTART;TZID=America/New_York:20261013T190000
DTEND;TZID=America/New_York:20261013T200000
DTSTAMP:20260420T213055
CREATED:20221130T192202Z
LAST-MODIFIED:20230525T173507Z
UID:10000504-1791918000-1791921600@ststeves.org
SUMMARY:AA Meeting
DESCRIPTION:
URL:https://ststeves.org/event/aa-meeting/2026-10-13/
LOCATION:St. Stephen’s Parish Hall\, 31 Main Street\, East Haddam\, Connecticut\, 06423
CATEGORIES:Community Meeting
END:VEVENT
BEGIN:VEVENT
DTSTART;TZID=America/New_York:20261014T190000
DTEND;TZID=America/New_York:20261014T200000
DTSTAMP:20260420T213055
CREATED:20221130T192252Z
LAST-MODIFIED:20230525T173507Z
UID:10001026-1792004400-1792008000@ststeves.org
SUMMARY:AA Meeting
DESCRIPTION:
URL:https://ststeves.org/event/aa-meeting-2/2026-10-14/
LOCATION:St. Stephen’s Parish Hall\, 31 Main Street\, East Haddam\, Connecticut\, 06423
CATEGORIES:Community Meeting
END:VEVENT
BEGIN:VEVENT
DTSTART;TZID=America/New_York:20261015T184500
DTEND;TZID=America/New_York:20261015T194500
DTSTAMP:20260420T213055
CREATED:20221130T192411Z
LAST-MODIFIED:20230525T173521Z
UID:10001546-1792089900-1792093500@ststeves.org
SUMMARY:AA Meeting
DESCRIPTION:
URL:https://ststeves.org/event/aa-meeting-3/2026-10-15/
LOCATION:St. Stephen’s Parish Hall\, 31 Main Street\, East Haddam\, Connecticut\, 06423
CATEGORIES:Community Meeting
END:VEVENT
BEGIN:VEVENT
DTSTART;TZID=America/New_York:20261020T190000
DTEND;TZID=America/New_York:20261020T200000
DTSTAMP:20260420T213055
CREATED:20221130T192202Z
LAST-MODIFIED:20230525T173507Z
UID:10000505-1792522800-1792526400@ststeves.org
SUMMARY:AA Meeting
DESCRIPTION:
URL:https://ststeves.org/event/aa-meeting/2026-10-20/
LOCATION:St. Stephen’s Parish Hall\, 31 Main Street\, East Haddam\, Connecticut\, 06423
CATEGORIES:Community Meeting
END:VEVENT
BEGIN:VEVENT
DTSTART;TZID=America/New_York:20261021T190000
DTEND;TZID=America/New_York:20261021T200000
DTSTAMP:20260420T213055
CREATED:20221130T192252Z
LAST-MODIFIED:20230525T173507Z
UID:10001027-1792609200-1792612800@ststeves.org
SUMMARY:AA Meeting
DESCRIPTION:
URL:https://ststeves.org/event/aa-meeting-2/2026-10-21/
LOCATION:St. Stephen’s Parish Hall\, 31 Main Street\, East Haddam\, Connecticut\, 06423
CATEGORIES:Community Meeting
END:VEVENT
BEGIN:VEVENT
DTSTART;TZID=America/New_York:20261022T184500
DTEND;TZID=America/New_York:20261022T194500
DTSTAMP:20260420T213055
CREATED:20221130T192411Z
LAST-MODIFIED:20230525T173521Z
UID:10001547-1792694700-1792698300@ststeves.org
SUMMARY:AA Meeting
DESCRIPTION:
URL:https://ststeves.org/event/aa-meeting-3/2026-10-22/
LOCATION:St. Stephen’s Parish Hall\, 31 Main Street\, East Haddam\, Connecticut\, 06423
CATEGORIES:Community Meeting
END:VEVENT
BEGIN:VEVENT
DTSTART;TZID=America/New_York:20261027T190000
DTEND;TZID=America/New_York:20261027T200000
DTSTAMP:20260420T213055
CREATED:20221130T192202Z
LAST-MODIFIED:20230525T173507Z
UID:10000506-1793127600-1793131200@ststeves.org
SUMMARY:AA Meeting
DESCRIPTION:
URL:https://ststeves.org/event/aa-meeting/2026-10-27/
LOCATION:St. Stephen’s Parish Hall\, 31 Main Street\, East Haddam\, Connecticut\, 06423
CATEGORIES:Community Meeting
END:VEVENT
BEGIN:VEVENT
DTSTART;TZID=America/New_York:20261028T190000
DTEND;TZID=America/New_York:20261028T200000
DTSTAMP:20260420T213055
CREATED:20221130T192252Z
LAST-MODIFIED:20230525T173507Z
UID:10001028-1793214000-1793217600@ststeves.org
SUMMARY:AA Meeting
DESCRIPTION:
URL:https://ststeves.org/event/aa-meeting-2/2026-10-28/
LOCATION:St. Stephen’s Parish Hall\, 31 Main Street\, East Haddam\, Connecticut\, 06423
CATEGORIES:Community Meeting
END:VEVENT
BEGIN:VEVENT
DTSTART;TZID=America/New_York:20261029T184500
DTEND;TZID=America/New_York:20261029T194500
DTSTAMP:20260420T213055
CREATED:20221130T192411Z
LAST-MODIFIED:20230525T173521Z
UID:10001548-1793299500-1793303100@ststeves.org
SUMMARY:AA Meeting
DESCRIPTION:
URL:https://ststeves.org/event/aa-meeting-3/2026-10-29/
LOCATION:St. Stephen’s Parish Hall\, 31 Main Street\, East Haddam\, Connecticut\, 06423
CATEGORIES:Community Meeting
END:VEVENT
BEGIN:VEVENT
DTSTART;TZID=America/New_York:20261103T190000
DTEND;TZID=America/New_York:20261103T200000
DTSTAMP:20260420T213055
CREATED:20221130T192202Z
LAST-MODIFIED:20230525T173507Z
UID:10000507-1793732400-1793736000@ststeves.org
SUMMARY:AA Meeting
DESCRIPTION:
URL:https://ststeves.org/event/aa-meeting/2026-11-03/
LOCATION:St. Stephen’s Parish Hall\, 31 Main Street\, East Haddam\, Connecticut\, 06423
CATEGORIES:Community Meeting
END:VEVENT
BEGIN:VEVENT
DTSTART;TZID=America/New_York:20261104T190000
DTEND;TZID=America/New_York:20261104T200000
DTSTAMP:20260420T213055
CREATED:20221130T192252Z
LAST-MODIFIED:20230525T173507Z
UID:10001029-1793818800-1793822400@ststeves.org
SUMMARY:AA Meeting
DESCRIPTION:
URL:https://ststeves.org/event/aa-meeting-2/2026-11-04/
LOCATION:St. Stephen’s Parish Hall\, 31 Main Street\, East Haddam\, Connecticut\, 06423
CATEGORIES:Community Meeting
END:VEVENT
BEGIN:VEVENT
DTSTART;TZID=America/New_York:20261105T184500
DTEND;TZID=America/New_York:20261105T194500
DTSTAMP:20260420T213055
CREATED:20221130T192411Z
LAST-MODIFIED:20230525T173521Z
UID:10001549-1793904300-1793907900@ststeves.org
SUMMARY:AA Meeting
DESCRIPTION:
URL:https://ststeves.org/event/aa-meeting-3/2026-11-05/
LOCATION:St. Stephen’s Parish Hall\, 31 Main Street\, East Haddam\, Connecticut\, 06423
CATEGORIES:Community Meeting
END:VEVENT
BEGIN:VEVENT
DTSTART;TZID=America/New_York:20261110T190000
DTEND;TZID=America/New_York:20261110T200000
DTSTAMP:20260420T213055
CREATED:20221130T192202Z
LAST-MODIFIED:20230525T173507Z
UID:10000508-1794337200-1794340800@ststeves.org
SUMMARY:AA Meeting
DESCRIPTION:
URL:https://ststeves.org/event/aa-meeting/2026-11-10/
LOCATION:St. Stephen’s Parish Hall\, 31 Main Street\, East Haddam\, Connecticut\, 06423
CATEGORIES:Community Meeting
END:VEVENT
BEGIN:VEVENT
DTSTART;TZID=America/New_York:20261111T190000
DTEND;TZID=America/New_York:20261111T200000
DTSTAMP:20260420T213055
CREATED:20221130T192252Z
LAST-MODIFIED:20230525T173507Z
UID:10001030-1794423600-1794427200@ststeves.org
SUMMARY:AA Meeting
DESCRIPTION:
URL:https://ststeves.org/event/aa-meeting-2/2026-11-11/
LOCATION:St. Stephen’s Parish Hall\, 31 Main Street\, East Haddam\, Connecticut\, 06423
CATEGORIES:Community Meeting
END:VEVENT
BEGIN:VEVENT
DTSTART;TZID=America/New_York:20261112T184500
DTEND;TZID=America/New_York:20261112T194500
DTSTAMP:20260420T213055
CREATED:20221130T192411Z
LAST-MODIFIED:20230525T173521Z
UID:10001550-1794509100-1794512700@ststeves.org
SUMMARY:AA Meeting
DESCRIPTION:
URL:https://ststeves.org/event/aa-meeting-3/2026-11-12/
LOCATION:St. Stephen’s Parish Hall\, 31 Main Street\, East Haddam\, Connecticut\, 06423
CATEGORIES:Community Meeting
END:VEVENT
BEGIN:VEVENT
DTSTART;TZID=America/New_York:20261117T190000
DTEND;TZID=America/New_York:20261117T200000
DTSTAMP:20260420T213055
CREATED:20221130T192202Z
LAST-MODIFIED:20230525T173507Z
UID:10000509-1794942000-1794945600@ststeves.org
SUMMARY:AA Meeting
DESCRIPTION:
URL:https://ststeves.org/event/aa-meeting/2026-11-17/
LOCATION:St. Stephen’s Parish Hall\, 31 Main Street\, East Haddam\, Connecticut\, 06423
CATEGORIES:Community Meeting
END:VEVENT
BEGIN:VEVENT
DTSTART;TZID=America/New_York:20261118T190000
DTEND;TZID=America/New_York:20261118T200000
DTSTAMP:20260420T213055
CREATED:20221130T192252Z
LAST-MODIFIED:20230525T173507Z
UID:10001031-1795028400-1795032000@ststeves.org
SUMMARY:AA Meeting
DESCRIPTION:
URL:https://ststeves.org/event/aa-meeting-2/2026-11-18/
LOCATION:St. Stephen’s Parish Hall\, 31 Main Street\, East Haddam\, Connecticut\, 06423
CATEGORIES:Community Meeting
END:VEVENT
BEGIN:VEVENT
DTSTART;TZID=America/New_York:20261119T184500
DTEND;TZID=America/New_York:20261119T194500
DTSTAMP:20260420T213055
CREATED:20221130T192411Z
LAST-MODIFIED:20230525T173521Z
UID:10001551-1795113900-1795117500@ststeves.org
SUMMARY:AA Meeting
DESCRIPTION:
URL:https://ststeves.org/event/aa-meeting-3/2026-11-19/
LOCATION:St. Stephen’s Parish Hall\, 31 Main Street\, East Haddam\, Connecticut\, 06423
CATEGORIES:Community Meeting
END:VEVENT
BEGIN:VEVENT
DTSTART;TZID=America/New_York:20261124T190000
DTEND;TZID=America/New_York:20261124T200000
DTSTAMP:20260420T213055
CREATED:20221130T192202Z
LAST-MODIFIED:20230525T173507Z
UID:10000510-1795546800-1795550400@ststeves.org
SUMMARY:AA Meeting
DESCRIPTION:
URL:https://ststeves.org/event/aa-meeting/2026-11-24/
LOCATION:St. Stephen’s Parish Hall\, 31 Main Street\, East Haddam\, Connecticut\, 06423
CATEGORIES:Community Meeting
END:VEVENT
BEGIN:VEVENT
DTSTART;TZID=America/New_York:20261125T190000
DTEND;TZID=America/New_York:20261125T200000
DTSTAMP:20260420T213055
CREATED:20221130T192252Z
LAST-MODIFIED:20230525T173507Z
UID:10001032-1795633200-1795636800@ststeves.org
SUMMARY:AA Meeting
DESCRIPTION:
URL:https://ststeves.org/event/aa-meeting-2/2026-11-25/
LOCATION:St. Stephen’s Parish Hall\, 31 Main Street\, East Haddam\, Connecticut\, 06423
CATEGORIES:Community Meeting
END:VEVENT
END:VCALENDAR