BEGIN:VCALENDAR
VERSION:2.0
PRODID:-//St. Stephen&#039;s Episcopal Church - ECPv6.15.20//NONSGML v1.0//EN
CALSCALE:GREGORIAN
METHOD:PUBLISH
X-ORIGINAL-URL:https://ststeves.org
X-WR-CALDESC:Events for St. Stephen&#039;s Episcopal Church
REFRESH-INTERVAL;VALUE=DURATION:PT1H
X-Robots-Tag:noindex
X-PUBLISHED-TTL:PT1H
BEGIN:VTIMEZONE
TZID:America/New_York
BEGIN:DAYLIGHT
TZOFFSETFROM:-0500
TZOFFSETTO:-0400
TZNAME:EDT
DTSTART:20290311T070000
END:DAYLIGHT
BEGIN:STANDARD
TZOFFSETFROM:-0400
TZOFFSETTO:-0500
TZNAME:EST
DTSTART:20291104T060000
END:STANDARD
BEGIN:DAYLIGHT
TZOFFSETFROM:-0500
TZOFFSETTO:-0400
TZNAME:EDT
DTSTART:20300310T070000
END:DAYLIGHT
BEGIN:STANDARD
TZOFFSETFROM:-0400
TZOFFSETTO:-0500
TZNAME:EST
DTSTART:20301103T060000
END:STANDARD
BEGIN:DAYLIGHT
TZOFFSETFROM:-0500
TZOFFSETTO:-0400
TZNAME:EDT
DTSTART:20310309T070000
END:DAYLIGHT
BEGIN:STANDARD
TZOFFSETFROM:-0400
TZOFFSETTO:-0500
TZNAME:EST
DTSTART:20311102T060000
END:STANDARD
END:VTIMEZONE
BEGIN:VEVENT
DTSTART;TZID=America/New_York:20300414T100000
DTEND;TZID=America/New_York:20300414T111500
DTSTAMP:20260425T084946
CREATED:20250715T201320Z
LAST-MODIFIED:20251125T170559Z
UID:10004103-1902391200-1902395700@ststeves.org
SUMMARY:Family Sunday
DESCRIPTION:The Second Sunday of each month our 10 am service is devoted to family ministry\, and suitable to fall ages\, especially young children. There is a story sermon\, activities/crafts after church\, and lots of opportunities to be involved with worship at the level that you are comfortable. \nThese Sundays will be especially devoted to joy and celebrating our relationship with family\, friends\, and Jesus. \nFor those who are 4 years old + If you would like to participate in worship on a Second Sunday\, please let Rev. Erin know what Sundays you are present this fall and what you would like to help with! \nSept 14 – TBA \nOct  12 – Blessing of the Animals (Outside) \nNov 9 – TBA \nDec 14 – Brown Paper Bag Christmas Pageant (no rehearsal necessary) \nJan 11 – TBA \nFeb 8 – TBA \nMar 8 – TBA \nApr 12 – TBA \nMay 10 – TBA \nJun 14 –  TBA \nNursery Care will continue to run on the 4th Sunday of each month.
URL:https://ststeves.org/event/families-sunday-3/2030-04-14/
CATEGORIES:Parish Event
ATTACH;FMTTYPE=image/png:https://ststeves.org/wp-content/uploads/2023/10/This-one-.png
END:VEVENT
BEGIN:VEVENT
DTSTART;TZID=America/New_York:20300418T133000
DTEND;TZID=America/New_York:20300418T143000
DTSTAMP:20260425T084946
CREATED:20230223T193539Z
LAST-MODIFIED:20251227T231553Z
UID:10004261-1902749400-1902753000@ststeves.org
SUMMARY:St. Stephen's Book Club
DESCRIPTION:St. Stephen’s Book Club will be meeting on the third Thursday of every month at 1:30pm in the Parish Hall – except July\, August and December – \nJanuary 15 | February 19 | March 19 | April 16 | May 21 | June 18 | September 17 | October 15| November 19 \nFor more info\, email Betsy. \n 
URL:https://ststeves.org/event/st-stephens-book-club-4/2030-04-18/
LOCATION:St. Stephen’s Parish Hall\, 31 Main Street\, East Haddam\, Connecticut\, 06423
CATEGORIES:Parish Event
ATTACH;FMTTYPE=image/png:https://ststeves.org/wp-content/uploads/2023/02/St.-Stephens-book-club-4.png
END:VEVENT
BEGIN:VEVENT
DTSTART;TZID=America/New_York:20300428T100000
DTEND;TZID=America/New_York:20300428T113000
DTSTAMP:20260425T084946
CREATED:20250804T154309Z
LAST-MODIFIED:20251110T154315Z
UID:10004162-1903600800-1903606200@ststeves.org
SUMMARY:Nursery
DESCRIPTION:Nursery care is available every fourth Sunday of the month during the 10 a.m. service.  Our lead nursery care attendant is safe church trained. We always have two people in the room with the children.
URL:https://ststeves.org/event/nursery/2030-04-28/
CATEGORIES:Parish Event
ATTACH;FMTTYPE=image/png:https://ststeves.org/wp-content/uploads/2025/08/Nursery-Care-1.png
END:VEVENT
BEGIN:VEVENT
DTSTART;TZID=America/New_York:20300512T100000
DTEND;TZID=America/New_York:20300512T111500
DTSTAMP:20260425T084946
CREATED:20250715T201320Z
LAST-MODIFIED:20251125T170559Z
UID:10004104-1904810400-1904814900@ststeves.org
SUMMARY:Family Sunday
DESCRIPTION:The Second Sunday of each month our 10 am service is devoted to family ministry\, and suitable to fall ages\, especially young children. There is a story sermon\, activities/crafts after church\, and lots of opportunities to be involved with worship at the level that you are comfortable. \nThese Sundays will be especially devoted to joy and celebrating our relationship with family\, friends\, and Jesus. \nFor those who are 4 years old + If you would like to participate in worship on a Second Sunday\, please let Rev. Erin know what Sundays you are present this fall and what you would like to help with! \nSept 14 – TBA \nOct  12 – Blessing of the Animals (Outside) \nNov 9 – TBA \nDec 14 – Brown Paper Bag Christmas Pageant (no rehearsal necessary) \nJan 11 – TBA \nFeb 8 – TBA \nMar 8 – TBA \nApr 12 – TBA \nMay 10 – TBA \nJun 14 –  TBA \nNursery Care will continue to run on the 4th Sunday of each month.
URL:https://ststeves.org/event/families-sunday-3/2030-05-12/
CATEGORIES:Parish Event
ATTACH;FMTTYPE=image/png:https://ststeves.org/wp-content/uploads/2023/10/This-one-.png
END:VEVENT
BEGIN:VEVENT
DTSTART;TZID=America/New_York:20300516T133000
DTEND;TZID=America/New_York:20300516T143000
DTSTAMP:20260425T084946
CREATED:20230223T193539Z
LAST-MODIFIED:20251227T231553Z
UID:10004262-1905168600-1905172200@ststeves.org
SUMMARY:St. Stephen's Book Club
DESCRIPTION:St. Stephen’s Book Club will be meeting on the third Thursday of every month at 1:30pm in the Parish Hall – except July\, August and December – \nJanuary 15 | February 19 | March 19 | April 16 | May 21 | June 18 | September 17 | October 15| November 19 \nFor more info\, email Betsy. \n 
URL:https://ststeves.org/event/st-stephens-book-club-4/2030-05-16/
LOCATION:St. Stephen’s Parish Hall\, 31 Main Street\, East Haddam\, Connecticut\, 06423
CATEGORIES:Parish Event
ATTACH;FMTTYPE=image/png:https://ststeves.org/wp-content/uploads/2023/02/St.-Stephens-book-club-4.png
END:VEVENT
BEGIN:VEVENT
DTSTART;TZID=America/New_York:20300526T100000
DTEND;TZID=America/New_York:20300526T113000
DTSTAMP:20260425T084946
CREATED:20250804T154309Z
LAST-MODIFIED:20251110T154315Z
UID:10004163-1906020000-1906025400@ststeves.org
SUMMARY:Nursery
DESCRIPTION:Nursery care is available every fourth Sunday of the month during the 10 a.m. service.  Our lead nursery care attendant is safe church trained. We always have two people in the room with the children.
URL:https://ststeves.org/event/nursery/2030-05-26/
CATEGORIES:Parish Event
ATTACH;FMTTYPE=image/png:https://ststeves.org/wp-content/uploads/2025/08/Nursery-Care-1.png
END:VEVENT
BEGIN:VEVENT
DTSTART;TZID=America/New_York:20300609T100000
DTEND;TZID=America/New_York:20300609T111500
DTSTAMP:20260425T084946
CREATED:20250715T201320Z
LAST-MODIFIED:20251125T170559Z
UID:10004105-1907229600-1907234100@ststeves.org
SUMMARY:Family Sunday
DESCRIPTION:The Second Sunday of each month our 10 am service is devoted to family ministry\, and suitable to fall ages\, especially young children. There is a story sermon\, activities/crafts after church\, and lots of opportunities to be involved with worship at the level that you are comfortable. \nThese Sundays will be especially devoted to joy and celebrating our relationship with family\, friends\, and Jesus. \nFor those who are 4 years old + If you would like to participate in worship on a Second Sunday\, please let Rev. Erin know what Sundays you are present this fall and what you would like to help with! \nSept 14 – TBA \nOct  12 – Blessing of the Animals (Outside) \nNov 9 – TBA \nDec 14 – Brown Paper Bag Christmas Pageant (no rehearsal necessary) \nJan 11 – TBA \nFeb 8 – TBA \nMar 8 – TBA \nApr 12 – TBA \nMay 10 – TBA \nJun 14 –  TBA \nNursery Care will continue to run on the 4th Sunday of each month.
URL:https://ststeves.org/event/families-sunday-3/2030-06-09/
CATEGORIES:Parish Event
ATTACH;FMTTYPE=image/png:https://ststeves.org/wp-content/uploads/2023/10/This-one-.png
END:VEVENT
BEGIN:VEVENT
DTSTART;TZID=America/New_York:20300620T133000
DTEND;TZID=America/New_York:20300620T143000
DTSTAMP:20260425T084946
CREATED:20230223T193539Z
LAST-MODIFIED:20251227T231553Z
UID:10004263-1908192600-1908196200@ststeves.org
SUMMARY:St. Stephen's Book Club
DESCRIPTION:St. Stephen’s Book Club will be meeting on the third Thursday of every month at 1:30pm in the Parish Hall – except July\, August and December – \nJanuary 15 | February 19 | March 19 | April 16 | May 21 | June 18 | September 17 | October 15| November 19 \nFor more info\, email Betsy. \n 
URL:https://ststeves.org/event/st-stephens-book-club-4/2030-06-20/
LOCATION:St. Stephen’s Parish Hall\, 31 Main Street\, East Haddam\, Connecticut\, 06423
CATEGORIES:Parish Event
ATTACH;FMTTYPE=image/png:https://ststeves.org/wp-content/uploads/2023/02/St.-Stephens-book-club-4.png
END:VEVENT
BEGIN:VEVENT
DTSTART;TZID=America/New_York:20300623T100000
DTEND;TZID=America/New_York:20300623T113000
DTSTAMP:20260425T084946
CREATED:20250804T154309Z
LAST-MODIFIED:20251110T154315Z
UID:10004164-1908439200-1908444600@ststeves.org
SUMMARY:Nursery
DESCRIPTION:Nursery care is available every fourth Sunday of the month during the 10 a.m. service.  Our lead nursery care attendant is safe church trained. We always have two people in the room with the children.
URL:https://ststeves.org/event/nursery/2030-06-23/
CATEGORIES:Parish Event
ATTACH;FMTTYPE=image/png:https://ststeves.org/wp-content/uploads/2025/08/Nursery-Care-1.png
END:VEVENT
BEGIN:VEVENT
DTSTART;TZID=America/New_York:20300714T100000
DTEND;TZID=America/New_York:20300714T111500
DTSTAMP:20260425T084946
CREATED:20250715T201320Z
LAST-MODIFIED:20251125T170559Z
UID:10004106-1910253600-1910258100@ststeves.org
SUMMARY:Family Sunday
DESCRIPTION:The Second Sunday of each month our 10 am service is devoted to family ministry\, and suitable to fall ages\, especially young children. There is a story sermon\, activities/crafts after church\, and lots of opportunities to be involved with worship at the level that you are comfortable. \nThese Sundays will be especially devoted to joy and celebrating our relationship with family\, friends\, and Jesus. \nFor those who are 4 years old + If you would like to participate in worship on a Second Sunday\, please let Rev. Erin know what Sundays you are present this fall and what you would like to help with! \nSept 14 – TBA \nOct  12 – Blessing of the Animals (Outside) \nNov 9 – TBA \nDec 14 – Brown Paper Bag Christmas Pageant (no rehearsal necessary) \nJan 11 – TBA \nFeb 8 – TBA \nMar 8 – TBA \nApr 12 – TBA \nMay 10 – TBA \nJun 14 –  TBA \nNursery Care will continue to run on the 4th Sunday of each month.
URL:https://ststeves.org/event/families-sunday-3/2030-07-14/
CATEGORIES:Parish Event
ATTACH;FMTTYPE=image/png:https://ststeves.org/wp-content/uploads/2023/10/This-one-.png
END:VEVENT
BEGIN:VEVENT
DTSTART;TZID=America/New_York:20300718T133000
DTEND;TZID=America/New_York:20300718T143000
DTSTAMP:20260425T084946
CREATED:20230223T193539Z
LAST-MODIFIED:20251227T231553Z
UID:10004264-1910611800-1910615400@ststeves.org
SUMMARY:St. Stephen's Book Club
DESCRIPTION:St. Stephen’s Book Club will be meeting on the third Thursday of every month at 1:30pm in the Parish Hall – except July\, August and December – \nJanuary 15 | February 19 | March 19 | April 16 | May 21 | June 18 | September 17 | October 15| November 19 \nFor more info\, email Betsy. \n 
URL:https://ststeves.org/event/st-stephens-book-club-4/2030-07-18/
LOCATION:St. Stephen’s Parish Hall\, 31 Main Street\, East Haddam\, Connecticut\, 06423
CATEGORIES:Parish Event
ATTACH;FMTTYPE=image/png:https://ststeves.org/wp-content/uploads/2023/02/St.-Stephens-book-club-4.png
END:VEVENT
BEGIN:VEVENT
DTSTART;TZID=America/New_York:20300728T100000
DTEND;TZID=America/New_York:20300728T113000
DTSTAMP:20260425T084946
CREATED:20250804T154309Z
LAST-MODIFIED:20251110T154315Z
UID:10004165-1911463200-1911468600@ststeves.org
SUMMARY:Nursery
DESCRIPTION:Nursery care is available every fourth Sunday of the month during the 10 a.m. service.  Our lead nursery care attendant is safe church trained. We always have two people in the room with the children.
URL:https://ststeves.org/event/nursery/2030-07-28/
CATEGORIES:Parish Event
ATTACH;FMTTYPE=image/png:https://ststeves.org/wp-content/uploads/2025/08/Nursery-Care-1.png
END:VEVENT
BEGIN:VEVENT
DTSTART;TZID=America/New_York:20300811T100000
DTEND;TZID=America/New_York:20300811T111500
DTSTAMP:20260425T084946
CREATED:20250715T201320Z
LAST-MODIFIED:20251125T170559Z
UID:10004204-1912672800-1912677300@ststeves.org
SUMMARY:Family Sunday
DESCRIPTION:The Second Sunday of each month our 10 am service is devoted to family ministry\, and suitable to fall ages\, especially young children. There is a story sermon\, activities/crafts after church\, and lots of opportunities to be involved with worship at the level that you are comfortable. \nThese Sundays will be especially devoted to joy and celebrating our relationship with family\, friends\, and Jesus. \nFor those who are 4 years old + If you would like to participate in worship on a Second Sunday\, please let Rev. Erin know what Sundays you are present this fall and what you would like to help with! \nSept 14 – TBA \nOct  12 – Blessing of the Animals (Outside) \nNov 9 – TBA \nDec 14 – Brown Paper Bag Christmas Pageant (no rehearsal necessary) \nJan 11 – TBA \nFeb 8 – TBA \nMar 8 – TBA \nApr 12 – TBA \nMay 10 – TBA \nJun 14 –  TBA \nNursery Care will continue to run on the 4th Sunday of each month.
URL:https://ststeves.org/event/families-sunday-3/2030-08-11/
CATEGORIES:Parish Event
ATTACH;FMTTYPE=image/png:https://ststeves.org/wp-content/uploads/2023/10/This-one-.png
END:VEVENT
BEGIN:VEVENT
DTSTART;TZID=America/New_York:20300815T133000
DTEND;TZID=America/New_York:20300815T143000
DTSTAMP:20260425T084946
CREATED:20230223T193539Z
LAST-MODIFIED:20251227T231553Z
UID:10004265-1913031000-1913034600@ststeves.org
SUMMARY:St. Stephen's Book Club
DESCRIPTION:St. Stephen’s Book Club will be meeting on the third Thursday of every month at 1:30pm in the Parish Hall – except July\, August and December – \nJanuary 15 | February 19 | March 19 | April 16 | May 21 | June 18 | September 17 | October 15| November 19 \nFor more info\, email Betsy. \n 
URL:https://ststeves.org/event/st-stephens-book-club-4/2030-08-15/
LOCATION:St. Stephen’s Parish Hall\, 31 Main Street\, East Haddam\, Connecticut\, 06423
CATEGORIES:Parish Event
ATTACH;FMTTYPE=image/png:https://ststeves.org/wp-content/uploads/2023/02/St.-Stephens-book-club-4.png
END:VEVENT
BEGIN:VEVENT
DTSTART;TZID=America/New_York:20300825T100000
DTEND;TZID=America/New_York:20300825T113000
DTSTAMP:20260425T084946
CREATED:20250804T154309Z
LAST-MODIFIED:20251110T154315Z
UID:10004199-1913882400-1913887800@ststeves.org
SUMMARY:Nursery
DESCRIPTION:Nursery care is available every fourth Sunday of the month during the 10 a.m. service.  Our lead nursery care attendant is safe church trained. We always have two people in the room with the children.
URL:https://ststeves.org/event/nursery/2030-08-25/
CATEGORIES:Parish Event
ATTACH;FMTTYPE=image/png:https://ststeves.org/wp-content/uploads/2025/08/Nursery-Care-1.png
END:VEVENT
BEGIN:VEVENT
DTSTART;TZID=America/New_York:20300908T100000
DTEND;TZID=America/New_York:20300908T111500
DTSTAMP:20260425T084946
CREATED:20250715T201320Z
LAST-MODIFIED:20251125T170559Z
UID:10004205-1915092000-1915096500@ststeves.org
SUMMARY:Family Sunday
DESCRIPTION:The Second Sunday of each month our 10 am service is devoted to family ministry\, and suitable to fall ages\, especially young children. There is a story sermon\, activities/crafts after church\, and lots of opportunities to be involved with worship at the level that you are comfortable. \nThese Sundays will be especially devoted to joy and celebrating our relationship with family\, friends\, and Jesus. \nFor those who are 4 years old + If you would like to participate in worship on a Second Sunday\, please let Rev. Erin know what Sundays you are present this fall and what you would like to help with! \nSept 14 – TBA \nOct  12 – Blessing of the Animals (Outside) \nNov 9 – TBA \nDec 14 – Brown Paper Bag Christmas Pageant (no rehearsal necessary) \nJan 11 – TBA \nFeb 8 – TBA \nMar 8 – TBA \nApr 12 – TBA \nMay 10 – TBA \nJun 14 –  TBA \nNursery Care will continue to run on the 4th Sunday of each month.
URL:https://ststeves.org/event/families-sunday-3/2030-09-08/
CATEGORIES:Parish Event
ATTACH;FMTTYPE=image/png:https://ststeves.org/wp-content/uploads/2023/10/This-one-.png
END:VEVENT
BEGIN:VEVENT
DTSTART;TZID=America/New_York:20300919T133000
DTEND;TZID=America/New_York:20300919T143000
DTSTAMP:20260425T084946
CREATED:20230223T193539Z
LAST-MODIFIED:20251227T231553Z
UID:10004266-1916055000-1916058600@ststeves.org
SUMMARY:St. Stephen's Book Club
DESCRIPTION:St. Stephen’s Book Club will be meeting on the third Thursday of every month at 1:30pm in the Parish Hall – except July\, August and December – \nJanuary 15 | February 19 | March 19 | April 16 | May 21 | June 18 | September 17 | October 15| November 19 \nFor more info\, email Betsy. \n 
URL:https://ststeves.org/event/st-stephens-book-club-4/2030-09-19/
LOCATION:St. Stephen’s Parish Hall\, 31 Main Street\, East Haddam\, Connecticut\, 06423
CATEGORIES:Parish Event
ATTACH;FMTTYPE=image/png:https://ststeves.org/wp-content/uploads/2023/02/St.-Stephens-book-club-4.png
END:VEVENT
BEGIN:VEVENT
DTSTART;TZID=America/New_York:20300922T100000
DTEND;TZID=America/New_York:20300922T113000
DTSTAMP:20260425T084946
CREATED:20250804T154309Z
LAST-MODIFIED:20251110T154315Z
UID:10004200-1916301600-1916307000@ststeves.org
SUMMARY:Nursery
DESCRIPTION:Nursery care is available every fourth Sunday of the month during the 10 a.m. service.  Our lead nursery care attendant is safe church trained. We always have two people in the room with the children.
URL:https://ststeves.org/event/nursery/2030-09-22/
CATEGORIES:Parish Event
ATTACH;FMTTYPE=image/png:https://ststeves.org/wp-content/uploads/2025/08/Nursery-Care-1.png
END:VEVENT
BEGIN:VEVENT
DTSTART;TZID=America/New_York:20301013T100000
DTEND;TZID=America/New_York:20301013T111500
DTSTAMP:20260425T084946
CREATED:20250715T201320Z
LAST-MODIFIED:20251125T170559Z
UID:10004206-1918116000-1918120500@ststeves.org
SUMMARY:Family Sunday
DESCRIPTION:The Second Sunday of each month our 10 am service is devoted to family ministry\, and suitable to fall ages\, especially young children. There is a story sermon\, activities/crafts after church\, and lots of opportunities to be involved with worship at the level that you are comfortable. \nThese Sundays will be especially devoted to joy and celebrating our relationship with family\, friends\, and Jesus. \nFor those who are 4 years old + If you would like to participate in worship on a Second Sunday\, please let Rev. Erin know what Sundays you are present this fall and what you would like to help with! \nSept 14 – TBA \nOct  12 – Blessing of the Animals (Outside) \nNov 9 – TBA \nDec 14 – Brown Paper Bag Christmas Pageant (no rehearsal necessary) \nJan 11 – TBA \nFeb 8 – TBA \nMar 8 – TBA \nApr 12 – TBA \nMay 10 – TBA \nJun 14 –  TBA \nNursery Care will continue to run on the 4th Sunday of each month.
URL:https://ststeves.org/event/families-sunday-3/2030-10-13/
CATEGORIES:Parish Event
ATTACH;FMTTYPE=image/png:https://ststeves.org/wp-content/uploads/2023/10/This-one-.png
END:VEVENT
BEGIN:VEVENT
DTSTART;TZID=America/New_York:20301017T133000
DTEND;TZID=America/New_York:20301017T143000
DTSTAMP:20260425T084946
CREATED:20230223T193539Z
LAST-MODIFIED:20251227T231553Z
UID:10004267-1918474200-1918477800@ststeves.org
SUMMARY:St. Stephen's Book Club
DESCRIPTION:St. Stephen’s Book Club will be meeting on the third Thursday of every month at 1:30pm in the Parish Hall – except July\, August and December – \nJanuary 15 | February 19 | March 19 | April 16 | May 21 | June 18 | September 17 | October 15| November 19 \nFor more info\, email Betsy. \n 
URL:https://ststeves.org/event/st-stephens-book-club-4/2030-10-17/
LOCATION:St. Stephen’s Parish Hall\, 31 Main Street\, East Haddam\, Connecticut\, 06423
CATEGORIES:Parish Event
ATTACH;FMTTYPE=image/png:https://ststeves.org/wp-content/uploads/2023/02/St.-Stephens-book-club-4.png
END:VEVENT
BEGIN:VEVENT
DTSTART;TZID=America/New_York:20301027T100000
DTEND;TZID=America/New_York:20301027T113000
DTSTAMP:20260425T084946
CREATED:20250804T154309Z
LAST-MODIFIED:20251110T154315Z
UID:10004201-1919325600-1919331000@ststeves.org
SUMMARY:Nursery
DESCRIPTION:Nursery care is available every fourth Sunday of the month during the 10 a.m. service.  Our lead nursery care attendant is safe church trained. We always have two people in the room with the children.
URL:https://ststeves.org/event/nursery/2030-10-27/
CATEGORIES:Parish Event
ATTACH;FMTTYPE=image/png:https://ststeves.org/wp-content/uploads/2025/08/Nursery-Care-1.png
END:VEVENT
BEGIN:VEVENT
DTSTART;TZID=America/New_York:20301110T100000
DTEND;TZID=America/New_York:20301110T111500
DTSTAMP:20260425T084946
CREATED:20250715T201320Z
LAST-MODIFIED:20251125T170559Z
UID:10004207-1920535200-1920539700@ststeves.org
SUMMARY:Family Sunday
DESCRIPTION:The Second Sunday of each month our 10 am service is devoted to family ministry\, and suitable to fall ages\, especially young children. There is a story sermon\, activities/crafts after church\, and lots of opportunities to be involved with worship at the level that you are comfortable. \nThese Sundays will be especially devoted to joy and celebrating our relationship with family\, friends\, and Jesus. \nFor those who are 4 years old + If you would like to participate in worship on a Second Sunday\, please let Rev. Erin know what Sundays you are present this fall and what you would like to help with! \nSept 14 – TBA \nOct  12 – Blessing of the Animals (Outside) \nNov 9 – TBA \nDec 14 – Brown Paper Bag Christmas Pageant (no rehearsal necessary) \nJan 11 – TBA \nFeb 8 – TBA \nMar 8 – TBA \nApr 12 – TBA \nMay 10 – TBA \nJun 14 –  TBA \nNursery Care will continue to run on the 4th Sunday of each month.
URL:https://ststeves.org/event/families-sunday-3/2030-11-10/
CATEGORIES:Parish Event
ATTACH;FMTTYPE=image/png:https://ststeves.org/wp-content/uploads/2023/10/This-one-.png
END:VEVENT
BEGIN:VEVENT
DTSTART;TZID=America/New_York:20301121T133000
DTEND;TZID=America/New_York:20301121T143000
DTSTAMP:20260425T084946
CREATED:20230223T193539Z
LAST-MODIFIED:20251227T231553Z
UID:10004268-1921498200-1921501800@ststeves.org
SUMMARY:St. Stephen's Book Club
DESCRIPTION:St. Stephen’s Book Club will be meeting on the third Thursday of every month at 1:30pm in the Parish Hall – except July\, August and December – \nJanuary 15 | February 19 | March 19 | April 16 | May 21 | June 18 | September 17 | October 15| November 19 \nFor more info\, email Betsy. \n 
URL:https://ststeves.org/event/st-stephens-book-club-4/2030-11-21/
LOCATION:St. Stephen’s Parish Hall\, 31 Main Street\, East Haddam\, Connecticut\, 06423
CATEGORIES:Parish Event
ATTACH;FMTTYPE=image/png:https://ststeves.org/wp-content/uploads/2023/02/St.-Stephens-book-club-4.png
END:VEVENT
BEGIN:VEVENT
DTSTART;TZID=America/New_York:20301219T133000
DTEND;TZID=America/New_York:20301219T143000
DTSTAMP:20260425T084946
CREATED:20230223T193539Z
LAST-MODIFIED:20251227T231553Z
UID:10004269-1923917400-1923921000@ststeves.org
SUMMARY:St. Stephen's Book Club
DESCRIPTION:St. Stephen’s Book Club will be meeting on the third Thursday of every month at 1:30pm in the Parish Hall – except July\, August and December – \nJanuary 15 | February 19 | March 19 | April 16 | May 21 | June 18 | September 17 | October 15| November 19 \nFor more info\, email Betsy. \n 
URL:https://ststeves.org/event/st-stephens-book-club-4/2030-12-19/
LOCATION:St. Stephen’s Parish Hall\, 31 Main Street\, East Haddam\, Connecticut\, 06423
CATEGORIES:Parish Event
ATTACH;FMTTYPE=image/png:https://ststeves.org/wp-content/uploads/2023/02/St.-Stephens-book-club-4.png
END:VEVENT
END:VCALENDAR