BEGIN:VCALENDAR
VERSION:2.0
PRODID:-//St. Stephen&#039;s Episcopal Church - ECPv6.15.20//NONSGML v1.0//EN
CALSCALE:GREGORIAN
METHOD:PUBLISH
X-ORIGINAL-URL:https://ststeves.org
X-WR-CALDESC:Events for St. Stephen&#039;s Episcopal Church
REFRESH-INTERVAL;VALUE=DURATION:PT1H
X-Robots-Tag:noindex
X-PUBLISHED-TTL:PT1H
BEGIN:VTIMEZONE
TZID:America/New_York
BEGIN:DAYLIGHT
TZOFFSETFROM:-0500
TZOFFSETTO:-0400
TZNAME:EDT
DTSTART:20250309T070000
END:DAYLIGHT
BEGIN:STANDARD
TZOFFSETFROM:-0400
TZOFFSETTO:-0500
TZNAME:EST
DTSTART:20251102T060000
END:STANDARD
BEGIN:DAYLIGHT
TZOFFSETFROM:-0500
TZOFFSETTO:-0400
TZNAME:EDT
DTSTART:20260308T070000
END:DAYLIGHT
BEGIN:STANDARD
TZOFFSETFROM:-0400
TZOFFSETTO:-0500
TZNAME:EST
DTSTART:20261101T060000
END:STANDARD
BEGIN:DAYLIGHT
TZOFFSETFROM:-0500
TZOFFSETTO:-0400
TZNAME:EDT
DTSTART:20270314T070000
END:DAYLIGHT
BEGIN:STANDARD
TZOFFSETFROM:-0400
TZOFFSETTO:-0500
TZNAME:EST
DTSTART:20271107T060000
END:STANDARD
BEGIN:DAYLIGHT
TZOFFSETFROM:-0500
TZOFFSETTO:-0400
TZNAME:EDT
DTSTART:20280312T070000
END:DAYLIGHT
BEGIN:STANDARD
TZOFFSETFROM:-0400
TZOFFSETTO:-0500
TZNAME:EST
DTSTART:20281105T060000
END:STANDARD
END:VTIMEZONE
BEGIN:VEVENT
DTSTART;TZID=America/New_York:20261212T080000
DTEND;TZID=America/New_York:20261212T130000
DTSTAMP:20260424T144807
CREATED:20260310T204631Z
LAST-MODIFIED:20260310T204631Z
UID:10004436-1797062400-1797080400@ststeves.org
SUMMARY:Annual Christmas Cookie Fair
DESCRIPTION:
URL:https://ststeves.org/event/annual-christmas-cookie-fair/
CATEGORIES:Parish Event
END:VEVENT
BEGIN:VEVENT
DTSTART;TZID=America/New_York:20261213T100000
DTEND;TZID=America/New_York:20261213T111500
DTSTAMP:20260424T144807
CREATED:20250715T201320Z
LAST-MODIFIED:20251125T170559Z
UID:10004063-1797156000-1797160500@ststeves.org
SUMMARY:Family Sunday
DESCRIPTION:The Second Sunday of each month our 10 am service is devoted to family ministry\, and suitable to fall ages\, especially young children. There is a story sermon\, activities/crafts after church\, and lots of opportunities to be involved with worship at the level that you are comfortable. \nThese Sundays will be especially devoted to joy and celebrating our relationship with family\, friends\, and Jesus. \nFor those who are 4 years old + If you would like to participate in worship on a Second Sunday\, please let Rev. Erin know what Sundays you are present this fall and what you would like to help with! \nSept 14 – TBA \nOct  12 – Blessing of the Animals (Outside) \nNov 9 – TBA \nDec 14 – Brown Paper Bag Christmas Pageant (no rehearsal necessary) \nJan 11 – TBA \nFeb 8 – TBA \nMar 8 – TBA \nApr 12 – TBA \nMay 10 – TBA \nJun 14 –  TBA \nNursery Care will continue to run on the 4th Sunday of each month.
URL:https://ststeves.org/event/families-sunday-3/2026-12-13/
CATEGORIES:Parish Event
ATTACH;FMTTYPE=image/png:https://ststeves.org/wp-content/uploads/2023/10/This-one-.png
END:VEVENT
BEGIN:VEVENT
DTSTART;TZID=America/New_York:20261227T100000
DTEND;TZID=America/New_York:20261227T113000
DTSTAMP:20260424T144807
CREATED:20250804T154309Z
LAST-MODIFIED:20251110T154315Z
UID:10004122-1798365600-1798371000@ststeves.org
SUMMARY:Nursery
DESCRIPTION:Nursery care is available every fourth Sunday of the month during the 10 a.m. service.  Our lead nursery care attendant is safe church trained. We always have two people in the room with the children.
URL:https://ststeves.org/event/nursery/2026-12-27/
CATEGORIES:Parish Event
ATTACH;FMTTYPE=image/png:https://ststeves.org/wp-content/uploads/2025/08/Nursery-Care-1.png
END:VEVENT
BEGIN:VEVENT
DTSTART;TZID=America/New_York:20270110T100000
DTEND;TZID=America/New_York:20270110T111500
DTSTAMP:20260424T144807
CREATED:20250715T201320Z
LAST-MODIFIED:20251125T170559Z
UID:10004064-1799575200-1799579700@ststeves.org
SUMMARY:Family Sunday
DESCRIPTION:The Second Sunday of each month our 10 am service is devoted to family ministry\, and suitable to fall ages\, especially young children. There is a story sermon\, activities/crafts after church\, and lots of opportunities to be involved with worship at the level that you are comfortable. \nThese Sundays will be especially devoted to joy and celebrating our relationship with family\, friends\, and Jesus. \nFor those who are 4 years old + If you would like to participate in worship on a Second Sunday\, please let Rev. Erin know what Sundays you are present this fall and what you would like to help with! \nSept 14 – TBA \nOct  12 – Blessing of the Animals (Outside) \nNov 9 – TBA \nDec 14 – Brown Paper Bag Christmas Pageant (no rehearsal necessary) \nJan 11 – TBA \nFeb 8 – TBA \nMar 8 – TBA \nApr 12 – TBA \nMay 10 – TBA \nJun 14 –  TBA \nNursery Care will continue to run on the 4th Sunday of each month.
URL:https://ststeves.org/event/families-sunday-3/2027-01-10/
CATEGORIES:Parish Event
ATTACH;FMTTYPE=image/png:https://ststeves.org/wp-content/uploads/2023/10/This-one-.png
END:VEVENT
BEGIN:VEVENT
DTSTART;TZID=America/New_York:20270121T133000
DTEND;TZID=America/New_York:20270121T143000
DTSTAMP:20260424T144807
CREATED:20230223T193539Z
LAST-MODIFIED:20251227T231553Z
UID:10004222-1800538200-1800541800@ststeves.org
SUMMARY:St. Stephen's Book Club
DESCRIPTION:St. Stephen’s Book Club will be meeting on the third Thursday of every month at 1:30pm in the Parish Hall – except July\, August and December – \nJanuary 15 | February 19 | March 19 | April 16 | May 21 | June 18 | September 17 | October 15| November 19 \nFor more info\, email Betsy. \n 
URL:https://ststeves.org/event/st-stephens-book-club-4/2027-01-21/
LOCATION:St. Stephen’s Parish Hall\, 31 Main Street\, East Haddam\, Connecticut\, 06423
CATEGORIES:Parish Event
ATTACH;FMTTYPE=image/png:https://ststeves.org/wp-content/uploads/2023/02/St.-Stephens-book-club-4.png
END:VEVENT
BEGIN:VEVENT
DTSTART;TZID=America/New_York:20270124T100000
DTEND;TZID=America/New_York:20270124T113000
DTSTAMP:20260424T144807
CREATED:20250804T154309Z
LAST-MODIFIED:20251110T154315Z
UID:10004123-1800784800-1800790200@ststeves.org
SUMMARY:Nursery
DESCRIPTION:Nursery care is available every fourth Sunday of the month during the 10 a.m. service.  Our lead nursery care attendant is safe church trained. We always have two people in the room with the children.
URL:https://ststeves.org/event/nursery/2027-01-24/
CATEGORIES:Parish Event
ATTACH;FMTTYPE=image/png:https://ststeves.org/wp-content/uploads/2025/08/Nursery-Care-1.png
END:VEVENT
BEGIN:VEVENT
DTSTART;TZID=America/New_York:20270214T100000
DTEND;TZID=America/New_York:20270214T111500
DTSTAMP:20260424T144807
CREATED:20250715T201320Z
LAST-MODIFIED:20251125T170559Z
UID:10004065-1802599200-1802603700@ststeves.org
SUMMARY:Family Sunday
DESCRIPTION:The Second Sunday of each month our 10 am service is devoted to family ministry\, and suitable to fall ages\, especially young children. There is a story sermon\, activities/crafts after church\, and lots of opportunities to be involved with worship at the level that you are comfortable. \nThese Sundays will be especially devoted to joy and celebrating our relationship with family\, friends\, and Jesus. \nFor those who are 4 years old + If you would like to participate in worship on a Second Sunday\, please let Rev. Erin know what Sundays you are present this fall and what you would like to help with! \nSept 14 – TBA \nOct  12 – Blessing of the Animals (Outside) \nNov 9 – TBA \nDec 14 – Brown Paper Bag Christmas Pageant (no rehearsal necessary) \nJan 11 – TBA \nFeb 8 – TBA \nMar 8 – TBA \nApr 12 – TBA \nMay 10 – TBA \nJun 14 –  TBA \nNursery Care will continue to run on the 4th Sunday of each month.
URL:https://ststeves.org/event/families-sunday-3/2027-02-14/
CATEGORIES:Parish Event
ATTACH;FMTTYPE=image/png:https://ststeves.org/wp-content/uploads/2023/10/This-one-.png
END:VEVENT
BEGIN:VEVENT
DTSTART;TZID=America/New_York:20270218T133000
DTEND;TZID=America/New_York:20270218T143000
DTSTAMP:20260424T144807
CREATED:20230223T193539Z
LAST-MODIFIED:20251227T231553Z
UID:10004223-1802957400-1802961000@ststeves.org
SUMMARY:St. Stephen's Book Club
DESCRIPTION:St. Stephen’s Book Club will be meeting on the third Thursday of every month at 1:30pm in the Parish Hall – except July\, August and December – \nJanuary 15 | February 19 | March 19 | April 16 | May 21 | June 18 | September 17 | October 15| November 19 \nFor more info\, email Betsy. \n 
URL:https://ststeves.org/event/st-stephens-book-club-4/2027-02-18/
LOCATION:St. Stephen’s Parish Hall\, 31 Main Street\, East Haddam\, Connecticut\, 06423
CATEGORIES:Parish Event
ATTACH;FMTTYPE=image/png:https://ststeves.org/wp-content/uploads/2023/02/St.-Stephens-book-club-4.png
END:VEVENT
BEGIN:VEVENT
DTSTART;TZID=America/New_York:20270228T100000
DTEND;TZID=America/New_York:20270228T113000
DTSTAMP:20260424T144807
CREATED:20250804T154309Z
LAST-MODIFIED:20251110T154315Z
UID:10004124-1803808800-1803814200@ststeves.org
SUMMARY:Nursery
DESCRIPTION:Nursery care is available every fourth Sunday of the month during the 10 a.m. service.  Our lead nursery care attendant is safe church trained. We always have two people in the room with the children.
URL:https://ststeves.org/event/nursery/2027-02-28/
CATEGORIES:Parish Event
ATTACH;FMTTYPE=image/png:https://ststeves.org/wp-content/uploads/2025/08/Nursery-Care-1.png
END:VEVENT
BEGIN:VEVENT
DTSTART;TZID=America/New_York:20270314T100000
DTEND;TZID=America/New_York:20270314T111500
DTSTAMP:20260424T144807
CREATED:20250715T201320Z
LAST-MODIFIED:20251125T170559Z
UID:10004066-1805018400-1805022900@ststeves.org
SUMMARY:Family Sunday
DESCRIPTION:The Second Sunday of each month our 10 am service is devoted to family ministry\, and suitable to fall ages\, especially young children. There is a story sermon\, activities/crafts after church\, and lots of opportunities to be involved with worship at the level that you are comfortable. \nThese Sundays will be especially devoted to joy and celebrating our relationship with family\, friends\, and Jesus. \nFor those who are 4 years old + If you would like to participate in worship on a Second Sunday\, please let Rev. Erin know what Sundays you are present this fall and what you would like to help with! \nSept 14 – TBA \nOct  12 – Blessing of the Animals (Outside) \nNov 9 – TBA \nDec 14 – Brown Paper Bag Christmas Pageant (no rehearsal necessary) \nJan 11 – TBA \nFeb 8 – TBA \nMar 8 – TBA \nApr 12 – TBA \nMay 10 – TBA \nJun 14 –  TBA \nNursery Care will continue to run on the 4th Sunday of each month.
URL:https://ststeves.org/event/families-sunday-3/2027-03-14/
CATEGORIES:Parish Event
ATTACH;FMTTYPE=image/png:https://ststeves.org/wp-content/uploads/2023/10/This-one-.png
END:VEVENT
BEGIN:VEVENT
DTSTART;TZID=America/New_York:20270318T133000
DTEND;TZID=America/New_York:20270318T143000
DTSTAMP:20260424T144807
CREATED:20230223T193539Z
LAST-MODIFIED:20251227T231553Z
UID:10004224-1805376600-1805380200@ststeves.org
SUMMARY:St. Stephen's Book Club
DESCRIPTION:St. Stephen’s Book Club will be meeting on the third Thursday of every month at 1:30pm in the Parish Hall – except July\, August and December – \nJanuary 15 | February 19 | March 19 | April 16 | May 21 | June 18 | September 17 | October 15| November 19 \nFor more info\, email Betsy. \n 
URL:https://ststeves.org/event/st-stephens-book-club-4/2027-03-18/
LOCATION:St. Stephen’s Parish Hall\, 31 Main Street\, East Haddam\, Connecticut\, 06423
CATEGORIES:Parish Event
ATTACH;FMTTYPE=image/png:https://ststeves.org/wp-content/uploads/2023/02/St.-Stephens-book-club-4.png
END:VEVENT
BEGIN:VEVENT
DTSTART;TZID=America/New_York:20270328T100000
DTEND;TZID=America/New_York:20270328T113000
DTSTAMP:20260424T144807
CREATED:20250804T154309Z
LAST-MODIFIED:20251110T154315Z
UID:10004125-1806228000-1806233400@ststeves.org
SUMMARY:Nursery
DESCRIPTION:Nursery care is available every fourth Sunday of the month during the 10 a.m. service.  Our lead nursery care attendant is safe church trained. We always have two people in the room with the children.
URL:https://ststeves.org/event/nursery/2027-03-28/
CATEGORIES:Parish Event
ATTACH;FMTTYPE=image/png:https://ststeves.org/wp-content/uploads/2025/08/Nursery-Care-1.png
END:VEVENT
BEGIN:VEVENT
DTSTART;TZID=America/New_York:20270411T100000
DTEND;TZID=America/New_York:20270411T111500
DTSTAMP:20260424T144807
CREATED:20250715T201320Z
LAST-MODIFIED:20251125T170559Z
UID:10004067-1807437600-1807442100@ststeves.org
SUMMARY:Family Sunday
DESCRIPTION:The Second Sunday of each month our 10 am service is devoted to family ministry\, and suitable to fall ages\, especially young children. There is a story sermon\, activities/crafts after church\, and lots of opportunities to be involved with worship at the level that you are comfortable. \nThese Sundays will be especially devoted to joy and celebrating our relationship with family\, friends\, and Jesus. \nFor those who are 4 years old + If you would like to participate in worship on a Second Sunday\, please let Rev. Erin know what Sundays you are present this fall and what you would like to help with! \nSept 14 – TBA \nOct  12 – Blessing of the Animals (Outside) \nNov 9 – TBA \nDec 14 – Brown Paper Bag Christmas Pageant (no rehearsal necessary) \nJan 11 – TBA \nFeb 8 – TBA \nMar 8 – TBA \nApr 12 – TBA \nMay 10 – TBA \nJun 14 –  TBA \nNursery Care will continue to run on the 4th Sunday of each month.
URL:https://ststeves.org/event/families-sunday-3/2027-04-11/
CATEGORIES:Parish Event
ATTACH;FMTTYPE=image/png:https://ststeves.org/wp-content/uploads/2023/10/This-one-.png
END:VEVENT
BEGIN:VEVENT
DTSTART;TZID=America/New_York:20270415T133000
DTEND;TZID=America/New_York:20270415T143000
DTSTAMP:20260424T144807
CREATED:20230223T193539Z
LAST-MODIFIED:20251227T231553Z
UID:10004225-1807795800-1807799400@ststeves.org
SUMMARY:St. Stephen's Book Club
DESCRIPTION:St. Stephen’s Book Club will be meeting on the third Thursday of every month at 1:30pm in the Parish Hall – except July\, August and December – \nJanuary 15 | February 19 | March 19 | April 16 | May 21 | June 18 | September 17 | October 15| November 19 \nFor more info\, email Betsy. \n 
URL:https://ststeves.org/event/st-stephens-book-club-4/2027-04-15/
LOCATION:St. Stephen’s Parish Hall\, 31 Main Street\, East Haddam\, Connecticut\, 06423
CATEGORIES:Parish Event
ATTACH;FMTTYPE=image/png:https://ststeves.org/wp-content/uploads/2023/02/St.-Stephens-book-club-4.png
END:VEVENT
BEGIN:VEVENT
DTSTART;TZID=America/New_York:20270425T100000
DTEND;TZID=America/New_York:20270425T113000
DTSTAMP:20260424T144807
CREATED:20250804T154309Z
LAST-MODIFIED:20251110T154315Z
UID:10004126-1808647200-1808652600@ststeves.org
SUMMARY:Nursery
DESCRIPTION:Nursery care is available every fourth Sunday of the month during the 10 a.m. service.  Our lead nursery care attendant is safe church trained. We always have two people in the room with the children.
URL:https://ststeves.org/event/nursery/2027-04-25/
CATEGORIES:Parish Event
ATTACH;FMTTYPE=image/png:https://ststeves.org/wp-content/uploads/2025/08/Nursery-Care-1.png
END:VEVENT
BEGIN:VEVENT
DTSTART;TZID=America/New_York:20270509T100000
DTEND;TZID=America/New_York:20270509T111500
DTSTAMP:20260424T144807
CREATED:20250715T201320Z
LAST-MODIFIED:20251125T170559Z
UID:10004068-1809856800-1809861300@ststeves.org
SUMMARY:Family Sunday
DESCRIPTION:The Second Sunday of each month our 10 am service is devoted to family ministry\, and suitable to fall ages\, especially young children. There is a story sermon\, activities/crafts after church\, and lots of opportunities to be involved with worship at the level that you are comfortable. \nThese Sundays will be especially devoted to joy and celebrating our relationship with family\, friends\, and Jesus. \nFor those who are 4 years old + If you would like to participate in worship on a Second Sunday\, please let Rev. Erin know what Sundays you are present this fall and what you would like to help with! \nSept 14 – TBA \nOct  12 – Blessing of the Animals (Outside) \nNov 9 – TBA \nDec 14 – Brown Paper Bag Christmas Pageant (no rehearsal necessary) \nJan 11 – TBA \nFeb 8 – TBA \nMar 8 – TBA \nApr 12 – TBA \nMay 10 – TBA \nJun 14 –  TBA \nNursery Care will continue to run on the 4th Sunday of each month.
URL:https://ststeves.org/event/families-sunday-3/2027-05-09/
CATEGORIES:Parish Event
ATTACH;FMTTYPE=image/png:https://ststeves.org/wp-content/uploads/2023/10/This-one-.png
END:VEVENT
BEGIN:VEVENT
DTSTART;TZID=America/New_York:20270520T133000
DTEND;TZID=America/New_York:20270520T143000
DTSTAMP:20260424T144807
CREATED:20230223T193539Z
LAST-MODIFIED:20251227T231553Z
UID:10004226-1810819800-1810823400@ststeves.org
SUMMARY:St. Stephen's Book Club
DESCRIPTION:St. Stephen’s Book Club will be meeting on the third Thursday of every month at 1:30pm in the Parish Hall – except July\, August and December – \nJanuary 15 | February 19 | March 19 | April 16 | May 21 | June 18 | September 17 | October 15| November 19 \nFor more info\, email Betsy. \n 
URL:https://ststeves.org/event/st-stephens-book-club-4/2027-05-20/
LOCATION:St. Stephen’s Parish Hall\, 31 Main Street\, East Haddam\, Connecticut\, 06423
CATEGORIES:Parish Event
ATTACH;FMTTYPE=image/png:https://ststeves.org/wp-content/uploads/2023/02/St.-Stephens-book-club-4.png
END:VEVENT
BEGIN:VEVENT
DTSTART;TZID=America/New_York:20270523T100000
DTEND;TZID=America/New_York:20270523T113000
DTSTAMP:20260424T144807
CREATED:20250804T154309Z
LAST-MODIFIED:20251110T154315Z
UID:10004127-1811066400-1811071800@ststeves.org
SUMMARY:Nursery
DESCRIPTION:Nursery care is available every fourth Sunday of the month during the 10 a.m. service.  Our lead nursery care attendant is safe church trained. We always have two people in the room with the children.
URL:https://ststeves.org/event/nursery/2027-05-23/
CATEGORIES:Parish Event
ATTACH;FMTTYPE=image/png:https://ststeves.org/wp-content/uploads/2025/08/Nursery-Care-1.png
END:VEVENT
BEGIN:VEVENT
DTSTART;TZID=America/New_York:20270613T100000
DTEND;TZID=America/New_York:20270613T111500
DTSTAMP:20260424T144807
CREATED:20250715T201320Z
LAST-MODIFIED:20251125T170559Z
UID:10004069-1812880800-1812885300@ststeves.org
SUMMARY:Family Sunday
DESCRIPTION:The Second Sunday of each month our 10 am service is devoted to family ministry\, and suitable to fall ages\, especially young children. There is a story sermon\, activities/crafts after church\, and lots of opportunities to be involved with worship at the level that you are comfortable. \nThese Sundays will be especially devoted to joy and celebrating our relationship with family\, friends\, and Jesus. \nFor those who are 4 years old + If you would like to participate in worship on a Second Sunday\, please let Rev. Erin know what Sundays you are present this fall and what you would like to help with! \nSept 14 – TBA \nOct  12 – Blessing of the Animals (Outside) \nNov 9 – TBA \nDec 14 – Brown Paper Bag Christmas Pageant (no rehearsal necessary) \nJan 11 – TBA \nFeb 8 – TBA \nMar 8 – TBA \nApr 12 – TBA \nMay 10 – TBA \nJun 14 –  TBA \nNursery Care will continue to run on the 4th Sunday of each month.
URL:https://ststeves.org/event/families-sunday-3/2027-06-13/
CATEGORIES:Parish Event
ATTACH;FMTTYPE=image/png:https://ststeves.org/wp-content/uploads/2023/10/This-one-.png
END:VEVENT
BEGIN:VEVENT
DTSTART;TZID=America/New_York:20270617T133000
DTEND;TZID=America/New_York:20270617T143000
DTSTAMP:20260424T144807
CREATED:20230223T193539Z
LAST-MODIFIED:20251227T231553Z
UID:10004227-1813239000-1813242600@ststeves.org
SUMMARY:St. Stephen's Book Club
DESCRIPTION:St. Stephen’s Book Club will be meeting on the third Thursday of every month at 1:30pm in the Parish Hall – except July\, August and December – \nJanuary 15 | February 19 | March 19 | April 16 | May 21 | June 18 | September 17 | October 15| November 19 \nFor more info\, email Betsy. \n 
URL:https://ststeves.org/event/st-stephens-book-club-4/2027-06-17/
LOCATION:St. Stephen’s Parish Hall\, 31 Main Street\, East Haddam\, Connecticut\, 06423
CATEGORIES:Parish Event
ATTACH;FMTTYPE=image/png:https://ststeves.org/wp-content/uploads/2023/02/St.-Stephens-book-club-4.png
END:VEVENT
BEGIN:VEVENT
DTSTART;TZID=America/New_York:20270627T100000
DTEND;TZID=America/New_York:20270627T113000
DTSTAMP:20260424T144807
CREATED:20250804T154309Z
LAST-MODIFIED:20251110T154315Z
UID:10004128-1814090400-1814095800@ststeves.org
SUMMARY:Nursery
DESCRIPTION:Nursery care is available every fourth Sunday of the month during the 10 a.m. service.  Our lead nursery care attendant is safe church trained. We always have two people in the room with the children.
URL:https://ststeves.org/event/nursery/2027-06-27/
CATEGORIES:Parish Event
ATTACH;FMTTYPE=image/png:https://ststeves.org/wp-content/uploads/2025/08/Nursery-Care-1.png
END:VEVENT
BEGIN:VEVENT
DTSTART;TZID=America/New_York:20270711T100000
DTEND;TZID=America/New_York:20270711T111500
DTSTAMP:20260424T144807
CREATED:20250715T201320Z
LAST-MODIFIED:20251125T170559Z
UID:10004070-1815300000-1815304500@ststeves.org
SUMMARY:Family Sunday
DESCRIPTION:The Second Sunday of each month our 10 am service is devoted to family ministry\, and suitable to fall ages\, especially young children. There is a story sermon\, activities/crafts after church\, and lots of opportunities to be involved with worship at the level that you are comfortable. \nThese Sundays will be especially devoted to joy and celebrating our relationship with family\, friends\, and Jesus. \nFor those who are 4 years old + If you would like to participate in worship on a Second Sunday\, please let Rev. Erin know what Sundays you are present this fall and what you would like to help with! \nSept 14 – TBA \nOct  12 – Blessing of the Animals (Outside) \nNov 9 – TBA \nDec 14 – Brown Paper Bag Christmas Pageant (no rehearsal necessary) \nJan 11 – TBA \nFeb 8 – TBA \nMar 8 – TBA \nApr 12 – TBA \nMay 10 – TBA \nJun 14 –  TBA \nNursery Care will continue to run on the 4th Sunday of each month.
URL:https://ststeves.org/event/families-sunday-3/2027-07-11/
CATEGORIES:Parish Event
ATTACH;FMTTYPE=image/png:https://ststeves.org/wp-content/uploads/2023/10/This-one-.png
END:VEVENT
BEGIN:VEVENT
DTSTART;TZID=America/New_York:20270715T133000
DTEND;TZID=America/New_York:20270715T143000
DTSTAMP:20260424T144807
CREATED:20230223T193539Z
LAST-MODIFIED:20251227T231553Z
UID:10004228-1815658200-1815661800@ststeves.org
SUMMARY:St. Stephen's Book Club
DESCRIPTION:St. Stephen’s Book Club will be meeting on the third Thursday of every month at 1:30pm in the Parish Hall – except July\, August and December – \nJanuary 15 | February 19 | March 19 | April 16 | May 21 | June 18 | September 17 | October 15| November 19 \nFor more info\, email Betsy. \n 
URL:https://ststeves.org/event/st-stephens-book-club-4/2027-07-15/
LOCATION:St. Stephen’s Parish Hall\, 31 Main Street\, East Haddam\, Connecticut\, 06423
CATEGORIES:Parish Event
ATTACH;FMTTYPE=image/png:https://ststeves.org/wp-content/uploads/2023/02/St.-Stephens-book-club-4.png
END:VEVENT
BEGIN:VEVENT
DTSTART;TZID=America/New_York:20270725T100000
DTEND;TZID=America/New_York:20270725T113000
DTSTAMP:20260424T144807
CREATED:20250804T154309Z
LAST-MODIFIED:20251110T154315Z
UID:10004129-1816509600-1816515000@ststeves.org
SUMMARY:Nursery
DESCRIPTION:Nursery care is available every fourth Sunday of the month during the 10 a.m. service.  Our lead nursery care attendant is safe church trained. We always have two people in the room with the children.
URL:https://ststeves.org/event/nursery/2027-07-25/
CATEGORIES:Parish Event
ATTACH;FMTTYPE=image/png:https://ststeves.org/wp-content/uploads/2025/08/Nursery-Care-1.png
END:VEVENT
BEGIN:VEVENT
DTSTART;TZID=America/New_York:20270808T100000
DTEND;TZID=America/New_York:20270808T111500
DTSTAMP:20260424T144807
CREATED:20250715T201320Z
LAST-MODIFIED:20251125T170559Z
UID:10004071-1817719200-1817723700@ststeves.org
SUMMARY:Family Sunday
DESCRIPTION:The Second Sunday of each month our 10 am service is devoted to family ministry\, and suitable to fall ages\, especially young children. There is a story sermon\, activities/crafts after church\, and lots of opportunities to be involved with worship at the level that you are comfortable. \nThese Sundays will be especially devoted to joy and celebrating our relationship with family\, friends\, and Jesus. \nFor those who are 4 years old + If you would like to participate in worship on a Second Sunday\, please let Rev. Erin know what Sundays you are present this fall and what you would like to help with! \nSept 14 – TBA \nOct  12 – Blessing of the Animals (Outside) \nNov 9 – TBA \nDec 14 – Brown Paper Bag Christmas Pageant (no rehearsal necessary) \nJan 11 – TBA \nFeb 8 – TBA \nMar 8 – TBA \nApr 12 – TBA \nMay 10 – TBA \nJun 14 –  TBA \nNursery Care will continue to run on the 4th Sunday of each month.
URL:https://ststeves.org/event/families-sunday-3/2027-08-08/
CATEGORIES:Parish Event
ATTACH;FMTTYPE=image/png:https://ststeves.org/wp-content/uploads/2023/10/This-one-.png
END:VEVENT
BEGIN:VEVENT
DTSTART;TZID=America/New_York:20270819T133000
DTEND;TZID=America/New_York:20270819T143000
DTSTAMP:20260424T144807
CREATED:20230223T193539Z
LAST-MODIFIED:20251227T231553Z
UID:10004229-1818682200-1818685800@ststeves.org
SUMMARY:St. Stephen's Book Club
DESCRIPTION:St. Stephen’s Book Club will be meeting on the third Thursday of every month at 1:30pm in the Parish Hall – except July\, August and December – \nJanuary 15 | February 19 | March 19 | April 16 | May 21 | June 18 | September 17 | October 15| November 19 \nFor more info\, email Betsy. \n 
URL:https://ststeves.org/event/st-stephens-book-club-4/2027-08-19/
LOCATION:St. Stephen’s Parish Hall\, 31 Main Street\, East Haddam\, Connecticut\, 06423
CATEGORIES:Parish Event
ATTACH;FMTTYPE=image/png:https://ststeves.org/wp-content/uploads/2023/02/St.-Stephens-book-club-4.png
END:VEVENT
BEGIN:VEVENT
DTSTART;TZID=America/New_York:20270822T100000
DTEND;TZID=America/New_York:20270822T113000
DTSTAMP:20260424T144807
CREATED:20250804T154309Z
LAST-MODIFIED:20251110T154315Z
UID:10004130-1818928800-1818934200@ststeves.org
SUMMARY:Nursery
DESCRIPTION:Nursery care is available every fourth Sunday of the month during the 10 a.m. service.  Our lead nursery care attendant is safe church trained. We always have two people in the room with the children.
URL:https://ststeves.org/event/nursery/2027-08-22/
CATEGORIES:Parish Event
ATTACH;FMTTYPE=image/png:https://ststeves.org/wp-content/uploads/2025/08/Nursery-Care-1.png
END:VEVENT
BEGIN:VEVENT
DTSTART;TZID=America/New_York:20270912T100000
DTEND;TZID=America/New_York:20270912T111500
DTSTAMP:20260424T144807
CREATED:20250715T201320Z
LAST-MODIFIED:20251125T170559Z
UID:10004072-1820743200-1820747700@ststeves.org
SUMMARY:Family Sunday
DESCRIPTION:The Second Sunday of each month our 10 am service is devoted to family ministry\, and suitable to fall ages\, especially young children. There is a story sermon\, activities/crafts after church\, and lots of opportunities to be involved with worship at the level that you are comfortable. \nThese Sundays will be especially devoted to joy and celebrating our relationship with family\, friends\, and Jesus. \nFor those who are 4 years old + If you would like to participate in worship on a Second Sunday\, please let Rev. Erin know what Sundays you are present this fall and what you would like to help with! \nSept 14 – TBA \nOct  12 – Blessing of the Animals (Outside) \nNov 9 – TBA \nDec 14 – Brown Paper Bag Christmas Pageant (no rehearsal necessary) \nJan 11 – TBA \nFeb 8 – TBA \nMar 8 – TBA \nApr 12 – TBA \nMay 10 – TBA \nJun 14 –  TBA \nNursery Care will continue to run on the 4th Sunday of each month.
URL:https://ststeves.org/event/families-sunday-3/2027-09-12/
CATEGORIES:Parish Event
ATTACH;FMTTYPE=image/png:https://ststeves.org/wp-content/uploads/2023/10/This-one-.png
END:VEVENT
BEGIN:VEVENT
DTSTART;TZID=America/New_York:20270916T133000
DTEND;TZID=America/New_York:20270916T143000
DTSTAMP:20260424T144807
CREATED:20230223T193539Z
LAST-MODIFIED:20251227T231553Z
UID:10004230-1821101400-1821105000@ststeves.org
SUMMARY:St. Stephen's Book Club
DESCRIPTION:St. Stephen’s Book Club will be meeting on the third Thursday of every month at 1:30pm in the Parish Hall – except July\, August and December – \nJanuary 15 | February 19 | March 19 | April 16 | May 21 | June 18 | September 17 | October 15| November 19 \nFor more info\, email Betsy. \n 
URL:https://ststeves.org/event/st-stephens-book-club-4/2027-09-16/
LOCATION:St. Stephen’s Parish Hall\, 31 Main Street\, East Haddam\, Connecticut\, 06423
CATEGORIES:Parish Event
ATTACH;FMTTYPE=image/png:https://ststeves.org/wp-content/uploads/2023/02/St.-Stephens-book-club-4.png
END:VEVENT
BEGIN:VEVENT
DTSTART;TZID=America/New_York:20270926T100000
DTEND;TZID=America/New_York:20270926T113000
DTSTAMP:20260424T144807
CREATED:20250804T154309Z
LAST-MODIFIED:20251110T154315Z
UID:10004131-1821952800-1821958200@ststeves.org
SUMMARY:Nursery
DESCRIPTION:Nursery care is available every fourth Sunday of the month during the 10 a.m. service.  Our lead nursery care attendant is safe church trained. We always have two people in the room with the children.
URL:https://ststeves.org/event/nursery/2027-09-26/
CATEGORIES:Parish Event
ATTACH;FMTTYPE=image/png:https://ststeves.org/wp-content/uploads/2025/08/Nursery-Care-1.png
END:VEVENT
END:VCALENDAR