BEGIN:VCALENDAR
VERSION:2.0
PRODID:-//St. Stephen&#039;s Episcopal Church - ECPv6.15.20//NONSGML v1.0//EN
CALSCALE:GREGORIAN
METHOD:PUBLISH
X-WR-CALNAME:St. Stephen&#039;s Episcopal Church
X-ORIGINAL-URL:https://ststeves.org
X-WR-CALDESC:Events for St. Stephen&#039;s Episcopal Church
REFRESH-INTERVAL;VALUE=DURATION:PT1H
X-Robots-Tag:noindex
X-PUBLISHED-TTL:PT1H
BEGIN:VTIMEZONE
TZID:America/New_York
BEGIN:DAYLIGHT
TZOFFSETFROM:-0500
TZOFFSETTO:-0400
TZNAME:EDT
DTSTART:20260308T070000
END:DAYLIGHT
BEGIN:STANDARD
TZOFFSETFROM:-0400
TZOFFSETTO:-0500
TZNAME:EST
DTSTART:20261101T060000
END:STANDARD
BEGIN:DAYLIGHT
TZOFFSETFROM:-0500
TZOFFSETTO:-0400
TZNAME:EDT
DTSTART:20270314T070000
END:DAYLIGHT
BEGIN:STANDARD
TZOFFSETFROM:-0400
TZOFFSETTO:-0500
TZNAME:EST
DTSTART:20271107T060000
END:STANDARD
BEGIN:DAYLIGHT
TZOFFSETFROM:-0500
TZOFFSETTO:-0400
TZNAME:EDT
DTSTART:20280312T070000
END:DAYLIGHT
BEGIN:STANDARD
TZOFFSETFROM:-0400
TZOFFSETTO:-0500
TZNAME:EST
DTSTART:20281105T060000
END:STANDARD
BEGIN:DAYLIGHT
TZOFFSETFROM:-0500
TZOFFSETTO:-0400
TZNAME:EDT
DTSTART:20290311T070000
END:DAYLIGHT
BEGIN:STANDARD
TZOFFSETFROM:-0400
TZOFFSETTO:-0500
TZNAME:EST
DTSTART:20291104T060000
END:STANDARD
END:VTIMEZONE
BEGIN:VEVENT
DTSTART;TZID=America/New_York:20271108T100000
DTEND;TZID=America/New_York:20271108T120000
DTSTAMP:20260424T235749
CREATED:20250421T181905Z
LAST-MODIFIED:20250421T181905Z
UID:10003843-1825668000-1825675200@ststeves.org
SUMMARY:Hungry Lion
DESCRIPTION:Kyle Killay  Uses Kitchen Monday morning to sanitize dishes from food truck
URL:https://ststeves.org/event/hungry-lion/2027-11-08/
CATEGORIES:Rental
END:VEVENT
BEGIN:VEVENT
DTSTART;TZID=America/New_York:20271110T100000
DTEND;TZID=America/New_York:20271110T130000
DTSTAMP:20260424T235749
CREATED:20250402T150347Z
LAST-MODIFIED:20250402T150616Z
UID:10003679-1825840800-1825851600@ststeves.org
SUMMARY:EH Garden Club
DESCRIPTION:
URL:https://ststeves.org/event/eh-garden-club/2027-11-10/
CATEGORIES:Rental
END:VEVENT
BEGIN:VEVENT
DTSTART;TZID=America/New_York:20271115T100000
DTEND;TZID=America/New_York:20271115T120000
DTSTAMP:20260424T235749
CREATED:20250421T181905Z
LAST-MODIFIED:20250421T181905Z
UID:10003844-1826272800-1826280000@ststeves.org
SUMMARY:Hungry Lion
DESCRIPTION:Kyle Killay  Uses Kitchen Monday morning to sanitize dishes from food truck
URL:https://ststeves.org/event/hungry-lion/2027-11-15/
CATEGORIES:Rental
END:VEVENT
BEGIN:VEVENT
DTSTART;TZID=America/New_York:20271122T100000
DTEND;TZID=America/New_York:20271122T120000
DTSTAMP:20260424T235749
CREATED:20250421T181905Z
LAST-MODIFIED:20250421T181905Z
UID:10003845-1826877600-1826884800@ststeves.org
SUMMARY:Hungry Lion
DESCRIPTION:Kyle Killay  Uses Kitchen Monday morning to sanitize dishes from food truck
URL:https://ststeves.org/event/hungry-lion/2027-11-22/
CATEGORIES:Rental
END:VEVENT
BEGIN:VEVENT
DTSTART;TZID=America/New_York:20271129T100000
DTEND;TZID=America/New_York:20271129T120000
DTSTAMP:20260424T235749
CREATED:20250421T181905Z
LAST-MODIFIED:20250421T181905Z
UID:10003846-1827482400-1827489600@ststeves.org
SUMMARY:Hungry Lion
DESCRIPTION:Kyle Killay  Uses Kitchen Monday morning to sanitize dishes from food truck
URL:https://ststeves.org/event/hungry-lion/2027-11-29/
CATEGORIES:Rental
END:VEVENT
BEGIN:VEVENT
DTSTART;TZID=America/New_York:20271206T100000
DTEND;TZID=America/New_York:20271206T120000
DTSTAMP:20260424T235749
CREATED:20250421T181905Z
LAST-MODIFIED:20250421T181905Z
UID:10003847-1828087200-1828094400@ststeves.org
SUMMARY:Hungry Lion
DESCRIPTION:Kyle Killay  Uses Kitchen Monday morning to sanitize dishes from food truck
URL:https://ststeves.org/event/hungry-lion/2027-12-06/
CATEGORIES:Rental
END:VEVENT
BEGIN:VEVENT
DTSTART;TZID=America/New_York:20271208T100000
DTEND;TZID=America/New_York:20271208T130000
DTSTAMP:20260424T235749
CREATED:20250402T150347Z
LAST-MODIFIED:20250402T150616Z
UID:10003680-1828260000-1828270800@ststeves.org
SUMMARY:EH Garden Club
DESCRIPTION:
URL:https://ststeves.org/event/eh-garden-club/2027-12-08/
CATEGORIES:Rental
END:VEVENT
BEGIN:VEVENT
DTSTART;TZID=America/New_York:20271213T100000
DTEND;TZID=America/New_York:20271213T120000
DTSTAMP:20260424T235749
CREATED:20250421T181905Z
LAST-MODIFIED:20250421T181905Z
UID:10003848-1828692000-1828699200@ststeves.org
SUMMARY:Hungry Lion
DESCRIPTION:Kyle Killay  Uses Kitchen Monday morning to sanitize dishes from food truck
URL:https://ststeves.org/event/hungry-lion/2027-12-13/
CATEGORIES:Rental
END:VEVENT
BEGIN:VEVENT
DTSTART;TZID=America/New_York:20271220T100000
DTEND;TZID=America/New_York:20271220T120000
DTSTAMP:20260424T235749
CREATED:20250421T181905Z
LAST-MODIFIED:20250421T181905Z
UID:10003849-1829296800-1829304000@ststeves.org
SUMMARY:Hungry Lion
DESCRIPTION:Kyle Killay  Uses Kitchen Monday morning to sanitize dishes from food truck
URL:https://ststeves.org/event/hungry-lion/2027-12-20/
CATEGORIES:Rental
END:VEVENT
BEGIN:VEVENT
DTSTART;TZID=America/New_York:20271227T100000
DTEND;TZID=America/New_York:20271227T120000
DTSTAMP:20260424T235749
CREATED:20250421T181905Z
LAST-MODIFIED:20250421T181905Z
UID:10003850-1829901600-1829908800@ststeves.org
SUMMARY:Hungry Lion
DESCRIPTION:Kyle Killay  Uses Kitchen Monday morning to sanitize dishes from food truck
URL:https://ststeves.org/event/hungry-lion/2027-12-27/
CATEGORIES:Rental
END:VEVENT
BEGIN:VEVENT
DTSTART;TZID=America/New_York:20280103T100000
DTEND;TZID=America/New_York:20280103T120000
DTSTAMP:20260424T235749
CREATED:20250421T181905Z
LAST-MODIFIED:20250421T181905Z
UID:10003851-1830506400-1830513600@ststeves.org
SUMMARY:Hungry Lion
DESCRIPTION:Kyle Killay  Uses Kitchen Monday morning to sanitize dishes from food truck
URL:https://ststeves.org/event/hungry-lion/2028-01-03/
CATEGORIES:Rental
END:VEVENT
BEGIN:VEVENT
DTSTART;TZID=America/New_York:20280110T100000
DTEND;TZID=America/New_York:20280110T120000
DTSTAMP:20260424T235749
CREATED:20250421T181905Z
LAST-MODIFIED:20250421T181905Z
UID:10003852-1831111200-1831118400@ststeves.org
SUMMARY:Hungry Lion
DESCRIPTION:Kyle Killay  Uses Kitchen Monday morning to sanitize dishes from food truck
URL:https://ststeves.org/event/hungry-lion/2028-01-10/
CATEGORIES:Rental
END:VEVENT
BEGIN:VEVENT
DTSTART;TZID=America/New_York:20280112T100000
DTEND;TZID=America/New_York:20280112T130000
DTSTAMP:20260424T235749
CREATED:20250402T150347Z
LAST-MODIFIED:20250402T150616Z
UID:10003681-1831284000-1831294800@ststeves.org
SUMMARY:EH Garden Club
DESCRIPTION:
URL:https://ststeves.org/event/eh-garden-club/2028-01-12/
CATEGORIES:Rental
END:VEVENT
BEGIN:VEVENT
DTSTART;TZID=America/New_York:20280117T100000
DTEND;TZID=America/New_York:20280117T120000
DTSTAMP:20260424T235749
CREATED:20250421T181905Z
LAST-MODIFIED:20250421T181905Z
UID:10003853-1831716000-1831723200@ststeves.org
SUMMARY:Hungry Lion
DESCRIPTION:Kyle Killay  Uses Kitchen Monday morning to sanitize dishes from food truck
URL:https://ststeves.org/event/hungry-lion/2028-01-17/
CATEGORIES:Rental
END:VEVENT
BEGIN:VEVENT
DTSTART;TZID=America/New_York:20280124T100000
DTEND;TZID=America/New_York:20280124T120000
DTSTAMP:20260424T235749
CREATED:20250421T181905Z
LAST-MODIFIED:20250421T181905Z
UID:10003854-1832320800-1832328000@ststeves.org
SUMMARY:Hungry Lion
DESCRIPTION:Kyle Killay  Uses Kitchen Monday morning to sanitize dishes from food truck
URL:https://ststeves.org/event/hungry-lion/2028-01-24/
CATEGORIES:Rental
END:VEVENT
BEGIN:VEVENT
DTSTART;TZID=America/New_York:20280131T100000
DTEND;TZID=America/New_York:20280131T120000
DTSTAMP:20260424T235749
CREATED:20250421T181905Z
LAST-MODIFIED:20250421T181905Z
UID:10003855-1832925600-1832932800@ststeves.org
SUMMARY:Hungry Lion
DESCRIPTION:Kyle Killay  Uses Kitchen Monday morning to sanitize dishes from food truck
URL:https://ststeves.org/event/hungry-lion/2028-01-31/
CATEGORIES:Rental
END:VEVENT
BEGIN:VEVENT
DTSTART;TZID=America/New_York:20280207T100000
DTEND;TZID=America/New_York:20280207T120000
DTSTAMP:20260424T235749
CREATED:20250421T181905Z
LAST-MODIFIED:20250421T181905Z
UID:10003856-1833530400-1833537600@ststeves.org
SUMMARY:Hungry Lion
DESCRIPTION:Kyle Killay  Uses Kitchen Monday morning to sanitize dishes from food truck
URL:https://ststeves.org/event/hungry-lion/2028-02-07/
CATEGORIES:Rental
END:VEVENT
BEGIN:VEVENT
DTSTART;TZID=America/New_York:20280209T100000
DTEND;TZID=America/New_York:20280209T130000
DTSTAMP:20260424T235749
CREATED:20250402T150347Z
LAST-MODIFIED:20250402T150616Z
UID:10003682-1833703200-1833714000@ststeves.org
SUMMARY:EH Garden Club
DESCRIPTION:
URL:https://ststeves.org/event/eh-garden-club/2028-02-09/
CATEGORIES:Rental
END:VEVENT
BEGIN:VEVENT
DTSTART;TZID=America/New_York:20280214T100000
DTEND;TZID=America/New_York:20280214T120000
DTSTAMP:20260424T235749
CREATED:20250421T181905Z
LAST-MODIFIED:20250421T181905Z
UID:10003857-1834135200-1834142400@ststeves.org
SUMMARY:Hungry Lion
DESCRIPTION:Kyle Killay  Uses Kitchen Monday morning to sanitize dishes from food truck
URL:https://ststeves.org/event/hungry-lion/2028-02-14/
CATEGORIES:Rental
END:VEVENT
BEGIN:VEVENT
DTSTART;TZID=America/New_York:20280221T100000
DTEND;TZID=America/New_York:20280221T120000
DTSTAMP:20260424T235749
CREATED:20250421T181905Z
LAST-MODIFIED:20250421T181905Z
UID:10003858-1834740000-1834747200@ststeves.org
SUMMARY:Hungry Lion
DESCRIPTION:Kyle Killay  Uses Kitchen Monday morning to sanitize dishes from food truck
URL:https://ststeves.org/event/hungry-lion/2028-02-21/
CATEGORIES:Rental
END:VEVENT
BEGIN:VEVENT
DTSTART;TZID=America/New_York:20280228T100000
DTEND;TZID=America/New_York:20280228T120000
DTSTAMP:20260424T235749
CREATED:20250421T181905Z
LAST-MODIFIED:20250421T181905Z
UID:10003859-1835344800-1835352000@ststeves.org
SUMMARY:Hungry Lion
DESCRIPTION:Kyle Killay  Uses Kitchen Monday morning to sanitize dishes from food truck
URL:https://ststeves.org/event/hungry-lion/2028-02-28/
CATEGORIES:Rental
END:VEVENT
BEGIN:VEVENT
DTSTART;TZID=America/New_York:20280306T100000
DTEND;TZID=America/New_York:20280306T120000
DTSTAMP:20260424T235749
CREATED:20250421T181905Z
LAST-MODIFIED:20250421T181905Z
UID:10003860-1835949600-1835956800@ststeves.org
SUMMARY:Hungry Lion
DESCRIPTION:Kyle Killay  Uses Kitchen Monday morning to sanitize dishes from food truck
URL:https://ststeves.org/event/hungry-lion/2028-03-06/
CATEGORIES:Rental
END:VEVENT
BEGIN:VEVENT
DTSTART;TZID=America/New_York:20280308T100000
DTEND;TZID=America/New_York:20280308T130000
DTSTAMP:20260424T235749
CREATED:20250402T150347Z
LAST-MODIFIED:20250402T150616Z
UID:10003683-1836122400-1836133200@ststeves.org
SUMMARY:EH Garden Club
DESCRIPTION:
URL:https://ststeves.org/event/eh-garden-club/2028-03-08/
CATEGORIES:Rental
END:VEVENT
BEGIN:VEVENT
DTSTART;TZID=America/New_York:20280313T100000
DTEND;TZID=America/New_York:20280313T120000
DTSTAMP:20260424T235749
CREATED:20250421T181905Z
LAST-MODIFIED:20250421T181905Z
UID:10003861-1836554400-1836561600@ststeves.org
SUMMARY:Hungry Lion
DESCRIPTION:Kyle Killay  Uses Kitchen Monday morning to sanitize dishes from food truck
URL:https://ststeves.org/event/hungry-lion/2028-03-13/
CATEGORIES:Rental
END:VEVENT
BEGIN:VEVENT
DTSTART;TZID=America/New_York:20280320T100000
DTEND;TZID=America/New_York:20280320T120000
DTSTAMP:20260424T235749
CREATED:20250421T181905Z
LAST-MODIFIED:20250421T181905Z
UID:10003862-1837159200-1837166400@ststeves.org
SUMMARY:Hungry Lion
DESCRIPTION:Kyle Killay  Uses Kitchen Monday morning to sanitize dishes from food truck
URL:https://ststeves.org/event/hungry-lion/2028-03-20/
CATEGORIES:Rental
END:VEVENT
BEGIN:VEVENT
DTSTART;TZID=America/New_York:20280327T100000
DTEND;TZID=America/New_York:20280327T120000
DTSTAMP:20260424T235749
CREATED:20250421T181905Z
LAST-MODIFIED:20250421T181905Z
UID:10003863-1837764000-1837771200@ststeves.org
SUMMARY:Hungry Lion
DESCRIPTION:Kyle Killay  Uses Kitchen Monday morning to sanitize dishes from food truck
URL:https://ststeves.org/event/hungry-lion/2028-03-27/
CATEGORIES:Rental
END:VEVENT
BEGIN:VEVENT
DTSTART;TZID=America/New_York:20280403T100000
DTEND;TZID=America/New_York:20280403T120000
DTSTAMP:20260424T235749
CREATED:20250421T181905Z
LAST-MODIFIED:20250421T181905Z
UID:10003864-1838368800-1838376000@ststeves.org
SUMMARY:Hungry Lion
DESCRIPTION:Kyle Killay  Uses Kitchen Monday morning to sanitize dishes from food truck
URL:https://ststeves.org/event/hungry-lion/2028-04-03/
CATEGORIES:Rental
END:VEVENT
BEGIN:VEVENT
DTSTART;TZID=America/New_York:20280410T100000
DTEND;TZID=America/New_York:20280410T120000
DTSTAMP:20260424T235749
CREATED:20250421T181905Z
LAST-MODIFIED:20250421T181905Z
UID:10003865-1838973600-1838980800@ststeves.org
SUMMARY:Hungry Lion
DESCRIPTION:Kyle Killay  Uses Kitchen Monday morning to sanitize dishes from food truck
URL:https://ststeves.org/event/hungry-lion/2028-04-10/
CATEGORIES:Rental
END:VEVENT
BEGIN:VEVENT
DTSTART;TZID=America/New_York:20280412T100000
DTEND;TZID=America/New_York:20280412T130000
DTSTAMP:20260424T235749
CREATED:20250402T150347Z
LAST-MODIFIED:20250402T150616Z
UID:10003684-1839146400-1839157200@ststeves.org
SUMMARY:EH Garden Club
DESCRIPTION:
URL:https://ststeves.org/event/eh-garden-club/2028-04-12/
CATEGORIES:Rental
END:VEVENT
BEGIN:VEVENT
DTSTART;TZID=America/New_York:20280417T100000
DTEND;TZID=America/New_York:20280417T120000
DTSTAMP:20260424T235749
CREATED:20250421T181905Z
LAST-MODIFIED:20250421T181905Z
UID:10003866-1839578400-1839585600@ststeves.org
SUMMARY:Hungry Lion
DESCRIPTION:Kyle Killay  Uses Kitchen Monday morning to sanitize dishes from food truck
URL:https://ststeves.org/event/hungry-lion/2028-04-17/
CATEGORIES:Rental
END:VEVENT
END:VCALENDAR