BEGIN:VCALENDAR
VERSION:2.0
PRODID:-//St. Stephen&#039;s Episcopal Church - ECPv6.15.20//NONSGML v1.0//EN
CALSCALE:GREGORIAN
METHOD:PUBLISH
X-ORIGINAL-URL:https://ststeves.org
X-WR-CALDESC:Events for St. Stephen&#039;s Episcopal Church
REFRESH-INTERVAL;VALUE=DURATION:PT1H
X-Robots-Tag:noindex
X-PUBLISHED-TTL:PT1H
BEGIN:VTIMEZONE
TZID:America/New_York
BEGIN:DAYLIGHT
TZOFFSETFROM:-0500
TZOFFSETTO:-0400
TZNAME:EDT
DTSTART:20270314T070000
END:DAYLIGHT
BEGIN:STANDARD
TZOFFSETFROM:-0400
TZOFFSETTO:-0500
TZNAME:EST
DTSTART:20271107T060000
END:STANDARD
BEGIN:DAYLIGHT
TZOFFSETFROM:-0500
TZOFFSETTO:-0400
TZNAME:EDT
DTSTART:20280312T070000
END:DAYLIGHT
BEGIN:STANDARD
TZOFFSETFROM:-0400
TZOFFSETTO:-0500
TZNAME:EST
DTSTART:20281105T060000
END:STANDARD
BEGIN:DAYLIGHT
TZOFFSETFROM:-0500
TZOFFSETTO:-0400
TZNAME:EDT
DTSTART:20290311T070000
END:DAYLIGHT
BEGIN:STANDARD
TZOFFSETFROM:-0400
TZOFFSETTO:-0500
TZNAME:EST
DTSTART:20291104T060000
END:STANDARD
BEGIN:DAYLIGHT
TZOFFSETFROM:-0500
TZOFFSETTO:-0400
TZNAME:EDT
DTSTART:20300310T070000
END:DAYLIGHT
BEGIN:STANDARD
TZOFFSETFROM:-0400
TZOFFSETTO:-0500
TZNAME:EST
DTSTART:20301103T060000
END:STANDARD
END:VTIMEZONE
BEGIN:VEVENT
DTSTART;TZID=America/New_York:20280807T100000
DTEND;TZID=America/New_York:20280807T120000
DTSTAMP:20260425T062729
CREATED:20250421T181905Z
LAST-MODIFIED:20250421T181905Z
UID:10003882-1849255200-1849262400@ststeves.org
SUMMARY:Hungry Lion
DESCRIPTION:Kyle Killay  Uses Kitchen Monday morning to sanitize dishes from food truck
URL:https://ststeves.org/event/hungry-lion/2028-08-07/
CATEGORIES:Rental
END:VEVENT
BEGIN:VEVENT
DTSTART;TZID=America/New_York:20280809T100000
DTEND;TZID=America/New_York:20280809T130000
DTSTAMP:20260425T062729
CREATED:20250402T150347Z
LAST-MODIFIED:20250402T150616Z
UID:10003688-1849428000-1849438800@ststeves.org
SUMMARY:EH Garden Club
DESCRIPTION:
URL:https://ststeves.org/event/eh-garden-club/2028-08-09/
CATEGORIES:Rental
END:VEVENT
BEGIN:VEVENT
DTSTART;TZID=America/New_York:20280814T100000
DTEND;TZID=America/New_York:20280814T120000
DTSTAMP:20260425T062729
CREATED:20250421T181905Z
LAST-MODIFIED:20250421T181905Z
UID:10003883-1849860000-1849867200@ststeves.org
SUMMARY:Hungry Lion
DESCRIPTION:Kyle Killay  Uses Kitchen Monday morning to sanitize dishes from food truck
URL:https://ststeves.org/event/hungry-lion/2028-08-14/
CATEGORIES:Rental
END:VEVENT
BEGIN:VEVENT
DTSTART;TZID=America/New_York:20280821T100000
DTEND;TZID=America/New_York:20280821T120000
DTSTAMP:20260425T062729
CREATED:20250421T181905Z
LAST-MODIFIED:20250421T181905Z
UID:10003884-1850464800-1850472000@ststeves.org
SUMMARY:Hungry Lion
DESCRIPTION:Kyle Killay  Uses Kitchen Monday morning to sanitize dishes from food truck
URL:https://ststeves.org/event/hungry-lion/2028-08-21/
CATEGORIES:Rental
END:VEVENT
BEGIN:VEVENT
DTSTART;TZID=America/New_York:20280828T100000
DTEND;TZID=America/New_York:20280828T120000
DTSTAMP:20260425T062729
CREATED:20250421T181905Z
LAST-MODIFIED:20250421T181905Z
UID:10003885-1851069600-1851076800@ststeves.org
SUMMARY:Hungry Lion
DESCRIPTION:Kyle Killay  Uses Kitchen Monday morning to sanitize dishes from food truck
URL:https://ststeves.org/event/hungry-lion/2028-08-28/
CATEGORIES:Rental
END:VEVENT
BEGIN:VEVENT
DTSTART;TZID=America/New_York:20280904T100000
DTEND;TZID=America/New_York:20280904T120000
DTSTAMP:20260425T062729
CREATED:20250421T181905Z
LAST-MODIFIED:20250421T181905Z
UID:10003886-1851674400-1851681600@ststeves.org
SUMMARY:Hungry Lion
DESCRIPTION:Kyle Killay  Uses Kitchen Monday morning to sanitize dishes from food truck
URL:https://ststeves.org/event/hungry-lion/2028-09-04/
CATEGORIES:Rental
END:VEVENT
BEGIN:VEVENT
DTSTART;TZID=America/New_York:20280911T100000
DTEND;TZID=America/New_York:20280911T120000
DTSTAMP:20260425T062729
CREATED:20250421T181905Z
LAST-MODIFIED:20250421T181905Z
UID:10003887-1852279200-1852286400@ststeves.org
SUMMARY:Hungry Lion
DESCRIPTION:Kyle Killay  Uses Kitchen Monday morning to sanitize dishes from food truck
URL:https://ststeves.org/event/hungry-lion/2028-09-11/
CATEGORIES:Rental
END:VEVENT
BEGIN:VEVENT
DTSTART;TZID=America/New_York:20280913T100000
DTEND;TZID=America/New_York:20280913T130000
DTSTAMP:20260425T062729
CREATED:20250402T150347Z
LAST-MODIFIED:20250402T150616Z
UID:10003689-1852452000-1852462800@ststeves.org
SUMMARY:EH Garden Club
DESCRIPTION:
URL:https://ststeves.org/event/eh-garden-club/2028-09-13/
CATEGORIES:Rental
END:VEVENT
BEGIN:VEVENT
DTSTART;TZID=America/New_York:20280918T100000
DTEND;TZID=America/New_York:20280918T120000
DTSTAMP:20260425T062729
CREATED:20250421T181905Z
LAST-MODIFIED:20250421T181905Z
UID:10003888-1852884000-1852891200@ststeves.org
SUMMARY:Hungry Lion
DESCRIPTION:Kyle Killay  Uses Kitchen Monday morning to sanitize dishes from food truck
URL:https://ststeves.org/event/hungry-lion/2028-09-18/
CATEGORIES:Rental
END:VEVENT
BEGIN:VEVENT
DTSTART;TZID=America/New_York:20280925T100000
DTEND;TZID=America/New_York:20280925T120000
DTSTAMP:20260425T062729
CREATED:20250421T181905Z
LAST-MODIFIED:20250421T181905Z
UID:10003889-1853488800-1853496000@ststeves.org
SUMMARY:Hungry Lion
DESCRIPTION:Kyle Killay  Uses Kitchen Monday morning to sanitize dishes from food truck
URL:https://ststeves.org/event/hungry-lion/2028-09-25/
CATEGORIES:Rental
END:VEVENT
BEGIN:VEVENT
DTSTART;TZID=America/New_York:20281002T100000
DTEND;TZID=America/New_York:20281002T120000
DTSTAMP:20260425T062729
CREATED:20250421T181905Z
LAST-MODIFIED:20250421T181905Z
UID:10003890-1854093600-1854100800@ststeves.org
SUMMARY:Hungry Lion
DESCRIPTION:Kyle Killay  Uses Kitchen Monday morning to sanitize dishes from food truck
URL:https://ststeves.org/event/hungry-lion/2028-10-02/
CATEGORIES:Rental
END:VEVENT
BEGIN:VEVENT
DTSTART;TZID=America/New_York:20281009T100000
DTEND;TZID=America/New_York:20281009T120000
DTSTAMP:20260425T062729
CREATED:20250421T181905Z
LAST-MODIFIED:20250421T181905Z
UID:10003891-1854698400-1854705600@ststeves.org
SUMMARY:Hungry Lion
DESCRIPTION:Kyle Killay  Uses Kitchen Monday morning to sanitize dishes from food truck
URL:https://ststeves.org/event/hungry-lion/2028-10-09/
CATEGORIES:Rental
END:VEVENT
BEGIN:VEVENT
DTSTART;TZID=America/New_York:20281011T100000
DTEND;TZID=America/New_York:20281011T130000
DTSTAMP:20260425T062729
CREATED:20250402T150347Z
LAST-MODIFIED:20250402T150616Z
UID:10003690-1854871200-1854882000@ststeves.org
SUMMARY:EH Garden Club
DESCRIPTION:
URL:https://ststeves.org/event/eh-garden-club/2028-10-11/
CATEGORIES:Rental
END:VEVENT
BEGIN:VEVENT
DTSTART;TZID=America/New_York:20281016T100000
DTEND;TZID=America/New_York:20281016T120000
DTSTAMP:20260425T062729
CREATED:20250421T181905Z
LAST-MODIFIED:20250421T181905Z
UID:10003892-1855303200-1855310400@ststeves.org
SUMMARY:Hungry Lion
DESCRIPTION:Kyle Killay  Uses Kitchen Monday morning to sanitize dishes from food truck
URL:https://ststeves.org/event/hungry-lion/2028-10-16/
CATEGORIES:Rental
END:VEVENT
BEGIN:VEVENT
DTSTART;TZID=America/New_York:20281023T100000
DTEND;TZID=America/New_York:20281023T120000
DTSTAMP:20260425T062729
CREATED:20250421T181905Z
LAST-MODIFIED:20250421T181905Z
UID:10003893-1855908000-1855915200@ststeves.org
SUMMARY:Hungry Lion
DESCRIPTION:Kyle Killay  Uses Kitchen Monday morning to sanitize dishes from food truck
URL:https://ststeves.org/event/hungry-lion/2028-10-23/
CATEGORIES:Rental
END:VEVENT
BEGIN:VEVENT
DTSTART;TZID=America/New_York:20281030T100000
DTEND;TZID=America/New_York:20281030T120000
DTSTAMP:20260425T062729
CREATED:20250421T181905Z
LAST-MODIFIED:20250421T181905Z
UID:10003894-1856512800-1856520000@ststeves.org
SUMMARY:Hungry Lion
DESCRIPTION:Kyle Killay  Uses Kitchen Monday morning to sanitize dishes from food truck
URL:https://ststeves.org/event/hungry-lion/2028-10-30/
CATEGORIES:Rental
END:VEVENT
BEGIN:VEVENT
DTSTART;TZID=America/New_York:20281106T100000
DTEND;TZID=America/New_York:20281106T120000
DTSTAMP:20260425T062729
CREATED:20250421T181905Z
LAST-MODIFIED:20250421T181905Z
UID:10003895-1857117600-1857124800@ststeves.org
SUMMARY:Hungry Lion
DESCRIPTION:Kyle Killay  Uses Kitchen Monday morning to sanitize dishes from food truck
URL:https://ststeves.org/event/hungry-lion/2028-11-06/
CATEGORIES:Rental
END:VEVENT
BEGIN:VEVENT
DTSTART;TZID=America/New_York:20281108T100000
DTEND;TZID=America/New_York:20281108T130000
DTSTAMP:20260425T062729
CREATED:20250402T150347Z
LAST-MODIFIED:20250402T150616Z
UID:10003691-1857290400-1857301200@ststeves.org
SUMMARY:EH Garden Club
DESCRIPTION:
URL:https://ststeves.org/event/eh-garden-club/2028-11-08/
CATEGORIES:Rental
END:VEVENT
BEGIN:VEVENT
DTSTART;TZID=America/New_York:20281113T100000
DTEND;TZID=America/New_York:20281113T120000
DTSTAMP:20260425T062729
CREATED:20250421T181905Z
LAST-MODIFIED:20250421T181905Z
UID:10003896-1857722400-1857729600@ststeves.org
SUMMARY:Hungry Lion
DESCRIPTION:Kyle Killay  Uses Kitchen Monday morning to sanitize dishes from food truck
URL:https://ststeves.org/event/hungry-lion/2028-11-13/
CATEGORIES:Rental
END:VEVENT
BEGIN:VEVENT
DTSTART;TZID=America/New_York:20281120T100000
DTEND;TZID=America/New_York:20281120T120000
DTSTAMP:20260425T062729
CREATED:20250421T181905Z
LAST-MODIFIED:20250421T181905Z
UID:10003897-1858327200-1858334400@ststeves.org
SUMMARY:Hungry Lion
DESCRIPTION:Kyle Killay  Uses Kitchen Monday morning to sanitize dishes from food truck
URL:https://ststeves.org/event/hungry-lion/2028-11-20/
CATEGORIES:Rental
END:VEVENT
BEGIN:VEVENT
DTSTART;TZID=America/New_York:20281127T100000
DTEND;TZID=America/New_York:20281127T120000
DTSTAMP:20260425T062729
CREATED:20250421T181905Z
LAST-MODIFIED:20250421T181905Z
UID:10003898-1858932000-1858939200@ststeves.org
SUMMARY:Hungry Lion
DESCRIPTION:Kyle Killay  Uses Kitchen Monday morning to sanitize dishes from food truck
URL:https://ststeves.org/event/hungry-lion/2028-11-27/
CATEGORIES:Rental
END:VEVENT
BEGIN:VEVENT
DTSTART;TZID=America/New_York:20281204T100000
DTEND;TZID=America/New_York:20281204T120000
DTSTAMP:20260425T062729
CREATED:20250421T181905Z
LAST-MODIFIED:20250421T181905Z
UID:10003899-1859536800-1859544000@ststeves.org
SUMMARY:Hungry Lion
DESCRIPTION:Kyle Killay  Uses Kitchen Monday morning to sanitize dishes from food truck
URL:https://ststeves.org/event/hungry-lion/2028-12-04/
CATEGORIES:Rental
END:VEVENT
BEGIN:VEVENT
DTSTART;TZID=America/New_York:20281211T100000
DTEND;TZID=America/New_York:20281211T120000
DTSTAMP:20260425T062729
CREATED:20250421T181905Z
LAST-MODIFIED:20250421T181905Z
UID:10003900-1860141600-1860148800@ststeves.org
SUMMARY:Hungry Lion
DESCRIPTION:Kyle Killay  Uses Kitchen Monday morning to sanitize dishes from food truck
URL:https://ststeves.org/event/hungry-lion/2028-12-11/
CATEGORIES:Rental
END:VEVENT
BEGIN:VEVENT
DTSTART;TZID=America/New_York:20281213T100000
DTEND;TZID=America/New_York:20281213T130000
DTSTAMP:20260425T062729
CREATED:20250402T150347Z
LAST-MODIFIED:20250402T150616Z
UID:10003692-1860314400-1860325200@ststeves.org
SUMMARY:EH Garden Club
DESCRIPTION:
URL:https://ststeves.org/event/eh-garden-club/2028-12-13/
CATEGORIES:Rental
END:VEVENT
BEGIN:VEVENT
DTSTART;TZID=America/New_York:20281218T100000
DTEND;TZID=America/New_York:20281218T120000
DTSTAMP:20260425T062729
CREATED:20250421T181905Z
LAST-MODIFIED:20250421T181905Z
UID:10003901-1860746400-1860753600@ststeves.org
SUMMARY:Hungry Lion
DESCRIPTION:Kyle Killay  Uses Kitchen Monday morning to sanitize dishes from food truck
URL:https://ststeves.org/event/hungry-lion/2028-12-18/
CATEGORIES:Rental
END:VEVENT
BEGIN:VEVENT
DTSTART;TZID=America/New_York:20281225T100000
DTEND;TZID=America/New_York:20281225T120000
DTSTAMP:20260425T062729
CREATED:20250421T181905Z
LAST-MODIFIED:20250421T181905Z
UID:10003902-1861351200-1861358400@ststeves.org
SUMMARY:Hungry Lion
DESCRIPTION:Kyle Killay  Uses Kitchen Monday morning to sanitize dishes from food truck
URL:https://ststeves.org/event/hungry-lion/2028-12-25/
CATEGORIES:Rental
END:VEVENT
BEGIN:VEVENT
DTSTART;TZID=America/New_York:20290101T100000
DTEND;TZID=America/New_York:20290101T120000
DTSTAMP:20260425T062729
CREATED:20250421T181905Z
LAST-MODIFIED:20250421T181905Z
UID:10003903-1861956000-1861963200@ststeves.org
SUMMARY:Hungry Lion
DESCRIPTION:Kyle Killay  Uses Kitchen Monday morning to sanitize dishes from food truck
URL:https://ststeves.org/event/hungry-lion/2029-01-01/
CATEGORIES:Rental
END:VEVENT
BEGIN:VEVENT
DTSTART;TZID=America/New_York:20290108T100000
DTEND;TZID=America/New_York:20290108T120000
DTSTAMP:20260425T062729
CREATED:20250421T181905Z
LAST-MODIFIED:20250421T181905Z
UID:10003904-1862560800-1862568000@ststeves.org
SUMMARY:Hungry Lion
DESCRIPTION:Kyle Killay  Uses Kitchen Monday morning to sanitize dishes from food truck
URL:https://ststeves.org/event/hungry-lion/2029-01-08/
CATEGORIES:Rental
END:VEVENT
BEGIN:VEVENT
DTSTART;TZID=America/New_York:20290110T100000
DTEND;TZID=America/New_York:20290110T130000
DTSTAMP:20260425T062729
CREATED:20250402T150347Z
LAST-MODIFIED:20250402T150616Z
UID:10003693-1862733600-1862744400@ststeves.org
SUMMARY:EH Garden Club
DESCRIPTION:
URL:https://ststeves.org/event/eh-garden-club/2029-01-10/
CATEGORIES:Rental
END:VEVENT
BEGIN:VEVENT
DTSTART;TZID=America/New_York:20290115T100000
DTEND;TZID=America/New_York:20290115T120000
DTSTAMP:20260425T062729
CREATED:20250421T181905Z
LAST-MODIFIED:20250421T181905Z
UID:10003905-1863165600-1863172800@ststeves.org
SUMMARY:Hungry Lion
DESCRIPTION:Kyle Killay  Uses Kitchen Monday morning to sanitize dishes from food truck
URL:https://ststeves.org/event/hungry-lion/2029-01-15/
CATEGORIES:Rental
END:VEVENT
END:VCALENDAR