BEGIN:VCALENDAR
VERSION:2.0
PRODID:-//St. Stephen&#039;s Episcopal Church - ECPv6.15.20//NONSGML v1.0//EN
CALSCALE:GREGORIAN
METHOD:PUBLISH
X-ORIGINAL-URL:https://ststeves.org
X-WR-CALDESC:Events for St. Stephen&#039;s Episcopal Church
REFRESH-INTERVAL;VALUE=DURATION:PT1H
X-Robots-Tag:noindex
X-PUBLISHED-TTL:PT1H
BEGIN:VTIMEZONE
TZID:America/New_York
BEGIN:DAYLIGHT
TZOFFSETFROM:-0500
TZOFFSETTO:-0400
TZNAME:EDT
DTSTART:20280312T070000
END:DAYLIGHT
BEGIN:STANDARD
TZOFFSETFROM:-0400
TZOFFSETTO:-0500
TZNAME:EST
DTSTART:20281105T060000
END:STANDARD
BEGIN:DAYLIGHT
TZOFFSETFROM:-0500
TZOFFSETTO:-0400
TZNAME:EDT
DTSTART:20290311T070000
END:DAYLIGHT
BEGIN:STANDARD
TZOFFSETFROM:-0400
TZOFFSETTO:-0500
TZNAME:EST
DTSTART:20291104T060000
END:STANDARD
BEGIN:DAYLIGHT
TZOFFSETFROM:-0500
TZOFFSETTO:-0400
TZNAME:EDT
DTSTART:20300310T070000
END:DAYLIGHT
BEGIN:STANDARD
TZOFFSETFROM:-0400
TZOFFSETTO:-0500
TZNAME:EST
DTSTART:20301103T060000
END:STANDARD
END:VTIMEZONE
BEGIN:VEVENT
DTSTART;TZID=America/New_York:20290226T100000
DTEND;TZID=America/New_York:20290226T120000
DTSTAMP:20260425T103851
CREATED:20250421T181905Z
LAST-MODIFIED:20250421T181905Z
UID:10003911-1866794400-1866801600@ststeves.org
SUMMARY:Hungry Lion
DESCRIPTION:Kyle Killay  Uses Kitchen Monday morning to sanitize dishes from food truck
URL:https://ststeves.org/event/hungry-lion/2029-02-26/
CATEGORIES:Rental
END:VEVENT
BEGIN:VEVENT
DTSTART;TZID=America/New_York:20290305T100000
DTEND;TZID=America/New_York:20290305T120000
DTSTAMP:20260425T103851
CREATED:20250421T181905Z
LAST-MODIFIED:20250421T181905Z
UID:10003912-1867399200-1867406400@ststeves.org
SUMMARY:Hungry Lion
DESCRIPTION:Kyle Killay  Uses Kitchen Monday morning to sanitize dishes from food truck
URL:https://ststeves.org/event/hungry-lion/2029-03-05/
CATEGORIES:Rental
END:VEVENT
BEGIN:VEVENT
DTSTART;TZID=America/New_York:20290312T100000
DTEND;TZID=America/New_York:20290312T120000
DTSTAMP:20260425T103851
CREATED:20250421T181905Z
LAST-MODIFIED:20250421T181905Z
UID:10003913-1868004000-1868011200@ststeves.org
SUMMARY:Hungry Lion
DESCRIPTION:Kyle Killay  Uses Kitchen Monday morning to sanitize dishes from food truck
URL:https://ststeves.org/event/hungry-lion/2029-03-12/
CATEGORIES:Rental
END:VEVENT
BEGIN:VEVENT
DTSTART;TZID=America/New_York:20290314T100000
DTEND;TZID=America/New_York:20290314T130000
DTSTAMP:20260425T103851
CREATED:20250402T150347Z
LAST-MODIFIED:20250402T150616Z
UID:10003695-1868176800-1868187600@ststeves.org
SUMMARY:EH Garden Club
DESCRIPTION:
URL:https://ststeves.org/event/eh-garden-club/2029-03-14/
CATEGORIES:Rental
END:VEVENT
BEGIN:VEVENT
DTSTART;TZID=America/New_York:20290319T100000
DTEND;TZID=America/New_York:20290319T120000
DTSTAMP:20260425T103851
CREATED:20250421T181905Z
LAST-MODIFIED:20250421T181905Z
UID:10003914-1868608800-1868616000@ststeves.org
SUMMARY:Hungry Lion
DESCRIPTION:Kyle Killay  Uses Kitchen Monday morning to sanitize dishes from food truck
URL:https://ststeves.org/event/hungry-lion/2029-03-19/
CATEGORIES:Rental
END:VEVENT
BEGIN:VEVENT
DTSTART;TZID=America/New_York:20290326T100000
DTEND;TZID=America/New_York:20290326T120000
DTSTAMP:20260425T103851
CREATED:20250421T181905Z
LAST-MODIFIED:20250421T181905Z
UID:10003915-1869213600-1869220800@ststeves.org
SUMMARY:Hungry Lion
DESCRIPTION:Kyle Killay  Uses Kitchen Monday morning to sanitize dishes from food truck
URL:https://ststeves.org/event/hungry-lion/2029-03-26/
CATEGORIES:Rental
END:VEVENT
BEGIN:VEVENT
DTSTART;TZID=America/New_York:20290402T100000
DTEND;TZID=America/New_York:20290402T120000
DTSTAMP:20260425T103851
CREATED:20250421T181905Z
LAST-MODIFIED:20250421T181905Z
UID:10003916-1869818400-1869825600@ststeves.org
SUMMARY:Hungry Lion
DESCRIPTION:Kyle Killay  Uses Kitchen Monday morning to sanitize dishes from food truck
URL:https://ststeves.org/event/hungry-lion/2029-04-02/
CATEGORIES:Rental
END:VEVENT
BEGIN:VEVENT
DTSTART;TZID=America/New_York:20290409T100000
DTEND;TZID=America/New_York:20290409T120000
DTSTAMP:20260425T103851
CREATED:20250421T181905Z
LAST-MODIFIED:20250421T181905Z
UID:10003917-1870423200-1870430400@ststeves.org
SUMMARY:Hungry Lion
DESCRIPTION:Kyle Killay  Uses Kitchen Monday morning to sanitize dishes from food truck
URL:https://ststeves.org/event/hungry-lion/2029-04-09/
CATEGORIES:Rental
END:VEVENT
BEGIN:VEVENT
DTSTART;TZID=America/New_York:20290411T100000
DTEND;TZID=America/New_York:20290411T130000
DTSTAMP:20260425T103851
CREATED:20250402T150347Z
LAST-MODIFIED:20250402T150616Z
UID:10003696-1870596000-1870606800@ststeves.org
SUMMARY:EH Garden Club
DESCRIPTION:
URL:https://ststeves.org/event/eh-garden-club/2029-04-11/
CATEGORIES:Rental
END:VEVENT
BEGIN:VEVENT
DTSTART;TZID=America/New_York:20290416T100000
DTEND;TZID=America/New_York:20290416T120000
DTSTAMP:20260425T103851
CREATED:20250421T181905Z
LAST-MODIFIED:20250421T181905Z
UID:10003918-1871028000-1871035200@ststeves.org
SUMMARY:Hungry Lion
DESCRIPTION:Kyle Killay  Uses Kitchen Monday morning to sanitize dishes from food truck
URL:https://ststeves.org/event/hungry-lion/2029-04-16/
CATEGORIES:Rental
END:VEVENT
BEGIN:VEVENT
DTSTART;TZID=America/New_York:20290423T100000
DTEND;TZID=America/New_York:20290423T120000
DTSTAMP:20260425T103851
CREATED:20250421T181905Z
LAST-MODIFIED:20250421T181905Z
UID:10003919-1871632800-1871640000@ststeves.org
SUMMARY:Hungry Lion
DESCRIPTION:Kyle Killay  Uses Kitchen Monday morning to sanitize dishes from food truck
URL:https://ststeves.org/event/hungry-lion/2029-04-23/
CATEGORIES:Rental
END:VEVENT
BEGIN:VEVENT
DTSTART;TZID=America/New_York:20290430T100000
DTEND;TZID=America/New_York:20290430T120000
DTSTAMP:20260425T103851
CREATED:20250421T181905Z
LAST-MODIFIED:20250421T181905Z
UID:10003920-1872237600-1872244800@ststeves.org
SUMMARY:Hungry Lion
DESCRIPTION:Kyle Killay  Uses Kitchen Monday morning to sanitize dishes from food truck
URL:https://ststeves.org/event/hungry-lion/2029-04-30/
CATEGORIES:Rental
END:VEVENT
BEGIN:VEVENT
DTSTART;TZID=America/New_York:20290507T100000
DTEND;TZID=America/New_York:20290507T120000
DTSTAMP:20260425T103851
CREATED:20250421T181905Z
LAST-MODIFIED:20250421T181905Z
UID:10003921-1872842400-1872849600@ststeves.org
SUMMARY:Hungry Lion
DESCRIPTION:Kyle Killay  Uses Kitchen Monday morning to sanitize dishes from food truck
URL:https://ststeves.org/event/hungry-lion/2029-05-07/
CATEGORIES:Rental
END:VEVENT
BEGIN:VEVENT
DTSTART;TZID=America/New_York:20290509T100000
DTEND;TZID=America/New_York:20290509T130000
DTSTAMP:20260425T103851
CREATED:20250402T150347Z
LAST-MODIFIED:20250402T150616Z
UID:10003697-1873015200-1873026000@ststeves.org
SUMMARY:EH Garden Club
DESCRIPTION:
URL:https://ststeves.org/event/eh-garden-club/2029-05-09/
CATEGORIES:Rental
END:VEVENT
BEGIN:VEVENT
DTSTART;TZID=America/New_York:20290514T100000
DTEND;TZID=America/New_York:20290514T120000
DTSTAMP:20260425T103851
CREATED:20250421T181905Z
LAST-MODIFIED:20250421T181905Z
UID:10003922-1873447200-1873454400@ststeves.org
SUMMARY:Hungry Lion
DESCRIPTION:Kyle Killay  Uses Kitchen Monday morning to sanitize dishes from food truck
URL:https://ststeves.org/event/hungry-lion/2029-05-14/
CATEGORIES:Rental
END:VEVENT
BEGIN:VEVENT
DTSTART;TZID=America/New_York:20290521T100000
DTEND;TZID=America/New_York:20290521T120000
DTSTAMP:20260425T103851
CREATED:20250421T181905Z
LAST-MODIFIED:20250421T181905Z
UID:10003923-1874052000-1874059200@ststeves.org
SUMMARY:Hungry Lion
DESCRIPTION:Kyle Killay  Uses Kitchen Monday morning to sanitize dishes from food truck
URL:https://ststeves.org/event/hungry-lion/2029-05-21/
CATEGORIES:Rental
END:VEVENT
BEGIN:VEVENT
DTSTART;TZID=America/New_York:20290528T100000
DTEND;TZID=America/New_York:20290528T120000
DTSTAMP:20260425T103851
CREATED:20250421T181905Z
LAST-MODIFIED:20250421T181905Z
UID:10003924-1874656800-1874664000@ststeves.org
SUMMARY:Hungry Lion
DESCRIPTION:Kyle Killay  Uses Kitchen Monday morning to sanitize dishes from food truck
URL:https://ststeves.org/event/hungry-lion/2029-05-28/
CATEGORIES:Rental
END:VEVENT
BEGIN:VEVENT
DTSTART;TZID=America/New_York:20290604T100000
DTEND;TZID=America/New_York:20290604T120000
DTSTAMP:20260425T103851
CREATED:20250421T181905Z
LAST-MODIFIED:20250421T181905Z
UID:10003925-1875261600-1875268800@ststeves.org
SUMMARY:Hungry Lion
DESCRIPTION:Kyle Killay  Uses Kitchen Monday morning to sanitize dishes from food truck
URL:https://ststeves.org/event/hungry-lion/2029-06-04/
CATEGORIES:Rental
END:VEVENT
BEGIN:VEVENT
DTSTART;TZID=America/New_York:20290611T100000
DTEND;TZID=America/New_York:20290611T120000
DTSTAMP:20260425T103851
CREATED:20250421T181905Z
LAST-MODIFIED:20250421T181905Z
UID:10003926-1875866400-1875873600@ststeves.org
SUMMARY:Hungry Lion
DESCRIPTION:Kyle Killay  Uses Kitchen Monday morning to sanitize dishes from food truck
URL:https://ststeves.org/event/hungry-lion/2029-06-11/
CATEGORIES:Rental
END:VEVENT
BEGIN:VEVENT
DTSTART;TZID=America/New_York:20290613T100000
DTEND;TZID=America/New_York:20290613T130000
DTSTAMP:20260425T103851
CREATED:20250402T150347Z
LAST-MODIFIED:20250402T150616Z
UID:10003698-1876039200-1876050000@ststeves.org
SUMMARY:EH Garden Club
DESCRIPTION:
URL:https://ststeves.org/event/eh-garden-club/2029-06-13/
CATEGORIES:Rental
END:VEVENT
BEGIN:VEVENT
DTSTART;TZID=America/New_York:20290618T100000
DTEND;TZID=America/New_York:20290618T120000
DTSTAMP:20260425T103851
CREATED:20250421T181905Z
LAST-MODIFIED:20250421T181905Z
UID:10003927-1876471200-1876478400@ststeves.org
SUMMARY:Hungry Lion
DESCRIPTION:Kyle Killay  Uses Kitchen Monday morning to sanitize dishes from food truck
URL:https://ststeves.org/event/hungry-lion/2029-06-18/
CATEGORIES:Rental
END:VEVENT
BEGIN:VEVENT
DTSTART;TZID=America/New_York:20290625T100000
DTEND;TZID=America/New_York:20290625T120000
DTSTAMP:20260425T103851
CREATED:20250421T181905Z
LAST-MODIFIED:20250421T181905Z
UID:10003928-1877076000-1877083200@ststeves.org
SUMMARY:Hungry Lion
DESCRIPTION:Kyle Killay  Uses Kitchen Monday morning to sanitize dishes from food truck
URL:https://ststeves.org/event/hungry-lion/2029-06-25/
CATEGORIES:Rental
END:VEVENT
BEGIN:VEVENT
DTSTART;TZID=America/New_York:20290702T100000
DTEND;TZID=America/New_York:20290702T120000
DTSTAMP:20260425T103851
CREATED:20250421T181905Z
LAST-MODIFIED:20250421T181905Z
UID:10003929-1877680800-1877688000@ststeves.org
SUMMARY:Hungry Lion
DESCRIPTION:Kyle Killay  Uses Kitchen Monday morning to sanitize dishes from food truck
URL:https://ststeves.org/event/hungry-lion/2029-07-02/
CATEGORIES:Rental
END:VEVENT
BEGIN:VEVENT
DTSTART;TZID=America/New_York:20290709T100000
DTEND;TZID=America/New_York:20290709T120000
DTSTAMP:20260425T103851
CREATED:20250421T181905Z
LAST-MODIFIED:20250421T181905Z
UID:10003930-1878285600-1878292800@ststeves.org
SUMMARY:Hungry Lion
DESCRIPTION:Kyle Killay  Uses Kitchen Monday morning to sanitize dishes from food truck
URL:https://ststeves.org/event/hungry-lion/2029-07-09/
CATEGORIES:Rental
END:VEVENT
BEGIN:VEVENT
DTSTART;TZID=America/New_York:20290711T100000
DTEND;TZID=America/New_York:20290711T130000
DTSTAMP:20260425T103851
CREATED:20250402T150347Z
LAST-MODIFIED:20250402T150616Z
UID:10003699-1878458400-1878469200@ststeves.org
SUMMARY:EH Garden Club
DESCRIPTION:
URL:https://ststeves.org/event/eh-garden-club/2029-07-11/
CATEGORIES:Rental
END:VEVENT
BEGIN:VEVENT
DTSTART;TZID=America/New_York:20290716T100000
DTEND;TZID=America/New_York:20290716T120000
DTSTAMP:20260425T103851
CREATED:20250421T181905Z
LAST-MODIFIED:20250421T181905Z
UID:10003931-1878890400-1878897600@ststeves.org
SUMMARY:Hungry Lion
DESCRIPTION:Kyle Killay  Uses Kitchen Monday morning to sanitize dishes from food truck
URL:https://ststeves.org/event/hungry-lion/2029-07-16/
CATEGORIES:Rental
END:VEVENT
BEGIN:VEVENT
DTSTART;TZID=America/New_York:20290723T100000
DTEND;TZID=America/New_York:20290723T120000
DTSTAMP:20260425T103851
CREATED:20250421T181905Z
LAST-MODIFIED:20250421T181905Z
UID:10003932-1879495200-1879502400@ststeves.org
SUMMARY:Hungry Lion
DESCRIPTION:Kyle Killay  Uses Kitchen Monday morning to sanitize dishes from food truck
URL:https://ststeves.org/event/hungry-lion/2029-07-23/
CATEGORIES:Rental
END:VEVENT
BEGIN:VEVENT
DTSTART;TZID=America/New_York:20290730T100000
DTEND;TZID=America/New_York:20290730T120000
DTSTAMP:20260425T103851
CREATED:20250421T181905Z
LAST-MODIFIED:20250421T181905Z
UID:10003933-1880100000-1880107200@ststeves.org
SUMMARY:Hungry Lion
DESCRIPTION:Kyle Killay  Uses Kitchen Monday morning to sanitize dishes from food truck
URL:https://ststeves.org/event/hungry-lion/2029-07-30/
CATEGORIES:Rental
END:VEVENT
BEGIN:VEVENT
DTSTART;TZID=America/New_York:20290806T100000
DTEND;TZID=America/New_York:20290806T120000
DTSTAMP:20260425T103851
CREATED:20250421T181905Z
LAST-MODIFIED:20250421T181905Z
UID:10003934-1880704800-1880712000@ststeves.org
SUMMARY:Hungry Lion
DESCRIPTION:Kyle Killay  Uses Kitchen Monday morning to sanitize dishes from food truck
URL:https://ststeves.org/event/hungry-lion/2029-08-06/
CATEGORIES:Rental
END:VEVENT
BEGIN:VEVENT
DTSTART;TZID=America/New_York:20290808T100000
DTEND;TZID=America/New_York:20290808T130000
DTSTAMP:20260425T103851
CREATED:20250402T150347Z
LAST-MODIFIED:20250402T150616Z
UID:10003700-1880877600-1880888400@ststeves.org
SUMMARY:EH Garden Club
DESCRIPTION:
URL:https://ststeves.org/event/eh-garden-club/2029-08-08/
CATEGORIES:Rental
END:VEVENT
END:VCALENDAR