BEGIN:VCALENDAR
VERSION:2.0
PRODID:-//St. Stephen&#039;s Episcopal Church - ECPv6.15.20//NONSGML v1.0//EN
CALSCALE:GREGORIAN
METHOD:PUBLISH
X-WR-CALNAME:St. Stephen&#039;s Episcopal Church
X-ORIGINAL-URL:https://ststeves.org
X-WR-CALDESC:Events for St. Stephen&#039;s Episcopal Church
REFRESH-INTERVAL;VALUE=DURATION:PT1H
X-Robots-Tag:noindex
X-PUBLISHED-TTL:PT1H
BEGIN:VTIMEZONE
TZID:America/New_York
BEGIN:DAYLIGHT
TZOFFSETFROM:-0500
TZOFFSETTO:-0400
TZNAME:EDT
DTSTART:20260308T070000
END:DAYLIGHT
BEGIN:STANDARD
TZOFFSETFROM:-0400
TZOFFSETTO:-0500
TZNAME:EST
DTSTART:20261101T060000
END:STANDARD
BEGIN:DAYLIGHT
TZOFFSETFROM:-0500
TZOFFSETTO:-0400
TZNAME:EDT
DTSTART:20270314T070000
END:DAYLIGHT
BEGIN:STANDARD
TZOFFSETFROM:-0400
TZOFFSETTO:-0500
TZNAME:EST
DTSTART:20271107T060000
END:STANDARD
BEGIN:DAYLIGHT
TZOFFSETFROM:-0500
TZOFFSETTO:-0400
TZNAME:EDT
DTSTART:20280312T070000
END:DAYLIGHT
BEGIN:STANDARD
TZOFFSETFROM:-0400
TZOFFSETTO:-0500
TZNAME:EST
DTSTART:20281105T060000
END:STANDARD
END:VTIMEZONE
BEGIN:VEVENT
DTSTART;TZID=America/New_York:20270329T100000
DTEND;TZID=America/New_York:20270329T120000
DTSTAMP:20260421T064544
CREATED:20250421T181905Z
LAST-MODIFIED:20250421T181905Z
UID:10003811-1806314400-1806321600@ststeves.org
SUMMARY:Hungry Lion
DESCRIPTION:Kyle Killay  Uses Kitchen Monday morning to sanitize dishes from food truck
URL:https://ststeves.org/event/hungry-lion/2027-03-29/
CATEGORIES:Rental
END:VEVENT
BEGIN:VEVENT
DTSTART;TZID=America/New_York:20270330T190000
DTEND;TZID=America/New_York:20270330T200000
DTSTAMP:20260421T064544
CREATED:20221130T192202Z
LAST-MODIFIED:20230525T173507Z
UID:10000528-1806433200-1806436800@ststeves.org
SUMMARY:AA Meeting
DESCRIPTION:
URL:https://ststeves.org/event/aa-meeting/2027-03-30/
LOCATION:St. Stephen’s Parish Hall\, 31 Main Street\, East Haddam\, Connecticut\, 06423
CATEGORIES:Community Meeting
END:VEVENT
BEGIN:VEVENT
DTSTART;TZID=America/New_York:20270331T190000
DTEND;TZID=America/New_York:20270331T200000
DTSTAMP:20260421T064544
CREATED:20221130T192252Z
LAST-MODIFIED:20230525T173507Z
UID:10001050-1806519600-1806523200@ststeves.org
SUMMARY:AA Meeting
DESCRIPTION:
URL:https://ststeves.org/event/aa-meeting-2/2027-03-31/
LOCATION:St. Stephen’s Parish Hall\, 31 Main Street\, East Haddam\, Connecticut\, 06423
CATEGORIES:Community Meeting
END:VEVENT
BEGIN:VEVENT
DTSTART;TZID=America/New_York:20270401T184500
DTEND;TZID=America/New_York:20270401T194500
DTSTAMP:20260421T064544
CREATED:20221130T192411Z
LAST-MODIFIED:20230525T173521Z
UID:10001570-1806605100-1806608700@ststeves.org
SUMMARY:AA Meeting
DESCRIPTION:
URL:https://ststeves.org/event/aa-meeting-3/2027-04-01/
LOCATION:St. Stephen’s Parish Hall\, 31 Main Street\, East Haddam\, Connecticut\, 06423
CATEGORIES:Community Meeting
END:VEVENT
BEGIN:VEVENT
DTSTART;TZID=America/New_York:20270405T100000
DTEND;TZID=America/New_York:20270405T120000
DTSTAMP:20260421T064544
CREATED:20250421T181905Z
LAST-MODIFIED:20250421T181905Z
UID:10003812-1806919200-1806926400@ststeves.org
SUMMARY:Hungry Lion
DESCRIPTION:Kyle Killay  Uses Kitchen Monday morning to sanitize dishes from food truck
URL:https://ststeves.org/event/hungry-lion/2027-04-05/
CATEGORIES:Rental
END:VEVENT
BEGIN:VEVENT
DTSTART;TZID=America/New_York:20270406T190000
DTEND;TZID=America/New_York:20270406T200000
DTSTAMP:20260421T064544
CREATED:20221130T192202Z
LAST-MODIFIED:20230525T173507Z
UID:10000529-1807038000-1807041600@ststeves.org
SUMMARY:AA Meeting
DESCRIPTION:
URL:https://ststeves.org/event/aa-meeting/2027-04-06/
LOCATION:St. Stephen’s Parish Hall\, 31 Main Street\, East Haddam\, Connecticut\, 06423
CATEGORIES:Community Meeting
END:VEVENT
BEGIN:VEVENT
DTSTART;TZID=America/New_York:20270407T190000
DTEND;TZID=America/New_York:20270407T200000
DTSTAMP:20260421T064544
CREATED:20221130T192252Z
LAST-MODIFIED:20230525T173507Z
UID:10001051-1807124400-1807128000@ststeves.org
SUMMARY:AA Meeting
DESCRIPTION:
URL:https://ststeves.org/event/aa-meeting-2/2027-04-07/
LOCATION:St. Stephen’s Parish Hall\, 31 Main Street\, East Haddam\, Connecticut\, 06423
CATEGORIES:Community Meeting
END:VEVENT
BEGIN:VEVENT
DTSTART;TZID=America/New_York:20270408T184500
DTEND;TZID=America/New_York:20270408T194500
DTSTAMP:20260421T064544
CREATED:20221130T192411Z
LAST-MODIFIED:20230525T173521Z
UID:10001571-1807209900-1807213500@ststeves.org
SUMMARY:AA Meeting
DESCRIPTION:
URL:https://ststeves.org/event/aa-meeting-3/2027-04-08/
LOCATION:St. Stephen’s Parish Hall\, 31 Main Street\, East Haddam\, Connecticut\, 06423
CATEGORIES:Community Meeting
END:VEVENT
BEGIN:VEVENT
DTSTART;TZID=America/New_York:20270411T100000
DTEND;TZID=America/New_York:20270411T111500
DTSTAMP:20260421T064544
CREATED:20250715T201320Z
LAST-MODIFIED:20251125T170559Z
UID:10004067-1807437600-1807442100@ststeves.org
SUMMARY:Family Sunday
DESCRIPTION:The Second Sunday of each month our 10 am service is devoted to family ministry\, and suitable to fall ages\, especially young children. There is a story sermon\, activities/crafts after church\, and lots of opportunities to be involved with worship at the level that you are comfortable. \nThese Sundays will be especially devoted to joy and celebrating our relationship with family\, friends\, and Jesus. \nFor those who are 4 years old + If you would like to participate in worship on a Second Sunday\, please let Rev. Erin know what Sundays you are present this fall and what you would like to help with! \nSept 14 – TBA \nOct  12 – Blessing of the Animals (Outside) \nNov 9 – TBA \nDec 14 – Brown Paper Bag Christmas Pageant (no rehearsal necessary) \nJan 11 – TBA \nFeb 8 – TBA \nMar 8 – TBA \nApr 12 – TBA \nMay 10 – TBA \nJun 14 –  TBA \nNursery Care will continue to run on the 4th Sunday of each month.
URL:https://ststeves.org/event/families-sunday-3/2027-04-11/
CATEGORIES:Parish Event
ATTACH;FMTTYPE=image/png:https://ststeves.org/wp-content/uploads/2023/10/This-one-.png
END:VEVENT
BEGIN:VEVENT
DTSTART;TZID=America/New_York:20270412T100000
DTEND;TZID=America/New_York:20270412T120000
DTSTAMP:20260421T064544
CREATED:20250421T181905Z
LAST-MODIFIED:20250421T181905Z
UID:10003813-1807524000-1807531200@ststeves.org
SUMMARY:Hungry Lion
DESCRIPTION:Kyle Killay  Uses Kitchen Monday morning to sanitize dishes from food truck
URL:https://ststeves.org/event/hungry-lion/2027-04-12/
CATEGORIES:Rental
END:VEVENT
BEGIN:VEVENT
DTSTART;TZID=America/New_York:20270413T190000
DTEND;TZID=America/New_York:20270413T200000
DTSTAMP:20260421T064544
CREATED:20221130T192202Z
LAST-MODIFIED:20230525T173507Z
UID:10000530-1807642800-1807646400@ststeves.org
SUMMARY:AA Meeting
DESCRIPTION:
URL:https://ststeves.org/event/aa-meeting/2027-04-13/
LOCATION:St. Stephen’s Parish Hall\, 31 Main Street\, East Haddam\, Connecticut\, 06423
CATEGORIES:Community Meeting
END:VEVENT
BEGIN:VEVENT
DTSTART;TZID=America/New_York:20270414T100000
DTEND;TZID=America/New_York:20270414T130000
DTSTAMP:20260421T064544
CREATED:20250402T150347Z
LAST-MODIFIED:20250402T150616Z
UID:10003672-1807696800-1807707600@ststeves.org
SUMMARY:EH Garden Club
DESCRIPTION:
URL:https://ststeves.org/event/eh-garden-club/2027-04-14/
CATEGORIES:Rental
END:VEVENT
BEGIN:VEVENT
DTSTART;TZID=America/New_York:20270414T190000
DTEND;TZID=America/New_York:20270414T200000
DTSTAMP:20260421T064544
CREATED:20221130T192252Z
LAST-MODIFIED:20230525T173507Z
UID:10001052-1807729200-1807732800@ststeves.org
SUMMARY:AA Meeting
DESCRIPTION:
URL:https://ststeves.org/event/aa-meeting-2/2027-04-14/
LOCATION:St. Stephen’s Parish Hall\, 31 Main Street\, East Haddam\, Connecticut\, 06423
CATEGORIES:Community Meeting
END:VEVENT
BEGIN:VEVENT
DTSTART;TZID=America/New_York:20270415T133000
DTEND;TZID=America/New_York:20270415T143000
DTSTAMP:20260421T064544
CREATED:20230223T193539Z
LAST-MODIFIED:20251227T231553Z
UID:10004225-1807795800-1807799400@ststeves.org
SUMMARY:St. Stephen's Book Club
DESCRIPTION:St. Stephen’s Book Club will be meeting on the third Thursday of every month at 1:30pm in the Parish Hall – except July\, August and December – \nJanuary 15 | February 19 | March 19 | April 16 | May 21 | June 18 | September 17 | October 15| November 19 \nFor more info\, email Betsy. \n 
URL:https://ststeves.org/event/st-stephens-book-club-4/2027-04-15/
LOCATION:St. Stephen’s Parish Hall\, 31 Main Street\, East Haddam\, Connecticut\, 06423
CATEGORIES:Parish Event
ATTACH;FMTTYPE=image/png:https://ststeves.org/wp-content/uploads/2023/02/St.-Stephens-book-club-4.png
END:VEVENT
BEGIN:VEVENT
DTSTART;TZID=America/New_York:20270415T184500
DTEND;TZID=America/New_York:20270415T194500
DTSTAMP:20260421T064544
CREATED:20221130T192411Z
LAST-MODIFIED:20230525T173521Z
UID:10001572-1807814700-1807818300@ststeves.org
SUMMARY:AA Meeting
DESCRIPTION:
URL:https://ststeves.org/event/aa-meeting-3/2027-04-15/
LOCATION:St. Stephen’s Parish Hall\, 31 Main Street\, East Haddam\, Connecticut\, 06423
CATEGORIES:Community Meeting
END:VEVENT
BEGIN:VEVENT
DTSTART;TZID=America/New_York:20270419T100000
DTEND;TZID=America/New_York:20270419T120000
DTSTAMP:20260421T064544
CREATED:20250421T181905Z
LAST-MODIFIED:20250421T181905Z
UID:10003814-1808128800-1808136000@ststeves.org
SUMMARY:Hungry Lion
DESCRIPTION:Kyle Killay  Uses Kitchen Monday morning to sanitize dishes from food truck
URL:https://ststeves.org/event/hungry-lion/2027-04-19/
CATEGORIES:Rental
END:VEVENT
BEGIN:VEVENT
DTSTART;TZID=America/New_York:20270419T133000
DTEND;TZID=America/New_York:20270419T153000
DTSTAMP:20260421T064544
CREATED:20260214T204743Z
LAST-MODIFIED:20260214T204743Z
UID:10004383-1808141400-1808148600@ststeves.org
SUMMARY:Library Book Club
DESCRIPTION:
URL:https://ststeves.org/event/library-book-club/2027-04-19/
END:VEVENT
BEGIN:VEVENT
DTSTART;TZID=America/New_York:20270420T190000
DTEND;TZID=America/New_York:20270420T200000
DTSTAMP:20260421T064544
CREATED:20221130T192202Z
LAST-MODIFIED:20230525T173507Z
UID:10000531-1808247600-1808251200@ststeves.org
SUMMARY:AA Meeting
DESCRIPTION:
URL:https://ststeves.org/event/aa-meeting/2027-04-20/
LOCATION:St. Stephen’s Parish Hall\, 31 Main Street\, East Haddam\, Connecticut\, 06423
CATEGORIES:Community Meeting
END:VEVENT
BEGIN:VEVENT
DTSTART;TZID=America/New_York:20270421T190000
DTEND;TZID=America/New_York:20270421T200000
DTSTAMP:20260421T064544
CREATED:20221130T192252Z
LAST-MODIFIED:20230525T173507Z
UID:10001053-1808334000-1808337600@ststeves.org
SUMMARY:AA Meeting
DESCRIPTION:
URL:https://ststeves.org/event/aa-meeting-2/2027-04-21/
LOCATION:St. Stephen’s Parish Hall\, 31 Main Street\, East Haddam\, Connecticut\, 06423
CATEGORIES:Community Meeting
END:VEVENT
BEGIN:VEVENT
DTSTART;TZID=America/New_York:20270422T184500
DTEND;TZID=America/New_York:20270422T194500
DTSTAMP:20260421T064544
CREATED:20221130T192411Z
LAST-MODIFIED:20230525T173521Z
UID:10001573-1808419500-1808423100@ststeves.org
SUMMARY:AA Meeting
DESCRIPTION:
URL:https://ststeves.org/event/aa-meeting-3/2027-04-22/
LOCATION:St. Stephen’s Parish Hall\, 31 Main Street\, East Haddam\, Connecticut\, 06423
CATEGORIES:Community Meeting
END:VEVENT
BEGIN:VEVENT
DTSTART;TZID=America/New_York:20270425T100000
DTEND;TZID=America/New_York:20270425T113000
DTSTAMP:20260421T064544
CREATED:20250804T154309Z
LAST-MODIFIED:20251110T154315Z
UID:10004126-1808647200-1808652600@ststeves.org
SUMMARY:Nursery
DESCRIPTION:Nursery care is available every fourth Sunday of the month during the 10 a.m. service.  Our lead nursery care attendant is safe church trained. We always have two people in the room with the children.
URL:https://ststeves.org/event/nursery/2027-04-25/
CATEGORIES:Parish Event
ATTACH;FMTTYPE=image/png:https://ststeves.org/wp-content/uploads/2025/08/Nursery-Care-1.png
END:VEVENT
BEGIN:VEVENT
DTSTART;TZID=America/New_York:20270426T100000
DTEND;TZID=America/New_York:20270426T120000
DTSTAMP:20260421T064544
CREATED:20250421T181905Z
LAST-MODIFIED:20250421T181905Z
UID:10003815-1808733600-1808740800@ststeves.org
SUMMARY:Hungry Lion
DESCRIPTION:Kyle Killay  Uses Kitchen Monday morning to sanitize dishes from food truck
URL:https://ststeves.org/event/hungry-lion/2027-04-26/
CATEGORIES:Rental
END:VEVENT
BEGIN:VEVENT
DTSTART;TZID=America/New_York:20270427T190000
DTEND;TZID=America/New_York:20270427T200000
DTSTAMP:20260421T064544
CREATED:20221130T192202Z
LAST-MODIFIED:20230525T173507Z
UID:10000532-1808852400-1808856000@ststeves.org
SUMMARY:AA Meeting
DESCRIPTION:
URL:https://ststeves.org/event/aa-meeting/2027-04-27/
LOCATION:St. Stephen’s Parish Hall\, 31 Main Street\, East Haddam\, Connecticut\, 06423
CATEGORIES:Community Meeting
END:VEVENT
BEGIN:VEVENT
DTSTART;TZID=America/New_York:20270428T190000
DTEND;TZID=America/New_York:20270428T200000
DTSTAMP:20260421T064544
CREATED:20221130T192252Z
LAST-MODIFIED:20230525T173507Z
UID:10001054-1808938800-1808942400@ststeves.org
SUMMARY:AA Meeting
DESCRIPTION:
URL:https://ststeves.org/event/aa-meeting-2/2027-04-28/
LOCATION:St. Stephen’s Parish Hall\, 31 Main Street\, East Haddam\, Connecticut\, 06423
CATEGORIES:Community Meeting
END:VEVENT
BEGIN:VEVENT
DTSTART;TZID=America/New_York:20270429T184500
DTEND;TZID=America/New_York:20270429T194500
DTSTAMP:20260421T064544
CREATED:20221130T192411Z
LAST-MODIFIED:20230525T173521Z
UID:10001574-1809024300-1809027900@ststeves.org
SUMMARY:AA Meeting
DESCRIPTION:
URL:https://ststeves.org/event/aa-meeting-3/2027-04-29/
LOCATION:St. Stephen’s Parish Hall\, 31 Main Street\, East Haddam\, Connecticut\, 06423
CATEGORIES:Community Meeting
END:VEVENT
BEGIN:VEVENT
DTSTART;TZID=America/New_York:20270503T100000
DTEND;TZID=America/New_York:20270503T120000
DTSTAMP:20260421T064544
CREATED:20250421T181905Z
LAST-MODIFIED:20250421T181905Z
UID:10003816-1809338400-1809345600@ststeves.org
SUMMARY:Hungry Lion
DESCRIPTION:Kyle Killay  Uses Kitchen Monday morning to sanitize dishes from food truck
URL:https://ststeves.org/event/hungry-lion/2027-05-03/
CATEGORIES:Rental
END:VEVENT
BEGIN:VEVENT
DTSTART;TZID=America/New_York:20270504T190000
DTEND;TZID=America/New_York:20270504T200000
DTSTAMP:20260421T064544
CREATED:20221130T192202Z
LAST-MODIFIED:20230525T173507Z
UID:10000533-1809457200-1809460800@ststeves.org
SUMMARY:AA Meeting
DESCRIPTION:
URL:https://ststeves.org/event/aa-meeting/2027-05-04/
LOCATION:St. Stephen’s Parish Hall\, 31 Main Street\, East Haddam\, Connecticut\, 06423
CATEGORIES:Community Meeting
END:VEVENT
BEGIN:VEVENT
DTSTART;TZID=America/New_York:20270505T190000
DTEND;TZID=America/New_York:20270505T200000
DTSTAMP:20260421T064544
CREATED:20221130T192252Z
LAST-MODIFIED:20230525T173507Z
UID:10001055-1809543600-1809547200@ststeves.org
SUMMARY:AA Meeting
DESCRIPTION:
URL:https://ststeves.org/event/aa-meeting-2/2027-05-05/
LOCATION:St. Stephen’s Parish Hall\, 31 Main Street\, East Haddam\, Connecticut\, 06423
CATEGORIES:Community Meeting
END:VEVENT
BEGIN:VEVENT
DTSTART;TZID=America/New_York:20270506T184500
DTEND;TZID=America/New_York:20270506T194500
DTSTAMP:20260421T064544
CREATED:20221130T192411Z
LAST-MODIFIED:20230525T173521Z
UID:10001575-1809629100-1809632700@ststeves.org
SUMMARY:AA Meeting
DESCRIPTION:
URL:https://ststeves.org/event/aa-meeting-3/2027-05-06/
LOCATION:St. Stephen’s Parish Hall\, 31 Main Street\, East Haddam\, Connecticut\, 06423
CATEGORIES:Community Meeting
END:VEVENT
BEGIN:VEVENT
DTSTART;TZID=America/New_York:20270509T100000
DTEND;TZID=America/New_York:20270509T111500
DTSTAMP:20260421T064544
CREATED:20250715T201320Z
LAST-MODIFIED:20251125T170559Z
UID:10004068-1809856800-1809861300@ststeves.org
SUMMARY:Family Sunday
DESCRIPTION:The Second Sunday of each month our 10 am service is devoted to family ministry\, and suitable to fall ages\, especially young children. There is a story sermon\, activities/crafts after church\, and lots of opportunities to be involved with worship at the level that you are comfortable. \nThese Sundays will be especially devoted to joy and celebrating our relationship with family\, friends\, and Jesus. \nFor those who are 4 years old + If you would like to participate in worship on a Second Sunday\, please let Rev. Erin know what Sundays you are present this fall and what you would like to help with! \nSept 14 – TBA \nOct  12 – Blessing of the Animals (Outside) \nNov 9 – TBA \nDec 14 – Brown Paper Bag Christmas Pageant (no rehearsal necessary) \nJan 11 – TBA \nFeb 8 – TBA \nMar 8 – TBA \nApr 12 – TBA \nMay 10 – TBA \nJun 14 –  TBA \nNursery Care will continue to run on the 4th Sunday of each month.
URL:https://ststeves.org/event/families-sunday-3/2027-05-09/
CATEGORIES:Parish Event
ATTACH;FMTTYPE=image/png:https://ststeves.org/wp-content/uploads/2023/10/This-one-.png
END:VEVENT
END:VCALENDAR