BEGIN:VCALENDAR
VERSION:2.0
PRODID:-//St. Stephen&#039;s Episcopal Church - ECPv6.15.20//NONSGML v1.0//EN
CALSCALE:GREGORIAN
METHOD:PUBLISH
X-WR-CALNAME:St. Stephen&#039;s Episcopal Church
X-ORIGINAL-URL:https://ststeves.org
X-WR-CALDESC:Events for St. Stephen&#039;s Episcopal Church
REFRESH-INTERVAL;VALUE=DURATION:PT1H
X-Robots-Tag:noindex
X-PUBLISHED-TTL:PT1H
BEGIN:VTIMEZONE
TZID:America/New_York
BEGIN:DAYLIGHT
TZOFFSETFROM:-0500
TZOFFSETTO:-0400
TZNAME:EDT
DTSTART:20240310T070000
END:DAYLIGHT
BEGIN:STANDARD
TZOFFSETFROM:-0400
TZOFFSETTO:-0500
TZNAME:EST
DTSTART:20241103T060000
END:STANDARD
BEGIN:DAYLIGHT
TZOFFSETFROM:-0500
TZOFFSETTO:-0400
TZNAME:EDT
DTSTART:20250309T070000
END:DAYLIGHT
BEGIN:STANDARD
TZOFFSETFROM:-0400
TZOFFSETTO:-0500
TZNAME:EST
DTSTART:20251102T060000
END:STANDARD
BEGIN:DAYLIGHT
TZOFFSETFROM:-0500
TZOFFSETTO:-0400
TZNAME:EDT
DTSTART:20260308T070000
END:DAYLIGHT
BEGIN:STANDARD
TZOFFSETFROM:-0400
TZOFFSETTO:-0500
TZNAME:EST
DTSTART:20261101T060000
END:STANDARD
END:VTIMEZONE
BEGIN:VEVENT
DTSTART;TZID=America/New_York:20250908T100000
DTEND;TZID=America/New_York:20250908T120000
DTSTAMP:20260419T153334
CREATED:20250421T181905Z
LAST-MODIFIED:20250421T181905Z
UID:10003730-1757325600-1757332800@ststeves.org
SUMMARY:Hungry Lion
DESCRIPTION:Kyle Killay  Uses Kitchen Monday morning to sanitize dishes from food truck
URL:https://ststeves.org/event/hungry-lion/2025-09-08/
CATEGORIES:Rental
END:VEVENT
BEGIN:VEVENT
DTSTART;TZID=America/New_York:20250909T190000
DTEND;TZID=America/New_York:20250909T200000
DTSTAMP:20260419T153334
CREATED:20221130T192202Z
LAST-MODIFIED:20230525T173507Z
UID:10000447-1757444400-1757448000@ststeves.org
SUMMARY:AA Meeting
DESCRIPTION:
URL:https://ststeves.org/event/aa-meeting/2025-09-09/
LOCATION:St. Stephen’s Parish Hall\, 31 Main Street\, East Haddam\, Connecticut\, 06423
CATEGORIES:Community Meeting
END:VEVENT
BEGIN:VEVENT
DTSTART;TZID=America/New_York:20250910T100000
DTEND;TZID=America/New_York:20250910T130000
DTSTAMP:20260419T153334
CREATED:20250402T150347Z
LAST-MODIFIED:20250402T150616Z
UID:10003653-1757498400-1757509200@ststeves.org
SUMMARY:EH Garden Club
DESCRIPTION:
URL:https://ststeves.org/event/eh-garden-club/2025-09-10/
CATEGORIES:Rental
END:VEVENT
BEGIN:VEVENT
DTSTART;TZID=America/New_York:20250910T190000
DTEND;TZID=America/New_York:20250910T200000
DTSTAMP:20260419T153334
CREATED:20221130T192252Z
LAST-MODIFIED:20230525T173507Z
UID:10000969-1757530800-1757534400@ststeves.org
SUMMARY:AA Meeting
DESCRIPTION:
URL:https://ststeves.org/event/aa-meeting-2/2025-09-10/
LOCATION:St. Stephen’s Parish Hall\, 31 Main Street\, East Haddam\, Connecticut\, 06423
CATEGORIES:Community Meeting
END:VEVENT
BEGIN:VEVENT
DTSTART;TZID=America/New_York:20250911T184500
DTEND;TZID=America/New_York:20250911T194500
DTSTAMP:20260419T153334
CREATED:20221130T192411Z
LAST-MODIFIED:20230525T173521Z
UID:10001489-1757616300-1757619900@ststeves.org
SUMMARY:AA Meeting
DESCRIPTION:
URL:https://ststeves.org/event/aa-meeting-3/2025-09-11/
LOCATION:St. Stephen’s Parish Hall\, 31 Main Street\, East Haddam\, Connecticut\, 06423
CATEGORIES:Community Meeting
END:VEVENT
BEGIN:VEVENT
DTSTART;TZID=America/New_York:20250914T100000
DTEND;TZID=America/New_York:20250914T130000
DTSTAMP:20260419T153334
CREATED:20250613T150045Z
LAST-MODIFIED:20250815T152425Z
UID:10003977-1757844000-1757854800@ststeves.org
SUMMARY:Welcome Back Sunday
DESCRIPTION:Welcome Back Sunday \nGuest Preacher\, First day of Sunday school and picnic!!\nGuest Preacher: Tasharah Person at 8 a.m. & 10 a.m. \nChurch picnic immediately following 10 a.m. worship \nGodly Play Sunday School will start September 14th and be offered every Sunday this fall! \nClick here to register for Sunday School and other Family Ministry opportunities. \nClick here for more information about our Children and Youth ministries.
URL:https://ststeves.org/event/welcome-back-picnic/
CATEGORIES:Parish Event
ATTACH;FMTTYPE=image/png:https://ststeves.org/wp-content/uploads/2025/06/Welcome-Back-Graphic-2.png
END:VEVENT
BEGIN:VEVENT
DTSTART;TZID=America/New_York:20250915T100000
DTEND;TZID=America/New_York:20250915T120000
DTSTAMP:20260419T153334
CREATED:20250421T181905Z
LAST-MODIFIED:20250421T181905Z
UID:10003731-1757930400-1757937600@ststeves.org
SUMMARY:Hungry Lion
DESCRIPTION:Kyle Killay  Uses Kitchen Monday morning to sanitize dishes from food truck
URL:https://ststeves.org/event/hungry-lion/2025-09-15/
CATEGORIES:Rental
END:VEVENT
BEGIN:VEVENT
DTSTART;TZID=America/New_York:20250916T190000
DTEND;TZID=America/New_York:20250916T200000
DTSTAMP:20260419T153334
CREATED:20221130T192202Z
LAST-MODIFIED:20230525T173507Z
UID:10000448-1758049200-1758052800@ststeves.org
SUMMARY:AA Meeting
DESCRIPTION:
URL:https://ststeves.org/event/aa-meeting/2025-09-16/
LOCATION:St. Stephen’s Parish Hall\, 31 Main Street\, East Haddam\, Connecticut\, 06423
CATEGORIES:Community Meeting
END:VEVENT
BEGIN:VEVENT
DTSTART;TZID=America/New_York:20250917T190000
DTEND;TZID=America/New_York:20250917T200000
DTSTAMP:20260419T153334
CREATED:20221130T192252Z
LAST-MODIFIED:20230525T173507Z
UID:10000970-1758135600-1758139200@ststeves.org
SUMMARY:AA Meeting
DESCRIPTION:
URL:https://ststeves.org/event/aa-meeting-2/2025-09-17/
LOCATION:St. Stephen’s Parish Hall\, 31 Main Street\, East Haddam\, Connecticut\, 06423
CATEGORIES:Community Meeting
END:VEVENT
BEGIN:VEVENT
DTSTART;TZID=America/New_York:20250918T184500
DTEND;TZID=America/New_York:20250918T194500
DTSTAMP:20260419T153334
CREATED:20221130T192411Z
LAST-MODIFIED:20230525T173521Z
UID:10001490-1758221100-1758224700@ststeves.org
SUMMARY:AA Meeting
DESCRIPTION:
URL:https://ststeves.org/event/aa-meeting-3/2025-09-18/
LOCATION:St. Stephen’s Parish Hall\, 31 Main Street\, East Haddam\, Connecticut\, 06423
CATEGORIES:Community Meeting
END:VEVENT
BEGIN:VEVENT
DTSTART;TZID=America/New_York:20250922T100000
DTEND;TZID=America/New_York:20250922T120000
DTSTAMP:20260419T153334
CREATED:20250421T181905Z
LAST-MODIFIED:20250421T181905Z
UID:10003732-1758535200-1758542400@ststeves.org
SUMMARY:Hungry Lion
DESCRIPTION:Kyle Killay  Uses Kitchen Monday morning to sanitize dishes from food truck
URL:https://ststeves.org/event/hungry-lion/2025-09-22/
CATEGORIES:Rental
END:VEVENT
BEGIN:VEVENT
DTSTART;TZID=America/New_York:20250923T190000
DTEND;TZID=America/New_York:20250923T200000
DTSTAMP:20260419T153334
CREATED:20221130T192202Z
LAST-MODIFIED:20230525T173507Z
UID:10000449-1758654000-1758657600@ststeves.org
SUMMARY:AA Meeting
DESCRIPTION:
URL:https://ststeves.org/event/aa-meeting/2025-09-23/
LOCATION:St. Stephen’s Parish Hall\, 31 Main Street\, East Haddam\, Connecticut\, 06423
CATEGORIES:Community Meeting
END:VEVENT
BEGIN:VEVENT
DTSTART;TZID=America/New_York:20250924T190000
DTEND;TZID=America/New_York:20250924T200000
DTSTAMP:20260419T153334
CREATED:20221130T192252Z
LAST-MODIFIED:20230525T173507Z
UID:10000971-1758740400-1758744000@ststeves.org
SUMMARY:AA Meeting
DESCRIPTION:
URL:https://ststeves.org/event/aa-meeting-2/2025-09-24/
LOCATION:St. Stephen’s Parish Hall\, 31 Main Street\, East Haddam\, Connecticut\, 06423
CATEGORIES:Community Meeting
END:VEVENT
BEGIN:VEVENT
DTSTART;TZID=America/New_York:20250925T184500
DTEND;TZID=America/New_York:20250925T194500
DTSTAMP:20260419T153334
CREATED:20221130T192411Z
LAST-MODIFIED:20230525T173521Z
UID:10001491-1758825900-1758829500@ststeves.org
SUMMARY:AA Meeting
DESCRIPTION:
URL:https://ststeves.org/event/aa-meeting-3/2025-09-25/
LOCATION:St. Stephen’s Parish Hall\, 31 Main Street\, East Haddam\, Connecticut\, 06423
CATEGORIES:Community Meeting
END:VEVENT
BEGIN:VEVENT
DTSTART;TZID=America/New_York:20250927T090000
DTEND;TZID=America/New_York:20250927T150000
DTSTAMP:20260419T153334
CREATED:20250819T210253Z
LAST-MODIFIED:20250819T210253Z
UID:10004184-1758963600-1758985200@ststeves.org
SUMMARY:Vestry Retreat
DESCRIPTION:Vestry Retreat September 27th from 9 am – 3 pm \nMercy by the Sea\, 167 Neck Rd\, Madison\, CT
URL:https://ststeves.org/event/vestry-retreat-3/
CATEGORIES:Parish Event
END:VEVENT
BEGIN:VEVENT
DTSTART;TZID=America/New_York:20250927T130000
DTEND;TZID=America/New_York:20250927T160000
DTSTAMP:20260419T153334
CREATED:20250805T181851Z
LAST-MODIFIED:20250805T182403Z
UID:10004169-1758978000-1758988800@ststeves.org
SUMMARY:Eagle Scout presentation Josh Anderson
DESCRIPTION:Parish Hall and Sanctuary
URL:https://ststeves.org/event/eagle-scout-presentation-josh-henderson/
CATEGORIES:Rental
END:VEVENT
BEGIN:VEVENT
DTSTART;TZID=America/New_York:20250928T100000
DTEND;TZID=America/New_York:20250928T113000
DTSTAMP:20260419T153334
CREATED:20250804T154309Z
LAST-MODIFIED:20251110T154315Z
UID:10004107-1759053600-1759059000@ststeves.org
SUMMARY:Nursery
DESCRIPTION:Nursery care is available every fourth Sunday of the month during the 10 a.m. service.  Our lead nursery care attendant is safe church trained. We always have two people in the room with the children.
URL:https://ststeves.org/event/nursery/2025-09-28/
CATEGORIES:Parish Event
ATTACH;FMTTYPE=image/png:https://ststeves.org/wp-content/uploads/2025/08/Nursery-Care-1.png
END:VEVENT
BEGIN:VEVENT
DTSTART;TZID=America/New_York:20250929T100000
DTEND;TZID=America/New_York:20250929T120000
DTSTAMP:20260419T153334
CREATED:20250421T181905Z
LAST-MODIFIED:20250421T181905Z
UID:10003733-1759140000-1759147200@ststeves.org
SUMMARY:Hungry Lion
DESCRIPTION:Kyle Killay  Uses Kitchen Monday morning to sanitize dishes from food truck
URL:https://ststeves.org/event/hungry-lion/2025-09-29/
CATEGORIES:Rental
END:VEVENT
BEGIN:VEVENT
DTSTART;TZID=America/New_York:20250930T190000
DTEND;TZID=America/New_York:20250930T200000
DTSTAMP:20260419T153334
CREATED:20221130T192202Z
LAST-MODIFIED:20230525T173507Z
UID:10000450-1759258800-1759262400@ststeves.org
SUMMARY:AA Meeting
DESCRIPTION:
URL:https://ststeves.org/event/aa-meeting/2025-09-30/
LOCATION:St. Stephen’s Parish Hall\, 31 Main Street\, East Haddam\, Connecticut\, 06423
CATEGORIES:Community Meeting
END:VEVENT
BEGIN:VEVENT
DTSTART;TZID=America/New_York:20251001T180000
DTEND;TZID=America/New_York:20251001T210000
DTSTAMP:20260419T153334
CREATED:20250916T183220Z
LAST-MODIFIED:20250916T183220Z
UID:10004189-1759341600-1759352400@ststeves.org
SUMMARY:East Haddam Art League
DESCRIPTION:
URL:https://ststeves.org/event/east-haddam-art-league/
CATEGORIES:Rental
END:VEVENT
BEGIN:VEVENT
DTSTART;TZID=America/New_York:20251001T190000
DTEND;TZID=America/New_York:20251001T200000
DTSTAMP:20260419T153334
CREATED:20221130T192252Z
LAST-MODIFIED:20230525T173507Z
UID:10000972-1759345200-1759348800@ststeves.org
SUMMARY:AA Meeting
DESCRIPTION:
URL:https://ststeves.org/event/aa-meeting-2/2025-10-01/
LOCATION:St. Stephen’s Parish Hall\, 31 Main Street\, East Haddam\, Connecticut\, 06423
CATEGORIES:Community Meeting
END:VEVENT
BEGIN:VEVENT
DTSTART;TZID=America/New_York:20251002T184500
DTEND;TZID=America/New_York:20251002T194500
DTSTAMP:20260419T153334
CREATED:20221130T192411Z
LAST-MODIFIED:20230525T173521Z
UID:10001492-1759430700-1759434300@ststeves.org
SUMMARY:AA Meeting
DESCRIPTION:
URL:https://ststeves.org/event/aa-meeting-3/2025-10-02/
LOCATION:St. Stephen’s Parish Hall\, 31 Main Street\, East Haddam\, Connecticut\, 06423
CATEGORIES:Community Meeting
END:VEVENT
BEGIN:VEVENT
DTSTART;TZID=America/New_York:20251003T170000
DTEND;TZID=America/New_York:20251003T213000
DTSTAMP:20260419T153334
CREATED:20250918T145911Z
LAST-MODIFIED:20250922T135341Z
UID:10004191-1759510800-1759527000@ststeves.org
SUMMARY:Glenn Brielmann
DESCRIPTION:
URL:https://ststeves.org/event/glenn-brielmann/
CATEGORIES:Rental
END:VEVENT
BEGIN:VEVENT
DTSTART;TZID=America/New_York:20251004T050000
DTEND;TZID=America/New_York:20251004T140000
DTSTAMP:20260419T153334
CREATED:20250913T184115Z
LAST-MODIFIED:20250913T184115Z
UID:10004188-1759554000-1759586400@ststeves.org
SUMMARY:Jeff Taylor
DESCRIPTION:
URL:https://ststeves.org/event/jeff-taylor-8/
CATEGORIES:Rental
END:VEVENT
BEGIN:VEVENT
DTSTART;TZID=America/New_York:20251005T100000
DTEND;TZID=America/New_York:20251005T110000
DTSTAMP:20260419T153334
CREATED:20250610T172314Z
LAST-MODIFIED:20250610T172315Z
UID:10003972-1759658400-1759662000@ststeves.org
SUMMARY:Blessing of the Animals
DESCRIPTION:In celebration of the Feast of St. Francis\, we are hosting a Blessing of the Animals during our 10 a.m. worship on Oct 5th. All creatures great and small are welcome\, regardless of their (and their owner’s) faith journey.  \nWe will gather at 10 a.m. on the lawn for worship. If it rains the Blessing will be moved to our parish hall. \nAll pets must be on a leash or in a carrier. If your pet is shy or nervous\, or tends to get a little feisty around others\, please bring a picture rather than your animal to avoid undo stress to them and others. \nThere will also be a place for names and pictures of our beloved pets who are in the arms of God. Let us gather and give thanks for all of God’s creatures. \n** for those seeking a quieter worship experience\, you may wish to consider joining for our 8 a.m. service in the chapel (which will be animal free.)
URL:https://ststeves.org/event/blessing-of-the-animals-4/
CATEGORIES:Parish Event
ATTACH;FMTTYPE=image/png:https://ststeves.org/wp-content/uploads/2024/01/Blessing-of-the-animals-2.png
END:VEVENT
BEGIN:VEVENT
DTSTART;TZID=America/New_York:20251006T100000
DTEND;TZID=America/New_York:20251006T120000
DTSTAMP:20260419T153334
CREATED:20250421T181905Z
LAST-MODIFIED:20250421T181905Z
UID:10003734-1759744800-1759752000@ststeves.org
SUMMARY:Hungry Lion
DESCRIPTION:Kyle Killay  Uses Kitchen Monday morning to sanitize dishes from food truck
URL:https://ststeves.org/event/hungry-lion/2025-10-06/
CATEGORIES:Rental
END:VEVENT
BEGIN:VEVENT
DTSTART;TZID=America/New_York:20251007T190000
DTEND;TZID=America/New_York:20251007T200000
DTSTAMP:20260419T153334
CREATED:20221130T192202Z
LAST-MODIFIED:20230525T173507Z
UID:10000451-1759863600-1759867200@ststeves.org
SUMMARY:AA Meeting
DESCRIPTION:
URL:https://ststeves.org/event/aa-meeting/2025-10-07/
LOCATION:St. Stephen’s Parish Hall\, 31 Main Street\, East Haddam\, Connecticut\, 06423
CATEGORIES:Community Meeting
END:VEVENT
BEGIN:VEVENT
DTSTART;TZID=America/New_York:20251008T100000
DTEND;TZID=America/New_York:20251008T130000
DTSTAMP:20260419T153334
CREATED:20250402T150347Z
LAST-MODIFIED:20250402T150616Z
UID:10003654-1759917600-1759928400@ststeves.org
SUMMARY:EH Garden Club
DESCRIPTION:
URL:https://ststeves.org/event/eh-garden-club/2025-10-08/
CATEGORIES:Rental
END:VEVENT
BEGIN:VEVENT
DTSTART;TZID=America/New_York:20251008T190000
DTEND;TZID=America/New_York:20251008T200000
DTSTAMP:20260419T153334
CREATED:20221130T192252Z
LAST-MODIFIED:20230525T173507Z
UID:10000973-1759950000-1759953600@ststeves.org
SUMMARY:AA Meeting
DESCRIPTION:
URL:https://ststeves.org/event/aa-meeting-2/2025-10-08/
LOCATION:St. Stephen’s Parish Hall\, 31 Main Street\, East Haddam\, Connecticut\, 06423
CATEGORIES:Community Meeting
END:VEVENT
BEGIN:VEVENT
DTSTART;TZID=America/New_York:20251009T184500
DTEND;TZID=America/New_York:20251009T194500
DTSTAMP:20260419T153334
CREATED:20221130T192411Z
LAST-MODIFIED:20230525T173521Z
UID:10001493-1760035500-1760039100@ststeves.org
SUMMARY:AA Meeting
DESCRIPTION:
URL:https://ststeves.org/event/aa-meeting-3/2025-10-09/
LOCATION:St. Stephen’s Parish Hall\, 31 Main Street\, East Haddam\, Connecticut\, 06423
CATEGORIES:Community Meeting
END:VEVENT
END:VCALENDAR