BEGIN:VCALENDAR
VERSION:2.0
PRODID:-//St. Stephen&#039;s Episcopal Church - ECPv6.15.20//NONSGML v1.0//EN
CALSCALE:GREGORIAN
METHOD:PUBLISH
X-WR-CALNAME:St. Stephen&#039;s Episcopal Church
X-ORIGINAL-URL:https://ststeves.org
X-WR-CALDESC:Events for St. Stephen&#039;s Episcopal Church
REFRESH-INTERVAL;VALUE=DURATION:PT1H
X-Robots-Tag:noindex
X-PUBLISHED-TTL:PT1H
BEGIN:VTIMEZONE
TZID:America/New_York
BEGIN:DAYLIGHT
TZOFFSETFROM:-0500
TZOFFSETTO:-0400
TZNAME:EDT
DTSTART:20250309T070000
END:DAYLIGHT
BEGIN:STANDARD
TZOFFSETFROM:-0400
TZOFFSETTO:-0500
TZNAME:EST
DTSTART:20251102T060000
END:STANDARD
BEGIN:DAYLIGHT
TZOFFSETFROM:-0500
TZOFFSETTO:-0400
TZNAME:EDT
DTSTART:20260308T070000
END:DAYLIGHT
BEGIN:STANDARD
TZOFFSETFROM:-0400
TZOFFSETTO:-0500
TZNAME:EST
DTSTART:20261101T060000
END:STANDARD
BEGIN:DAYLIGHT
TZOFFSETFROM:-0500
TZOFFSETTO:-0400
TZNAME:EDT
DTSTART:20270314T070000
END:DAYLIGHT
BEGIN:STANDARD
TZOFFSETFROM:-0400
TZOFFSETTO:-0500
TZNAME:EST
DTSTART:20271107T060000
END:STANDARD
END:VTIMEZONE
BEGIN:VEVENT
DTSTART;TZID=America/New_York:20260302T100000
DTEND;TZID=America/New_York:20260302T120000
DTSTAMP:20260424T111937
CREATED:20250421T181905Z
LAST-MODIFIED:20250421T181905Z
UID:10003755-1772445600-1772452800@ststeves.org
SUMMARY:Hungry Lion
DESCRIPTION:Kyle Killay  Uses Kitchen Monday morning to sanitize dishes from food truck
URL:https://ststeves.org/event/hungry-lion/2026-03-02/
CATEGORIES:Rental
END:VEVENT
BEGIN:VEVENT
DTSTART;TZID=America/New_York:20260303T190000
DTEND;TZID=America/New_York:20260303T200000
DTSTAMP:20260424T111937
CREATED:20221130T192202Z
LAST-MODIFIED:20230525T173507Z
UID:10000472-1772564400-1772568000@ststeves.org
SUMMARY:AA Meeting
DESCRIPTION:
URL:https://ststeves.org/event/aa-meeting/2026-03-03/
LOCATION:St. Stephen’s Parish Hall\, 31 Main Street\, East Haddam\, Connecticut\, 06423
CATEGORIES:Community Meeting
END:VEVENT
BEGIN:VEVENT
DTSTART;TZID=America/New_York:20260304T190000
DTEND;TZID=America/New_York:20260304T200000
DTSTAMP:20260424T111937
CREATED:20221130T192252Z
LAST-MODIFIED:20230525T173507Z
UID:10000994-1772650800-1772654400@ststeves.org
SUMMARY:AA Meeting
DESCRIPTION:
URL:https://ststeves.org/event/aa-meeting-2/2026-03-04/
LOCATION:St. Stephen’s Parish Hall\, 31 Main Street\, East Haddam\, Connecticut\, 06423
CATEGORIES:Community Meeting
END:VEVENT
BEGIN:VEVENT
DTSTART;TZID=America/New_York:20260305T184500
DTEND;TZID=America/New_York:20260305T194500
DTSTAMP:20260424T111937
CREATED:20221130T192411Z
LAST-MODIFIED:20230525T173521Z
UID:10001514-1772736300-1772739900@ststeves.org
SUMMARY:AA Meeting
DESCRIPTION:
URL:https://ststeves.org/event/aa-meeting-3/2026-03-05/
LOCATION:St. Stephen’s Parish Hall\, 31 Main Street\, East Haddam\, Connecticut\, 06423
CATEGORIES:Community Meeting
END:VEVENT
BEGIN:VEVENT
DTSTART;TZID=America/New_York:20260305T190000
DTEND;TZID=America/New_York:20260305T200000
DTSTAMP:20260424T111937
CREATED:20250410T014332Z
LAST-MODIFIED:20260310T163923Z
UID:10004350-1772737200-1772740800@ststeves.org
SUMMARY:Choir Rehearsal
DESCRIPTION:
URL:https://ststeves.org/event/choir-rehearsal-3-2/2026-03-05/
LOCATION:St. Stephen’s Chapel\, 31 Main Street\, East Haddam\, CT\, 06423\, United States
CATEGORIES:Parish Meeting
END:VEVENT
BEGIN:VEVENT
DTSTART;TZID=America/New_York:20260307T110000
DTEND;TZID=America/New_York:20260307T163000
DTSTAMP:20260424T111937
CREATED:20260214T152908Z
LAST-MODIFIED:20260214T152908Z
UID:10004369-1772881200-1772901000@ststeves.org
SUMMARY:Lisa Roger's Retreat
DESCRIPTION:
URL:https://ststeves.org/event/lisa-rogers-retreat/
CATEGORIES:Rental
END:VEVENT
BEGIN:VEVENT
DTSTART;TZID=America/New_York:20260307T180000
DTEND;TZID=America/New_York:20260307T220000
DTSTAMP:20260424T111937
CREATED:20260113T181413Z
LAST-MODIFIED:20260113T181437Z
UID:10004336-1772906400-1772920800@ststeves.org
SUMMARY:Jade Matviyenka
DESCRIPTION:
URL:https://ststeves.org/event/jade-matviyenka-2/
CATEGORIES:Rental
END:VEVENT
BEGIN:VEVENT
DTSTART;TZID=America/New_York:20260308T100000
DTEND;TZID=America/New_York:20260308T111500
DTSTAMP:20260424T111937
CREATED:20250715T201320Z
LAST-MODIFIED:20251125T170559Z
UID:10004054-1772964000-1772968500@ststeves.org
SUMMARY:Family Sunday
DESCRIPTION:The Second Sunday of each month our 10 am service is devoted to family ministry\, and suitable to fall ages\, especially young children. There is a story sermon\, activities/crafts after church\, and lots of opportunities to be involved with worship at the level that you are comfortable. \nThese Sundays will be especially devoted to joy and celebrating our relationship with family\, friends\, and Jesus. \nFor those who are 4 years old + If you would like to participate in worship on a Second Sunday\, please let Rev. Erin know what Sundays you are present this fall and what you would like to help with! \nSept 14 – TBA \nOct  12 – Blessing of the Animals (Outside) \nNov 9 – TBA \nDec 14 – Brown Paper Bag Christmas Pageant (no rehearsal necessary) \nJan 11 – TBA \nFeb 8 – TBA \nMar 8 – TBA \nApr 12 – TBA \nMay 10 – TBA \nJun 14 –  TBA \nNursery Care will continue to run on the 4th Sunday of each month.
URL:https://ststeves.org/event/families-sunday-3/2026-03-08/
CATEGORIES:Parish Event
ATTACH;FMTTYPE=image/png:https://ststeves.org/wp-content/uploads/2023/10/This-one-.png
END:VEVENT
BEGIN:VEVENT
DTSTART;TZID=America/New_York:20260309T100000
DTEND;TZID=America/New_York:20260309T120000
DTSTAMP:20260424T111937
CREATED:20250421T181905Z
LAST-MODIFIED:20250421T181905Z
UID:10003756-1773050400-1773057600@ststeves.org
SUMMARY:Hungry Lion
DESCRIPTION:Kyle Killay  Uses Kitchen Monday morning to sanitize dishes from food truck
URL:https://ststeves.org/event/hungry-lion/2026-03-09/
CATEGORIES:Rental
END:VEVENT
BEGIN:VEVENT
DTSTART;TZID=America/New_York:20260310T190000
DTEND;TZID=America/New_York:20260310T200000
DTSTAMP:20260424T111937
CREATED:20221130T192202Z
LAST-MODIFIED:20230525T173507Z
UID:10000473-1773169200-1773172800@ststeves.org
SUMMARY:AA Meeting
DESCRIPTION:
URL:https://ststeves.org/event/aa-meeting/2026-03-10/
LOCATION:St. Stephen’s Parish Hall\, 31 Main Street\, East Haddam\, Connecticut\, 06423
CATEGORIES:Community Meeting
END:VEVENT
BEGIN:VEVENT
DTSTART;TZID=America/New_York:20260311T100000
DTEND;TZID=America/New_York:20260311T130000
DTSTAMP:20260424T111937
CREATED:20250402T150347Z
LAST-MODIFIED:20250402T150616Z
UID:10003659-1773223200-1773234000@ststeves.org
SUMMARY:EH Garden Club
DESCRIPTION:
URL:https://ststeves.org/event/eh-garden-club/2026-03-11/
CATEGORIES:Rental
END:VEVENT
BEGIN:VEVENT
DTSTART;TZID=America/New_York:20260311T190000
DTEND;TZID=America/New_York:20260311T200000
DTSTAMP:20260424T111937
CREATED:20221130T192252Z
LAST-MODIFIED:20230525T173507Z
UID:10000995-1773255600-1773259200@ststeves.org
SUMMARY:AA Meeting
DESCRIPTION:
URL:https://ststeves.org/event/aa-meeting-2/2026-03-11/
LOCATION:St. Stephen’s Parish Hall\, 31 Main Street\, East Haddam\, Connecticut\, 06423
CATEGORIES:Community Meeting
END:VEVENT
BEGIN:VEVENT
DTSTART;TZID=America/New_York:20260312T184500
DTEND;TZID=America/New_York:20260312T194500
DTSTAMP:20260424T111937
CREATED:20221130T192411Z
LAST-MODIFIED:20230525T173521Z
UID:10001515-1773341100-1773344700@ststeves.org
SUMMARY:AA Meeting
DESCRIPTION:
URL:https://ststeves.org/event/aa-meeting-3/2026-03-12/
LOCATION:St. Stephen’s Parish Hall\, 31 Main Street\, East Haddam\, Connecticut\, 06423
CATEGORIES:Community Meeting
END:VEVENT
BEGIN:VEVENT
DTSTART;TZID=America/New_York:20260312T190000
DTEND;TZID=America/New_York:20260312T200000
DTSTAMP:20260424T111937
CREATED:20250410T014332Z
LAST-MODIFIED:20260310T163923Z
UID:10004351-1773342000-1773345600@ststeves.org
SUMMARY:Choir Rehearsal
DESCRIPTION:
URL:https://ststeves.org/event/choir-rehearsal-3-2/2026-03-12/
LOCATION:St. Stephen’s Chapel\, 31 Main Street\, East Haddam\, CT\, 06423\, United States
CATEGORIES:Parish Meeting
END:VEVENT
BEGIN:VEVENT
DTSTART;TZID=America/New_York:20260314T050000
DTEND;TZID=America/New_York:20260314T120000
DTSTAMP:20260424T111937
CREATED:20251125T172535Z
LAST-MODIFIED:20251125T172644Z
UID:10004212-1773464400-1773489600@ststeves.org
SUMMARY:Jeff Taylor
DESCRIPTION:
URL:https://ststeves.org/event/jeff-taylor-15/
CATEGORIES:Rental
END:VEVENT
BEGIN:VEVENT
DTSTART;TZID=America/New_York:20260316T100000
DTEND;TZID=America/New_York:20260316T120000
DTSTAMP:20260424T111937
CREATED:20250421T181905Z
LAST-MODIFIED:20250421T181905Z
UID:10003757-1773655200-1773662400@ststeves.org
SUMMARY:Hungry Lion
DESCRIPTION:Kyle Killay  Uses Kitchen Monday morning to sanitize dishes from food truck
URL:https://ststeves.org/event/hungry-lion/2026-03-16/
CATEGORIES:Rental
END:VEVENT
BEGIN:VEVENT
DTSTART;TZID=America/New_York:20260316T133000
DTEND;TZID=America/New_York:20260316T153000
DTSTAMP:20260424T111937
CREATED:20260214T204743Z
LAST-MODIFIED:20260214T204743Z
UID:10004370-1773667800-1773675000@ststeves.org
SUMMARY:Library Book Club
DESCRIPTION:
URL:https://ststeves.org/event/library-book-club/2026-03-16/
END:VEVENT
BEGIN:VEVENT
DTSTART;TZID=America/New_York:20260317T190000
DTEND;TZID=America/New_York:20260317T200000
DTSTAMP:20260424T111937
CREATED:20221130T192202Z
LAST-MODIFIED:20230525T173507Z
UID:10000474-1773774000-1773777600@ststeves.org
SUMMARY:AA Meeting
DESCRIPTION:
URL:https://ststeves.org/event/aa-meeting/2026-03-17/
LOCATION:St. Stephen’s Parish Hall\, 31 Main Street\, East Haddam\, Connecticut\, 06423
CATEGORIES:Community Meeting
END:VEVENT
BEGIN:VEVENT
DTSTART;TZID=America/New_York:20260318T190000
DTEND;TZID=America/New_York:20260318T200000
DTSTAMP:20260424T111937
CREATED:20221130T192252Z
LAST-MODIFIED:20230525T173507Z
UID:10000996-1773860400-1773864000@ststeves.org
SUMMARY:AA Meeting
DESCRIPTION:
URL:https://ststeves.org/event/aa-meeting-2/2026-03-18/
LOCATION:St. Stephen’s Parish Hall\, 31 Main Street\, East Haddam\, Connecticut\, 06423
CATEGORIES:Community Meeting
END:VEVENT
BEGIN:VEVENT
DTSTART;TZID=America/New_York:20260319T133000
DTEND;TZID=America/New_York:20260319T143000
DTSTAMP:20260424T111937
CREATED:20230223T193539Z
LAST-MODIFIED:20251227T231553Z
UID:10004215-1773927000-1773930600@ststeves.org
SUMMARY:St. Stephen's Book Club
DESCRIPTION:St. Stephen’s Book Club will be meeting on the third Thursday of every month at 1:30pm in the Parish Hall – except July\, August and December – \nJanuary 15 | February 19 | March 19 | April 16 | May 21 | June 18 | September 17 | October 15| November 19 \nFor more info\, email Betsy. \n 
URL:https://ststeves.org/event/st-stephens-book-club-4/2026-03-19/
LOCATION:St. Stephen’s Parish Hall\, 31 Main Street\, East Haddam\, Connecticut\, 06423
CATEGORIES:Parish Event
ATTACH;FMTTYPE=image/png:https://ststeves.org/wp-content/uploads/2023/02/St.-Stephens-book-club-4.png
END:VEVENT
BEGIN:VEVENT
DTSTART;TZID=America/New_York:20260319T184500
DTEND;TZID=America/New_York:20260319T194500
DTSTAMP:20260424T111937
CREATED:20221130T192411Z
LAST-MODIFIED:20230525T173521Z
UID:10001516-1773945900-1773949500@ststeves.org
SUMMARY:AA Meeting
DESCRIPTION:
URL:https://ststeves.org/event/aa-meeting-3/2026-03-19/
LOCATION:St. Stephen’s Parish Hall\, 31 Main Street\, East Haddam\, Connecticut\, 06423
CATEGORIES:Community Meeting
END:VEVENT
BEGIN:VEVENT
DTSTART;TZID=America/New_York:20260319T190000
DTEND;TZID=America/New_York:20260319T200000
DTSTAMP:20260424T111937
CREATED:20250410T014332Z
LAST-MODIFIED:20260310T163923Z
UID:10004352-1773946800-1773950400@ststeves.org
SUMMARY:Choir Rehearsal
DESCRIPTION:
URL:https://ststeves.org/event/choir-rehearsal-3-2/2026-03-19/
LOCATION:St. Stephen’s Chapel\, 31 Main Street\, East Haddam\, CT\, 06423\, United States
CATEGORIES:Parish Meeting
END:VEVENT
BEGIN:VEVENT
DTSTART;TZID=America/New_York:20260320T120000
DTEND;TZID=America/New_York:20260320T170000
DTSTAMP:20260424T111937
CREATED:20260319T143704Z
LAST-MODIFIED:20260319T144116Z
UID:10004440-1774008000-1774026000@ststeves.org
SUMMARY:Funeral set up tables
DESCRIPTION:
URL:https://ststeves.org/event/funeral-set-up-tables/
CATEGORIES:Rental
END:VEVENT
BEGIN:VEVENT
DTSTART;TZID=America/New_York:20260321T110000
DTEND;TZID=America/New_York:20260321T170000
DTSTAMP:20260424T111937
CREATED:20260313T145449Z
LAST-MODIFIED:20260313T145449Z
UID:10004438-1774090800-1774112400@ststeves.org
SUMMARY:Lloyd Neudecker Funeral and Respite
DESCRIPTION:Sanctuary and Parish Hall
URL:https://ststeves.org/event/lloyd-neudecker-funeral-and-respite/
CATEGORIES:Rental
END:VEVENT
BEGIN:VEVENT
DTSTART;TZID=America/New_York:20260322T100000
DTEND;TZID=America/New_York:20260322T113000
DTSTAMP:20260424T111937
CREATED:20250804T154309Z
LAST-MODIFIED:20251110T154315Z
UID:10004113-1774173600-1774179000@ststeves.org
SUMMARY:Nursery
DESCRIPTION:Nursery care is available every fourth Sunday of the month during the 10 a.m. service.  Our lead nursery care attendant is safe church trained. We always have two people in the room with the children.
URL:https://ststeves.org/event/nursery/2026-03-22/
CATEGORIES:Parish Event
ATTACH;FMTTYPE=image/png:https://ststeves.org/wp-content/uploads/2025/08/Nursery-Care-1.png
END:VEVENT
BEGIN:VEVENT
DTSTART;TZID=America/New_York:20260323T100000
DTEND;TZID=America/New_York:20260323T120000
DTSTAMP:20260424T111937
CREATED:20250421T181905Z
LAST-MODIFIED:20250421T181905Z
UID:10003758-1774260000-1774267200@ststeves.org
SUMMARY:Hungry Lion
DESCRIPTION:Kyle Killay  Uses Kitchen Monday morning to sanitize dishes from food truck
URL:https://ststeves.org/event/hungry-lion/2026-03-23/
CATEGORIES:Rental
END:VEVENT
BEGIN:VEVENT
DTSTART;TZID=America/New_York:20260324T190000
DTEND;TZID=America/New_York:20260324T200000
DTSTAMP:20260424T111937
CREATED:20221130T192202Z
LAST-MODIFIED:20230525T173507Z
UID:10000475-1774378800-1774382400@ststeves.org
SUMMARY:AA Meeting
DESCRIPTION:
URL:https://ststeves.org/event/aa-meeting/2026-03-24/
LOCATION:St. Stephen’s Parish Hall\, 31 Main Street\, East Haddam\, Connecticut\, 06423
CATEGORIES:Community Meeting
END:VEVENT
BEGIN:VEVENT
DTSTART;TZID=America/New_York:20260325T190000
DTEND;TZID=America/New_York:20260325T200000
DTSTAMP:20260424T111937
CREATED:20221130T192252Z
LAST-MODIFIED:20230525T173507Z
UID:10000997-1774465200-1774468800@ststeves.org
SUMMARY:AA Meeting
DESCRIPTION:
URL:https://ststeves.org/event/aa-meeting-2/2026-03-25/
LOCATION:St. Stephen’s Parish Hall\, 31 Main Street\, East Haddam\, Connecticut\, 06423
CATEGORIES:Community Meeting
END:VEVENT
BEGIN:VEVENT
DTSTART;TZID=America/New_York:20260326T184500
DTEND;TZID=America/New_York:20260326T194500
DTSTAMP:20260424T111937
CREATED:20221130T192411Z
LAST-MODIFIED:20230525T173521Z
UID:10001517-1774550700-1774554300@ststeves.org
SUMMARY:AA Meeting
DESCRIPTION:
URL:https://ststeves.org/event/aa-meeting-3/2026-03-26/
LOCATION:St. Stephen’s Parish Hall\, 31 Main Street\, East Haddam\, Connecticut\, 06423
CATEGORIES:Community Meeting
END:VEVENT
BEGIN:VEVENT
DTSTART;TZID=America/New_York:20260326T190000
DTEND;TZID=America/New_York:20260326T200000
DTSTAMP:20260424T111937
CREATED:20250410T014332Z
LAST-MODIFIED:20260310T163923Z
UID:10004353-1774551600-1774555200@ststeves.org
SUMMARY:Choir Rehearsal
DESCRIPTION:
URL:https://ststeves.org/event/choir-rehearsal-3-2/2026-03-26/
LOCATION:St. Stephen’s Chapel\, 31 Main Street\, East Haddam\, CT\, 06423\, United States
CATEGORIES:Parish Meeting
END:VEVENT
END:VCALENDAR