BEGIN:VCALENDAR
VERSION:2.0
PRODID:-//St. Stephen&#039;s Episcopal Church - ECPv6.15.20//NONSGML v1.0//EN
CALSCALE:GREGORIAN
METHOD:PUBLISH
X-WR-CALNAME:St. Stephen&#039;s Episcopal Church
X-ORIGINAL-URL:https://ststeves.org
X-WR-CALDESC:Events for St. Stephen&#039;s Episcopal Church
REFRESH-INTERVAL;VALUE=DURATION:PT1H
X-Robots-Tag:noindex
X-PUBLISHED-TTL:PT1H
BEGIN:VTIMEZONE
TZID:America/New_York
BEGIN:DAYLIGHT
TZOFFSETFROM:-0500
TZOFFSETTO:-0400
TZNAME:EDT
DTSTART:20250309T070000
END:DAYLIGHT
BEGIN:STANDARD
TZOFFSETFROM:-0400
TZOFFSETTO:-0500
TZNAME:EST
DTSTART:20251102T060000
END:STANDARD
BEGIN:DAYLIGHT
TZOFFSETFROM:-0500
TZOFFSETTO:-0400
TZNAME:EDT
DTSTART:20260308T070000
END:DAYLIGHT
BEGIN:STANDARD
TZOFFSETFROM:-0400
TZOFFSETTO:-0500
TZNAME:EST
DTSTART:20261101T060000
END:STANDARD
BEGIN:DAYLIGHT
TZOFFSETFROM:-0500
TZOFFSETTO:-0400
TZNAME:EDT
DTSTART:20270314T070000
END:DAYLIGHT
BEGIN:STANDARD
TZOFFSETFROM:-0400
TZOFFSETTO:-0500
TZNAME:EST
DTSTART:20271107T060000
END:STANDARD
END:VTIMEZONE
BEGIN:VEVENT
DTSTART;TZID=America/New_York:20260427T100000
DTEND;TZID=America/New_York:20260427T120000
DTSTAMP:20260424T081951
CREATED:20250421T181905Z
LAST-MODIFIED:20250421T181905Z
UID:10003763-1777284000-1777291200@ststeves.org
SUMMARY:Hungry Lion
DESCRIPTION:Kyle Killay  Uses Kitchen Monday morning to sanitize dishes from food truck
URL:https://ststeves.org/event/hungry-lion/2026-04-27/
CATEGORIES:Rental
END:VEVENT
BEGIN:VEVENT
DTSTART;TZID=America/New_York:20260504T100000
DTEND;TZID=America/New_York:20260504T120000
DTSTAMP:20260424T081951
CREATED:20250421T181905Z
LAST-MODIFIED:20250421T181905Z
UID:10003764-1777888800-1777896000@ststeves.org
SUMMARY:Hungry Lion
DESCRIPTION:Kyle Killay  Uses Kitchen Monday morning to sanitize dishes from food truck
URL:https://ststeves.org/event/hungry-lion/2026-05-04/
CATEGORIES:Rental
END:VEVENT
BEGIN:VEVENT
DTSTART;TZID=America/New_York:20260511T100000
DTEND;TZID=America/New_York:20260511T120000
DTSTAMP:20260424T081951
CREATED:20250421T181905Z
LAST-MODIFIED:20250421T181905Z
UID:10003765-1778493600-1778500800@ststeves.org
SUMMARY:Hungry Lion
DESCRIPTION:Kyle Killay  Uses Kitchen Monday morning to sanitize dishes from food truck
URL:https://ststeves.org/event/hungry-lion/2026-05-11/
CATEGORIES:Rental
END:VEVENT
BEGIN:VEVENT
DTSTART;TZID=America/New_York:20260518T100000
DTEND;TZID=America/New_York:20260518T120000
DTSTAMP:20260424T081951
CREATED:20250421T181905Z
LAST-MODIFIED:20250421T181905Z
UID:10003766-1779098400-1779105600@ststeves.org
SUMMARY:Hungry Lion
DESCRIPTION:Kyle Killay  Uses Kitchen Monday morning to sanitize dishes from food truck
URL:https://ststeves.org/event/hungry-lion/2026-05-18/
CATEGORIES:Rental
END:VEVENT
BEGIN:VEVENT
DTSTART;TZID=America/New_York:20260525T100000
DTEND;TZID=America/New_York:20260525T120000
DTSTAMP:20260424T081951
CREATED:20250421T181905Z
LAST-MODIFIED:20250421T181905Z
UID:10003767-1779703200-1779710400@ststeves.org
SUMMARY:Hungry Lion
DESCRIPTION:Kyle Killay  Uses Kitchen Monday morning to sanitize dishes from food truck
URL:https://ststeves.org/event/hungry-lion/2026-05-25/
CATEGORIES:Rental
END:VEVENT
BEGIN:VEVENT
DTSTART;TZID=America/New_York:20260601T100000
DTEND;TZID=America/New_York:20260601T120000
DTSTAMP:20260424T081951
CREATED:20250421T181905Z
LAST-MODIFIED:20250421T181905Z
UID:10003768-1780308000-1780315200@ststeves.org
SUMMARY:Hungry Lion
DESCRIPTION:Kyle Killay  Uses Kitchen Monday morning to sanitize dishes from food truck
URL:https://ststeves.org/event/hungry-lion/2026-06-01/
CATEGORIES:Rental
END:VEVENT
BEGIN:VEVENT
DTSTART;TZID=America/New_York:20260608T100000
DTEND;TZID=America/New_York:20260608T120000
DTSTAMP:20260424T081951
CREATED:20250421T181905Z
LAST-MODIFIED:20250421T181905Z
UID:10003769-1780912800-1780920000@ststeves.org
SUMMARY:Hungry Lion
DESCRIPTION:Kyle Killay  Uses Kitchen Monday morning to sanitize dishes from food truck
URL:https://ststeves.org/event/hungry-lion/2026-06-08/
CATEGORIES:Rental
END:VEVENT
BEGIN:VEVENT
DTSTART;TZID=America/New_York:20260615T100000
DTEND;TZID=America/New_York:20260615T120000
DTSTAMP:20260424T081951
CREATED:20250421T181905Z
LAST-MODIFIED:20250421T181905Z
UID:10003770-1781517600-1781524800@ststeves.org
SUMMARY:Hungry Lion
DESCRIPTION:Kyle Killay  Uses Kitchen Monday morning to sanitize dishes from food truck
URL:https://ststeves.org/event/hungry-lion/2026-06-15/
CATEGORIES:Rental
END:VEVENT
BEGIN:VEVENT
DTSTART;TZID=America/New_York:20260622T100000
DTEND;TZID=America/New_York:20260622T120000
DTSTAMP:20260424T081951
CREATED:20250421T181905Z
LAST-MODIFIED:20250421T181905Z
UID:10003771-1782122400-1782129600@ststeves.org
SUMMARY:Hungry Lion
DESCRIPTION:Kyle Killay  Uses Kitchen Monday morning to sanitize dishes from food truck
URL:https://ststeves.org/event/hungry-lion/2026-06-22/
CATEGORIES:Rental
END:VEVENT
BEGIN:VEVENT
DTSTART;TZID=America/New_York:20260629T100000
DTEND;TZID=America/New_York:20260629T120000
DTSTAMP:20260424T081951
CREATED:20250421T181905Z
LAST-MODIFIED:20250421T181905Z
UID:10003772-1782727200-1782734400@ststeves.org
SUMMARY:Hungry Lion
DESCRIPTION:Kyle Killay  Uses Kitchen Monday morning to sanitize dishes from food truck
URL:https://ststeves.org/event/hungry-lion/2026-06-29/
CATEGORIES:Rental
END:VEVENT
BEGIN:VEVENT
DTSTART;TZID=America/New_York:20260706T100000
DTEND;TZID=America/New_York:20260706T120000
DTSTAMP:20260424T081951
CREATED:20250421T181905Z
LAST-MODIFIED:20250421T181905Z
UID:10003773-1783332000-1783339200@ststeves.org
SUMMARY:Hungry Lion
DESCRIPTION:Kyle Killay  Uses Kitchen Monday morning to sanitize dishes from food truck
URL:https://ststeves.org/event/hungry-lion/2026-07-06/
CATEGORIES:Rental
END:VEVENT
BEGIN:VEVENT
DTSTART;TZID=America/New_York:20260713T100000
DTEND;TZID=America/New_York:20260713T120000
DTSTAMP:20260424T081951
CREATED:20250421T181905Z
LAST-MODIFIED:20250421T181905Z
UID:10003774-1783936800-1783944000@ststeves.org
SUMMARY:Hungry Lion
DESCRIPTION:Kyle Killay  Uses Kitchen Monday morning to sanitize dishes from food truck
URL:https://ststeves.org/event/hungry-lion/2026-07-13/
CATEGORIES:Rental
END:VEVENT
BEGIN:VEVENT
DTSTART;TZID=America/New_York:20260720T100000
DTEND;TZID=America/New_York:20260720T120000
DTSTAMP:20260424T081951
CREATED:20250421T181905Z
LAST-MODIFIED:20250421T181905Z
UID:10003775-1784541600-1784548800@ststeves.org
SUMMARY:Hungry Lion
DESCRIPTION:Kyle Killay  Uses Kitchen Monday morning to sanitize dishes from food truck
URL:https://ststeves.org/event/hungry-lion/2026-07-20/
CATEGORIES:Rental
END:VEVENT
BEGIN:VEVENT
DTSTART;TZID=America/New_York:20260727T100000
DTEND;TZID=America/New_York:20260727T120000
DTSTAMP:20260424T081951
CREATED:20250421T181905Z
LAST-MODIFIED:20250421T181905Z
UID:10003776-1785146400-1785153600@ststeves.org
SUMMARY:Hungry Lion
DESCRIPTION:Kyle Killay  Uses Kitchen Monday morning to sanitize dishes from food truck
URL:https://ststeves.org/event/hungry-lion/2026-07-27/
CATEGORIES:Rental
END:VEVENT
BEGIN:VEVENT
DTSTART;TZID=America/New_York:20260803T100000
DTEND;TZID=America/New_York:20260803T120000
DTSTAMP:20260424T081951
CREATED:20250421T181905Z
LAST-MODIFIED:20250421T181905Z
UID:10003777-1785751200-1785758400@ststeves.org
SUMMARY:Hungry Lion
DESCRIPTION:Kyle Killay  Uses Kitchen Monday morning to sanitize dishes from food truck
URL:https://ststeves.org/event/hungry-lion/2026-08-03/
CATEGORIES:Rental
END:VEVENT
BEGIN:VEVENT
DTSTART;TZID=America/New_York:20260810T100000
DTEND;TZID=America/New_York:20260810T120000
DTSTAMP:20260424T081951
CREATED:20250421T181905Z
LAST-MODIFIED:20250421T181905Z
UID:10003778-1786356000-1786363200@ststeves.org
SUMMARY:Hungry Lion
DESCRIPTION:Kyle Killay  Uses Kitchen Monday morning to sanitize dishes from food truck
URL:https://ststeves.org/event/hungry-lion/2026-08-10/
CATEGORIES:Rental
END:VEVENT
BEGIN:VEVENT
DTSTART;TZID=America/New_York:20260817T100000
DTEND;TZID=America/New_York:20260817T120000
DTSTAMP:20260424T081951
CREATED:20250421T181905Z
LAST-MODIFIED:20250421T181905Z
UID:10003779-1786960800-1786968000@ststeves.org
SUMMARY:Hungry Lion
DESCRIPTION:Kyle Killay  Uses Kitchen Monday morning to sanitize dishes from food truck
URL:https://ststeves.org/event/hungry-lion/2026-08-17/
CATEGORIES:Rental
END:VEVENT
BEGIN:VEVENT
DTSTART;TZID=America/New_York:20260824T100000
DTEND;TZID=America/New_York:20260824T120000
DTSTAMP:20260424T081951
CREATED:20250421T181905Z
LAST-MODIFIED:20250421T181905Z
UID:10003780-1787565600-1787572800@ststeves.org
SUMMARY:Hungry Lion
DESCRIPTION:Kyle Killay  Uses Kitchen Monday morning to sanitize dishes from food truck
URL:https://ststeves.org/event/hungry-lion/2026-08-24/
CATEGORIES:Rental
END:VEVENT
BEGIN:VEVENT
DTSTART;TZID=America/New_York:20260831T100000
DTEND;TZID=America/New_York:20260831T120000
DTSTAMP:20260424T081951
CREATED:20250421T181905Z
LAST-MODIFIED:20250421T181905Z
UID:10003781-1788170400-1788177600@ststeves.org
SUMMARY:Hungry Lion
DESCRIPTION:Kyle Killay  Uses Kitchen Monday morning to sanitize dishes from food truck
URL:https://ststeves.org/event/hungry-lion/2026-08-31/
CATEGORIES:Rental
END:VEVENT
BEGIN:VEVENT
DTSTART;TZID=America/New_York:20260907T100000
DTEND;TZID=America/New_York:20260907T120000
DTSTAMP:20260424T081951
CREATED:20250421T181905Z
LAST-MODIFIED:20250421T181905Z
UID:10003782-1788775200-1788782400@ststeves.org
SUMMARY:Hungry Lion
DESCRIPTION:Kyle Killay  Uses Kitchen Monday morning to sanitize dishes from food truck
URL:https://ststeves.org/event/hungry-lion/2026-09-07/
CATEGORIES:Rental
END:VEVENT
BEGIN:VEVENT
DTSTART;TZID=America/New_York:20260914T100000
DTEND;TZID=America/New_York:20260914T120000
DTSTAMP:20260424T081951
CREATED:20250421T181905Z
LAST-MODIFIED:20250421T181905Z
UID:10003783-1789380000-1789387200@ststeves.org
SUMMARY:Hungry Lion
DESCRIPTION:Kyle Killay  Uses Kitchen Monday morning to sanitize dishes from food truck
URL:https://ststeves.org/event/hungry-lion/2026-09-14/
CATEGORIES:Rental
END:VEVENT
BEGIN:VEVENT
DTSTART;TZID=America/New_York:20260921T100000
DTEND;TZID=America/New_York:20260921T120000
DTSTAMP:20260424T081951
CREATED:20250421T181905Z
LAST-MODIFIED:20250421T181905Z
UID:10003784-1789984800-1789992000@ststeves.org
SUMMARY:Hungry Lion
DESCRIPTION:Kyle Killay  Uses Kitchen Monday morning to sanitize dishes from food truck
URL:https://ststeves.org/event/hungry-lion/2026-09-21/
CATEGORIES:Rental
END:VEVENT
BEGIN:VEVENT
DTSTART;TZID=America/New_York:20260928T100000
DTEND;TZID=America/New_York:20260928T120000
DTSTAMP:20260424T081951
CREATED:20250421T181905Z
LAST-MODIFIED:20250421T181905Z
UID:10003785-1790589600-1790596800@ststeves.org
SUMMARY:Hungry Lion
DESCRIPTION:Kyle Killay  Uses Kitchen Monday morning to sanitize dishes from food truck
URL:https://ststeves.org/event/hungry-lion/2026-09-28/
CATEGORIES:Rental
END:VEVENT
BEGIN:VEVENT
DTSTART;TZID=America/New_York:20261005T100000
DTEND;TZID=America/New_York:20261005T120000
DTSTAMP:20260424T081951
CREATED:20250421T181905Z
LAST-MODIFIED:20250421T181905Z
UID:10003786-1791194400-1791201600@ststeves.org
SUMMARY:Hungry Lion
DESCRIPTION:Kyle Killay  Uses Kitchen Monday morning to sanitize dishes from food truck
URL:https://ststeves.org/event/hungry-lion/2026-10-05/
CATEGORIES:Rental
END:VEVENT
BEGIN:VEVENT
DTSTART;TZID=America/New_York:20261012T100000
DTEND;TZID=America/New_York:20261012T120000
DTSTAMP:20260424T081951
CREATED:20250421T181905Z
LAST-MODIFIED:20250421T181905Z
UID:10003787-1791799200-1791806400@ststeves.org
SUMMARY:Hungry Lion
DESCRIPTION:Kyle Killay  Uses Kitchen Monday morning to sanitize dishes from food truck
URL:https://ststeves.org/event/hungry-lion/2026-10-12/
CATEGORIES:Rental
END:VEVENT
BEGIN:VEVENT
DTSTART;TZID=America/New_York:20261019T100000
DTEND;TZID=America/New_York:20261019T120000
DTSTAMP:20260424T081951
CREATED:20250421T181905Z
LAST-MODIFIED:20250421T181905Z
UID:10003788-1792404000-1792411200@ststeves.org
SUMMARY:Hungry Lion
DESCRIPTION:Kyle Killay  Uses Kitchen Monday morning to sanitize dishes from food truck
URL:https://ststeves.org/event/hungry-lion/2026-10-19/
CATEGORIES:Rental
END:VEVENT
BEGIN:VEVENT
DTSTART;TZID=America/New_York:20261026T100000
DTEND;TZID=America/New_York:20261026T120000
DTSTAMP:20260424T081951
CREATED:20250421T181905Z
LAST-MODIFIED:20250421T181905Z
UID:10003789-1793008800-1793016000@ststeves.org
SUMMARY:Hungry Lion
DESCRIPTION:Kyle Killay  Uses Kitchen Monday morning to sanitize dishes from food truck
URL:https://ststeves.org/event/hungry-lion/2026-10-26/
CATEGORIES:Rental
END:VEVENT
BEGIN:VEVENT
DTSTART;TZID=America/New_York:20261102T100000
DTEND;TZID=America/New_York:20261102T120000
DTSTAMP:20260424T081951
CREATED:20250421T181905Z
LAST-MODIFIED:20250421T181905Z
UID:10003790-1793613600-1793620800@ststeves.org
SUMMARY:Hungry Lion
DESCRIPTION:Kyle Killay  Uses Kitchen Monday morning to sanitize dishes from food truck
URL:https://ststeves.org/event/hungry-lion/2026-11-02/
CATEGORIES:Rental
END:VEVENT
BEGIN:VEVENT
DTSTART;TZID=America/New_York:20261109T100000
DTEND;TZID=America/New_York:20261109T120000
DTSTAMP:20260424T081951
CREATED:20250421T181905Z
LAST-MODIFIED:20250421T181905Z
UID:10003791-1794218400-1794225600@ststeves.org
SUMMARY:Hungry Lion
DESCRIPTION:Kyle Killay  Uses Kitchen Monday morning to sanitize dishes from food truck
URL:https://ststeves.org/event/hungry-lion/2026-11-09/
CATEGORIES:Rental
END:VEVENT
BEGIN:VEVENT
DTSTART;TZID=America/New_York:20261116T100000
DTEND;TZID=America/New_York:20261116T120000
DTSTAMP:20260424T081951
CREATED:20250421T181905Z
LAST-MODIFIED:20250421T181905Z
UID:10003792-1794823200-1794830400@ststeves.org
SUMMARY:Hungry Lion
DESCRIPTION:Kyle Killay  Uses Kitchen Monday morning to sanitize dishes from food truck
URL:https://ststeves.org/event/hungry-lion/2026-11-16/
CATEGORIES:Rental
END:VEVENT
END:VCALENDAR